Felt | Verdi |
AlreadyApplied | True |
Aperture | 2.0 |
ApertureValue | 2.0 |
ApproximateFocusDistance | 3.08 |
BitsPerSample | 8 |
BlueHue | 0 |
BlueSaturation | 0 |
Brightness | +50 |
CameraProfile | Adobe Standard |
ChromaticAberrationB | 0 |
ChromaticAberrationR | 0 |
CircleOfConfusion | 0.006 mm |
Clarity | 0 |
ColorComponents | 3 |
ColorNoiseReduction | 25 |
ColorNoiseReductionDetail | 50 |
ColorTemperature | 5350 |
ColorTransform | YCbCr |
Contrast | +25 |
ConvertToGrayscale | False |
CreateDate | 2011:07:29 15:25:20 |
CreatorTool | Adobe Photoshop Lightroom 3.6 (Windows) |
CropAngle | -0.754301 |
CropBottom | 0.982748 |
CropConstrainToWarp | 0 |
CropHeight | 2689 |
CropLeft | 0.003774 |
CropRight | 0.996226 |
CropTop | 0.017252 |
CropUnit | pixels |
CropWidth | 3585 |
CustomRendered | Normal |
DateCreated (1) | 2011:07:29 |
DateCreated | 2011:07:29 15:25:20 |
DateTimeOriginal | 2011:07:29 15:25:20 |
Defringe | 0 |
DigitalZoomRatio | 1 |
DOF | inf (1.47 m - inf) |
Exposure | 0.00 |
ExposureCompensation | 0 |
ExposureMode | Auto |
ExposureTime | 1/800 |
FillLight | 0 |
Firmware | 1.00 |
Flash | Off, Did not fire |
FlashCompensation | 0 |
FNumber | 2.0 |
FocalLength | 6.0 mm |
FocalLength35efl | 6.0 mm (35 mm equivalent: 28.0 mm) |
Format | image/jpeg |
FOV | 65.5 deg |
GrainAmount | 0 |
GreenHue | 0 |
GreenSaturation | 0 |
HasCrop | True |
HasSettings | True |
HighlightRecovery | 0 |
HueAdjustmentAqua | 0 |
HueAdjustmentBlue | 0 |
HueAdjustmentGreen | 0 |
HueAdjustmentMagenta | 0 |
HueAdjustmentOrange | 0 |
HueAdjustmentPurple | 0 |
HueAdjustmentRed | 0 |
HueAdjustmentYellow | 0 |
HyperfocalDistance | 2.80 m |
ImageHeight | 2689 |
ImageSize | 3585x2689 |
ImageWidth | 3585 |
ISO | 200 |
Keywords | Gaula, Laksefiske |
Lens | 6.0-22.5 mm |
LensInfo | 6-22.5mm f/? |
LensManualDistortionAmount | 0 |
LensModel | 6.0-22.5 mm |
LensProfileEnable | 0 |
LensProfileSetup | LensDefaults |
LightValue | 10.6 |
LuminanceAdjustmentAqua | 0 |
LuminanceAdjustmentBlue | 0 |
LuminanceAdjustmentGreen | 0 |
LuminanceAdjustmentMagenta | 0 |
LuminanceAdjustmentOrange | 0 |
LuminanceAdjustmentPurple | 0 |
LuminanceAdjustmentRed | 0 |
LuminanceAdjustmentYellow | 0 |
LuminanceSmoothing | 0 |
Make | Canon |
MaxApertureValue | 2.0 |
Megapixels | 9.6 |
MeteringMode | Multi-segment |
Model | Canon PowerShot S95 |
ModifyDate (1) | 2014:07:15 23:27:28+02:00 |
ModifyDate | 2014:07:15 23:27:28 |
ParametricDarks | -13 |
ParametricHighlights | +6 |
ParametricHighlightSplit | 75 |
ParametricLights | +9 |
ParametricMidtoneSplit | 50 |
ParametricShadows | -12 |
ParametricShadowSplit | 25 |
PerspectiveHorizontal | 0 |
PerspectiveRotate | 0.0 |
PerspectiveScale | 100 |
PerspectiveVertical | 0 |
PostCropVignetteAmount | 0 |
ProcessVersion | 5.7 |
ProfileDescription | sRGB IEC61966-2.1 |
RedHue | 0 |
RedSaturation | 0 |
Saturation | 0 |
SaturationAdjustmentAqua | 0 |
SaturationAdjustmentBlue | 0 |
SaturationAdjustmentGreen | 0 |
SaturationAdjustmentMagenta | 0 |
SaturationAdjustmentOrange | 0 |
SaturationAdjustmentPurple | 0 |
SaturationAdjustmentRed | 0 |
SaturationAdjustmentYellow | 0 |
ScaleFactor35efl | 4.7 |
SceneCaptureType | Standard |
SensingMethod | One-chip color area |
SensitivityType | Standard Output Sensitivity and Recommended Exposure Index |
Shadows | 5 |
ShadowTint | 0 |
SharpenDetail | 25 |
SharpenEdgeMasking | 0 |
SharpenRadius | +1.5 |
Sharpness | 59 |
ShutterSpeed | 1/800 |
ShutterSpeedValue | 1/800 |
Software | Adobe Photoshop Lightroom 3.6 (Windows) |
SplitToningBalance | 0 |
SplitToningHighlightHue | 0 |
SplitToningHighlightSaturation | 0 |
SplitToningShadowHue | 0 |
SplitToningShadowSaturation | 0 |
Subject | Gaula, Laksefiske |
SubjectDistance | 3.08 m |
Tint | +16 |
ToneCurve | 0, 0, 32, 22, 64, 56, 128, 128, 192, 196, 255, 255 |
ToneCurveName | Medium Contrast |
Version | 6.6 |
Vibrance | 0 |
VignetteAmount | 0 |
WhiteBalance (1) | As Shot |
WhiteBalance | Auto |