Felt | Verdi |
AlreadyApplied | True |
Aperture | 11.0 |
ApertureValue | 11.0 |
Artist | Vidar M. Jacobsen |
BitsPerSample | 8 |
BlueHue | 0 |
BlueSaturation | 0 |
Brightness (1) | 0.000000 |
Brightness | +46 |
BrightnessValue | 10.790625 |
By-line | Vidar M. Jacobsen |
CameraModelID | |
CameraProfile | Adobe Standard |
CameraSerialNumber | 0661377 |
Caption-Abstract | Soloppgang |
ChromaticAberrationB | 0 |
ChromaticAberrationR | 0 |
CircleOfConfusion | 0.020 mm |
Clarity | -29 |
ColorComponents | 3 |
ColorMode | RGB |
ColorNoiseReduction | 76 |
ColorNoiseReductionDetail | 50 |
ColorSpace | sRGB |
ColorTemperature | 5500 |
ColorTransform | YCbCr |
Contrast (2) | +73 |
Contrast (3) | 0.000000 |
Contrast | Normal |
ConvertToGrayscale | False |
CreateDate (1) | 2014:10:28 07:53:00+01:00 |
CreateDate | 2014:10:28 07:53:00 |
Creator | Vidar M. Jacobsen |
CreatorTool | Adobe Photoshop Elements 9.0 Windows |
CustomRendered | Normal |
DateAcquired | 2014:10:28 11:29:43.168 |
DateCreated | 2014:10:28 |
DateTimeDigitized | 2014:10:28 07:53+01:00 |
DateTimeOriginal (1) | 2014:10:28 07:53+01:00 |
DateTimeOriginal | 2014:10:28 07:53:00 |
Defringe | 0 |
Description | Soloppgang |
ExifImageHeight | 3894 |
ExifImageWidth | 5932 |
Exposure | 0.00 |
ExposureCompensation (2) | 0.000000 |
ExposureCompensation | 0 |
ExposureMode | Manual |
ExposureProgram | Manual |
ExposureTime | 1/2500 |
FillLight | 17 |
Flash | Off, Did not fire |
FlashFired | False |
FlashFunction | False |
FlashMode | Off |
FlashRedEyeMode | False |
FlashReturn | No return detection |
FNumber | 11.0 |
FocalLength | 70.0 mm |
FocalLength35efl | 70.0 mm (35 mm equivalent: 105.0 mm) |
FocalLengthIn35mmFormat | 105 mm |
Format | image/jpeg |
FOV | 19.5 deg |
GrainAmount | 0 |
GreenHue | 0 |
GreenSaturation | 0 |
HasCrop | False |
HasSettings | True |
HighlightRecovery | 44 |
HueAdjustmentAqua | 0 |
HueAdjustmentBlue | 0 |
HueAdjustmentGreen | 0 |
HueAdjustmentMagenta | 0 |
HueAdjustmentOrange | 0 |
HueAdjustmentPurple | 0 |
HueAdjustmentRed | 0 |
HueAdjustmentYellow | 0 |
HyperfocalDistance | 22.24 m |
ICCProfileName | sRGB IEC61966-2.1 |
ImageDescription | Soloppgang |
ImageHeight | 3894 |
ImageSize | 5932x3894 |
ImageWidth | 5932 |
ISO | 400 |
Keywords | ARW (RAW)-Filter, Drammen, Soloppgang |
LastKeywordIPTC | ARW (RAW)-Filter, Drammen, Soloppgang |
LastKeywordXMP | ARW (RAW)-Filter, Drammen, Soloppgang |
Lens | DT 55-200mm F4-5.6 |
LensID (1) | 49 |
LensID | Sony DT 55-200mm F4-5.6 (SAL55200) |
LensInfo | 55-200mm f/4-5.6 |
LensManualDistortionAmount | 0 |
LensManufacturer | Sony |
LensModel (1) | 55-200mm |
LensModel | DT 55-200mm F4-5.6 |
LensProfileEnable | 0 |
LensProfileSetup | LensDefaults |
LightSource | Unknown |
LightValue | 16.2 |
LuminanceAdjustmentAqua | 0 |
LuminanceAdjustmentBlue | 0 |
LuminanceAdjustmentGreen | 0 |
LuminanceAdjustmentMagenta | 0 |
LuminanceAdjustmentOrange | 0 |
LuminanceAdjustmentPurple | 0 |
LuminanceAdjustmentRed | 0 |
LuminanceAdjustmentYellow | 0 |
LuminanceNoiseReductionContrast | 0 |
LuminanceNoiseReductionDetail | 50 |
LuminanceSmoothing | 100 |
Make | SONY |
MaxApertureValue | 4.0 |
Megapixels | 23.1 |
MeteringMode | Multi-segment |
Model | SLT-A77V |
ModifyDate (1) | 2014:10:28 11:37:27+01:00 |
ModifyDate | 2014:10:28 11:37:27 |
Orientation | Horizontal (normal) |
ParametricDarks | 0 |
ParametricHighlights | 0 |
ParametricHighlightSplit | 75 |
ParametricLights | 0 |
ParametricMidtoneSplit | 50 |
ParametricShadows | 0 |
ParametricShadowSplit | 25 |
PerspectiveHorizontal | 0 |
PerspectiveRotate | 0.0 |
PerspectiveScale | 100 |
PerspectiveVertical | 0 |
PipelineVersion | 01.00 |
PostCropVignetteAmount | 0 |
ProcessVersion | 5.7 |
ProfileDescription | sRGB IEC61966-2.1 |
Rating | 0 |
RawFileName | Sony K025 379 Soloppgang.ARW |
RecommendedExposureIndex | 400 |
RedHue | 0 |
RedSaturation | 0 |
Saturation (2) | +47 |
Saturation | Normal |
SaturationAdjustmentAqua | 0 |
SaturationAdjustmentBlue | 0 |
SaturationAdjustmentGreen | 0 |
SaturationAdjustmentMagenta | 0 |
SaturationAdjustmentOrange | 0 |
SaturationAdjustmentPurple | 0 |
SaturationAdjustmentRed | 0 |
SaturationAdjustmentYellow | 0 |
ScaleFactor35efl | 1.5 |
SceneCaptureType | Standard |
SceneType | Directly photographed |
SensitivityType (1) | 2 |
SensitivityType | Recommended Exposure Index |
Shadows | 0 |
ShadowTint | 0 |
SharpenDetail | 47 |
SharpenEdgeMasking | 22 |
SharpenRadius | +1.4 |
Sharpness (2) | 34 |
Sharpness | Normal |
ShutterSpeed | 1/2500 |
ShutterSpeedValue | 1/2500 |
Software | Adobe Photoshop Elements 9.0 Windows |
SplitToningBalance | 0 |
SplitToningHighlightHue | 0 |
SplitToningHighlightSaturation | 0 |
SplitToningShadowHue | 0 |
SplitToningShadowSaturation | 0 |
StreamType | 3 |
Subject | ARW (RAW)-Filter, Drammen, Soloppgang |
Tint | +10 |
Title | |
ToneCurve | 0, 0, 32, 22, 64, 56, 128, 128, 192, 196, 255, 255 |
ToneCurveName | Medium Contrast |
URL_List | |
Version | 6.5 |
Vibrance | +53 |
VignetteAmount | 0 |
WhiteBalance (2) | Daylight |
WhiteBalance | Auto |
WhiteBalance0 | 2.497562 |
WhiteBalance1 | 1.000000 |
WhiteBalance2 | 1.051616 |
XPAuthor | Vidar M. Jacobsen |
XPKeywords | ARW (RAW)-Filter;Drammen;Soloppgang |
XPTitle | Soloppgang |