Felt | Verdi |
AlreadyApplied | True |
Aperture | 16.0 |
ApertureValue | 16.0 |
ApproximateFocusDistance | 2.51 |
AutoLateralCA | 1 |
AutoWhiteVersion | 134348800 |
BitsPerSample (1) | 8 8 8 |
BitsPerSample | 8 |
Blacks2012 | 0 |
BlueHue | 0 |
BlueSaturation | 0 |
CameraProfile | Adobe Standard |
CFAPattern | [Red,Green][Green,Blue] |
CircleOfConfusion | 0.026 mm |
Clarity2012 | +62 |
ColorComponents | 3 |
ColorMode | RGB |
ColorNoiseReduction | 25 |
ColorNoiseReductionDetail | 50 |
ColorNoiseReductionSmoothness | 50 |
ColorSpace | sRGB |
ColorTemperature | 10471 |
ColorTransform | YCbCr |
Contrast | Normal |
Contrast2012 | +31 |
ConvertToGrayscale | False |
CreateDate | 2015:01:31 14:31:29 |
CreatorTool | Adobe Photoshop Lightroom 5.7.1 (Macintosh) |
CropAngle | 0 |
CropBottom | 0.997912 |
CropConstrainToWarp | 0 |
CropLeft | 0.250044 |
CropRight | 0.663965 |
CropTop | 0 |
CustomRendered | Normal |
DateCreated (1) | 2015:01:31 |
DateCreated | 2015:01:31 14:31:29.017 |
DateTimeOriginal | 2015:01:31 14:31:29 |
DefringeGreenAmount | 0 |
DefringeGreenHueHi | 60 |
DefringeGreenHueLo | 40 |
DefringePurpleAmount | 0 |
DefringePurpleHueHi | 70 |
DefringePurpleHueLo | 30 |
DigitalZoomRatio | 1.2 |
DOF | inf (0.90 m - inf) |
ExifImageHeight | 3329 |
ExifImageWidth | 2073 |
Exposure2012 | +0.10 |
ExposureCompensation | 0 |
ExposureMode | Manual |
ExposureProgram | Manual |
ExposureTime | 1/6 |
Flash | Off, Did not fire |
FNumber | 16.0 |
FocalLength | 24.0 mm |
FocalLength35efl | 24.0 mm (35 mm equivalent: 28.0 mm) |
FocalLengthIn35mmFormat | 28 mm |
Format | image/jpeg |
FOV | 65.5 deg |
GainControl | None |
GrainAmount | 0 |
GreenHue | 0 |
GreenSaturation | 0 |
HasCrop | True |
HasExtendedXMP | C22E03E909976E55975FF07859EE0164 |
HasSettings | True |
Highlights2012 | -71 |
HueAdjustmentAqua | 0 |
HueAdjustmentBlue | 0 |
HueAdjustmentGreen | 0 |
HueAdjustmentMagenta | 0 |
HueAdjustmentOrange | -3 |
HueAdjustmentPurple | 0 |
HueAdjustmentRed | 0 |
HueAdjustmentYellow | 0 |
HyperfocalDistance | 1.40 m |
ICCProfileName | sRGB IEC61966-2.1 |
ImageHeight | 3329 |
ImageNumber | 2467 |
ImageSize | 2073x3329 |
ImageWidth | 2073 |
ISO | 50 |
Label | Red |
Lens | 24.0-70.0 mm f/2.8 |
LensID (1) | 147 |
LensID | AF-S Zoom-Nikkor 24-70mm f/2.8G ED |
LensInfo | 24-70mm f/2.8 |
LensManualDistortionAmount | 0 |
LensModel | 24.0-70.0 mm f/2.8 |
LensProfileChromaticAberrationScale | 100 |
LensProfileDistortionScale | 100 |
LensProfileEnable | 1 |
LensProfileFilename | NIKON D3X (Nikon FX 24-70mm f2.8 G ED) - RAW.lcp |
LensProfileName | Adobe (Nikon AF-S NIKKOR 24-70mm f/2.8G ED) |
LensProfileSetup | LensDefaults |
LensProfileVignettingScale | 100 |
LightSource | Unknown |
LightValue | 11.6 |
LuminanceAdjustmentAqua | -28 |
LuminanceAdjustmentBlue | 0 |
LuminanceAdjustmentGreen | 0 |
LuminanceAdjustmentMagenta | 0 |
LuminanceAdjustmentOrange | +46 |
LuminanceAdjustmentPurple | 0 |
LuminanceAdjustmentRed | 0 |
LuminanceAdjustmentYellow | -24 |
LuminanceSmoothing | 0 |
Make | NIKON CORPORATION |
MaxApertureValue | 2.8 |
Megapixels | 6.9 |
MeteringMode | Multi-segment |
Model | NIKON D750 |
ModifyDate (1) | 2015:02:03 00:40:07+01:00 |
ModifyDate | 2015:02:03 00:40:07 |
Orientation | Horizontal (normal) |
PaintCorrectionActive | true |
PaintCorrectionAmount | 1.000000 |
PaintCorrectionBrightness | 0.000000 |
PaintCorrectionClarity2012 (1) | 0.396857 |
PaintCorrectionClarity2012 | 0.572419 |
PaintCorrectionContrast2012 (1) | -0.072244 |
PaintCorrectionContrast2012 | 0.000000 |
PaintCorrectionDefringe | 0.000000 |
PaintCorrectionExposure2012 (1) | 0.394926 |
PaintCorrectionExposure2012 | 0.592960 |
PaintCorrectionHighlights2012 (1) | 0.514221 |
PaintCorrectionHighlights2012 | 0.000000 |
PaintCorrectionHue | 0.000000 |
PaintCorrectionLuminanceNoise | 0.000000 |
PaintCorrectionMaskCenterWeight | 0.000000 |
PaintCorrectionMaskFlow | 0.498541 |
PaintCorrectionMaskRadius (1) | 0.075864 |
PaintCorrectionMaskRadius (10) | 0.046373 |
PaintCorrectionMaskRadius (11) | 0.028121 |
PaintCorrectionMaskRadius (12) | 0.028461 |
PaintCorrectionMaskRadius (13) | 0.068180 |
PaintCorrectionMaskRadius (14) | 0.145848 |
PaintCorrectionMaskRadius (15) | 0.140311 |
PaintCorrectionMaskRadius (16) | 0.196649 |
PaintCorrectionMaskRadius (17) | 0.037184 |
PaintCorrectionMaskRadius (18) | 0.037363 |
PaintCorrectionMaskRadius (19) | 0.234552 |
PaintCorrectionMaskRadius (2) | 0.046519 |
PaintCorrectionMaskRadius (20) | 0.059736 |
PaintCorrectionMaskRadius (21) | 0.059774 |
PaintCorrectionMaskRadius (22) | 0.059640 |
PaintCorrectionMaskRadius (23) | 0.060340 |
PaintCorrectionMaskRadius (24) | 0.060897 |
PaintCorrectionMaskRadius (25) | 0.061908 |
PaintCorrectionMaskRadius (26) | 0.062023 |
PaintCorrectionMaskRadius (27) | 0.061377 |
PaintCorrectionMaskRadius (28) | 0.061612 |
PaintCorrectionMaskRadius (29) | 0.060577 |
PaintCorrectionMaskRadius (3) | 0.117742 |
PaintCorrectionMaskRadius (30) | 0.060436 |
PaintCorrectionMaskRadius (31) | 0.060400 |
PaintCorrectionMaskRadius (32) | 0.061934 |
PaintCorrectionMaskRadius (33) | 0.061953 |
PaintCorrectionMaskRadius (34) | 0.061981 |
PaintCorrectionMaskRadius (35) | 0.061006 |
PaintCorrectionMaskRadius (36) | 0.060119 |
PaintCorrectionMaskRadius (4) | 0.033814 |
PaintCorrectionMaskRadius (5) | 0.105359 |
PaintCorrectionMaskRadius (6) | 0.034901 |
PaintCorrectionMaskRadius (7) | 0.034911 |
PaintCorrectionMaskRadius (8) | 0.033379 |
PaintCorrectionMaskRadius (9) | 0.033602 |
PaintCorrectionMaskRadius | 0.061896 |
PaintCorrectionMaskValue | 0.596669 |
PaintCorrectionMaskWhat | Mask/Paint |
PaintCorrectionMoire | 0.000000 |
PaintCorrectionSaturation (1) | 0.313817 |
PaintCorrectionSaturation | 0.000000 |
PaintCorrectionShadows2012 (1) | -0.251580 |
PaintCorrectionShadows2012 | 0.000000 |
PaintCorrectionSharpness (1) | 0.000000 |
PaintCorrectionSharpness | 0.353845 |
PaintCorrectionTemperature (1) | 0.510797 |
PaintCorrectionTemperature | 0.992626 |
PaintCorrectionTint (1) | 0.034235 |
PaintCorrectionTint | 0.041608 |
PaintCorrectionWhat | Correction |
ParametricDarks | 0 |
ParametricHighlights | 0 |
ParametricHighlightSplit | 75 |
ParametricLights | 0 |
ParametricMidtoneSplit | 50 |
ParametricShadows | 0 |
ParametricShadowSplit | 25 |
PerspectiveAspect | 0 |
PerspectiveHorizontal | 0 |
PerspectiveRotate | 0.0 |
PerspectiveScale | 100 |
PerspectiveUpright | 0 |
PerspectiveVertical | 0 |
PhotometricInterpretation | RGB |
PostCropVignetteAmount | 0 |
ProcessVersion | 6.7 |
ProfileDescription | sRGB IEC61966-2.1 |
Rating | 3 |
RedHue | 0 |
RedSaturation | 0 |
SamplesPerPixel | 3 |
Saturation (1) | 0 |
Saturation | Normal |
SaturationAdjustmentAqua | 0 |
SaturationAdjustmentBlue | 0 |
SaturationAdjustmentGreen | 0 |
SaturationAdjustmentMagenta | 0 |
SaturationAdjustmentOrange | +41 |
SaturationAdjustmentPurple | 0 |
SaturationAdjustmentRed | 0 |
SaturationAdjustmentYellow | 0 |
ScaleFactor35efl | 1.2 |
SceneCaptureType | Standard |
SceneType | Directly photographed |
SensingMethod | One-chip color area |
SensitivityType | Recommended Exposure Index |
SerialNumber | 6018657 |
Shadows2012 | +66 |
ShadowTint | 0 |
SharpenDetail | 53 |
SharpenEdgeMasking | 55 |
SharpenRadius | +1.5 |
Sharpness (1) | 83 |
Sharpness | Normal |
ShutterSpeed | 1/6 |
ShutterSpeedValue | 1/6 |
Software | Adobe Photoshop CC 2014 (Macintosh) |
SplitToningBalance | 0 |
SplitToningHighlightHue | 0 |
SplitToningHighlightSaturation | 0 |
SplitToningShadowHue | 0 |
SplitToningShadowSaturation | 0 |
SubjectDistanceRange | Unknown |
Tint | 0 |
ToneCurve | 0, 0, 255, 255 |
ToneCurveBlue | 0, 0, 255, 255 |
ToneCurveGreen | 0, 0, 255, 255 |
ToneCurveName | Linear |
ToneCurveName2012 | Custom |
ToneCurvePV2012 | 0, 0, 61, 25, 209, 234, 255, 255 |
ToneCurvePV2012Blue | 0, 0, 255, 255 |
ToneCurvePV2012Green | 0, 0, 255, 255 |
ToneCurvePV2012Red | 0, 0, 255, 255 |
ToneCurveRed | 0, 0, 255, 255 |
URL_List | |
Version | 8.7.1 |
Vibrance | +24 |
VignetteAmount | 0 |
WhiteBalance (1) | Custom |
WhiteBalance | Auto |
Whites2012 | +31 |