Felt | Verdi |
AlreadyApplied | True |
Aperture | 1.4 |
ApertureValue | 1.4 |
ApproximateFocusDistance | 0.69 |
Artist | Håkon Borg |
AuthorsPosition | Independent artist and photographer |
BitsPerSample (1) | 16 16 16 |
BitsPerSample | 8 |
BlueHue | 0 |
BlueSaturation | 0 |
Brightness | 0 |
By-line | Håkon Borg |
By-lineTitle | Independent artist and photograp |
CameraProfile | Embedded |
ChromaticAberrationB | 0 |
ChromaticAberrationR | 0 |
CircleOfConfusion | 0.019 mm |
Clarity | -33 |
ColorComponents | 3 |
ColorMode | RGB |
ColorNoiseReduction | 0 |
ColorSpace | Uncalibrated |
ColorTransform | YCbCr |
Contrast | 0 |
ConvertToGrayscale | False |
Copyright | Håkon Borg |
CopyrightFlag | True |
CopyrightNotice | Håkon Borg |
CreateDate (1) | 2012:05:09 16:56:21.95 |
CreateDate | 2012:05:09 16:56:21 |
Creator | Håkon Borg |
CreatorAddress | Stavangergata 44 A |
CreatorCity | Oslo |
CreatorCountry | Norway |
CreatorPostalCode | 0468 |
CreatorTool | Adobe Photoshop CS5 Macintosh |
CreatorWorkEmail | hakonborg@gmail.com |
CreatorWorkTelephone | +47 97416670 |
CreatorWorkURL | www.hakonborgphotography.tk |
CropAngle | -2.23226 |
CropBottom | 0.898526 |
CropConstrainToWarp | 0 |
CropHeight | 3069 |
CropLeft | 0.01796 |
CropRight | 0.82743 |
CropTop | 0.056942 |
CropUnit | pixels |
CropWidth | 4080 |
CustomRendered | Normal |
DateCreated (1) | 2012:05:09 |
DateCreated | 2012:05:09 16:56:21.095 |
DateTimeOriginal | 2012:05:09 16:56:21 |
Defringe | 0 |
DOF | 0.03 m (0.68 - 0.70 m) |
ExifImageHeight | 823 |
ExifImageWidth | 622 |
Exposure | -0.55 |
ExposureCompensation | +1/3 |
ExposureMode | Auto |
ExposureProgram | Aperture-priority AE |
ExposureTime | 1/400 |
FillLight | 42 |
Firmware | 1.2.1 |
Flash | Off, Did not fire |
FlashCompensation | 0 |
FNumber | 1.4 |
FocalLength | 30.0 mm |
FocalLength35efl | 30.0 mm (35 mm equivalent: 47.1 mm) |
Format | image/jpeg |
FOV | 41.8 deg |
GrainAmount | 0 |
GreenHue | 0 |
GreenSaturation | 0 |
HasCrop | True |
HasSettings | True |
HierarchicalSubject | 35mm, Genre|Portrett, Håkon Borg, Linn Frostad, Norway, Photography, Places|Oslo, shoot, stavangergata |
HighlightRecovery | 0 |
HueAdjustmentAqua | 0 |
HueAdjustmentBlue | 0 |
HueAdjustmentGreen | 0 |
HueAdjustmentMagenta | 0 |
HueAdjustmentOrange | 0 |
HueAdjustmentPurple | 0 |
HueAdjustmentRed | 0 |
HueAdjustmentYellow | 0 |
HyperfocalDistance | 33.60 m |
ICCProfileName | ProPhoto RGB |
ImageHeight (1) | 4080 |
ImageHeight | 823 |
ImageNumber | 0 |
ImageSize | 622x823 |
ImageWidth (1) | 3069 |
ImageWidth | 622 |
IncrementalTemperature | +22 |
IncrementalTint | 0 |
ISO | 200 |
Keywords | 35mm, Genre, Håkon Borg, Linn Frostad, Norway, Oslo, Photography, Places, Portrett, shoot, stavangergata |
Label | Red |
Lens | 30mm |
LensID (1) | 169 |
LensID | Sigma 30mm f/1.4 EX DC HSM |
LensInfo | 30mm f/? |
LensManualDistortionAmount | 0 |
LensModel | 30mm |
LensProfileEnable | 0 |
LensProfileSetup | LensDefaults |
LightValue | 8.6 |
LuminanceAdjustmentAqua | 0 |
LuminanceAdjustmentBlue | 0 |
LuminanceAdjustmentGreen | 0 |
LuminanceAdjustmentMagenta | 0 |
LuminanceAdjustmentOrange | 0 |
LuminanceAdjustmentPurple | 0 |
LuminanceAdjustmentRed | 0 |
LuminanceAdjustmentYellow | 0 |
LuminanceNoiseReductionContrast | 0 |
LuminanceNoiseReductionDetail | 46 |
LuminanceSmoothing | 25 |
Make | Canon |
Marked | True |
MaxApertureValue | 1.4 |
Megapixels | 0.512 |
MeteringMode | Multi-segment |
Model | Canon EOS 7D |
ModifyDate (1) | 2015:05:14 21:19:06+02:00 |
ModifyDate | 2015:05:14 21:19:06 |
Orientation | Horizontal (normal) |
ParametricDarks | -25 |
ParametricHighlights | 0 |
ParametricHighlightSplit | 75 |
ParametricLights | +25 |
ParametricMidtoneSplit | 50 |
ParametricShadows | 0 |
ParametricShadowSplit | 25 |
PerspectiveHorizontal | 0 |
PerspectiveRotate | 0.0 |
PerspectiveScale | 100 |
PerspectiveVertical | 0 |
PhotometricInterpretation | RGB |
PlanarConfiguration | Chunky |
PostCropVignetteAmount | +15 |
PostCropVignetteFeather | 97 |
PostCropVignetteMidpoint | 17 |
PostCropVignetteRoundness | 0 |
PostCropVignetteStyle | 1 |
ProcessVersion | 5.7 |
ProfileDescription | ProPhoto RGB |
Rating | 3 |
RedHue | 0 |
RedSaturation | 0 |
Rights | Håkon Borg |
SamplesPerPixel | 3 |
Saturation | -56 |
SaturationAdjustmentAqua | 0 |
SaturationAdjustmentBlue | 0 |
SaturationAdjustmentGreen | -24 |
SaturationAdjustmentMagenta | 0 |
SaturationAdjustmentOrange | 0 |
SaturationAdjustmentPurple | 0 |
SaturationAdjustmentRed | 0 |
SaturationAdjustmentYellow | 0 |
ScaleFactor35efl | 1.6 |
SceneCaptureType | Standard |
SerialNumber | 1180701654 |
Shadows | 0 |
ShadowTint | 0 |
SharpenDetail | 25 |
SharpenEdgeMasking | 0 |
SharpenRadius | +1.0 |
Sharpness | 26 |
ShutterSpeed | 1/400 |
ShutterSpeedValue | 1/400 |
Software | Adobe Photoshop CS5 Macintosh |
SplitToningBalance | 0 |
SplitToningHighlightHue | 219 |
SplitToningHighlightSaturation | 11 |
SplitToningShadowHue | 220 |
SplitToningShadowSaturation | 10 |
Subject | 35mm, Genre, Håkon Borg, Linn Frostad, Norway, Oslo, Photography, Places, Portrett, shoot, stavangergata |
SubjectDistance | 0.69 m |
ToneCurve | 0, 0, 255, 255 |
ToneCurveName | Linear |
URL_List | |
Version | 6.4.1 |
Vibrance | +37 |
VignetteAmount | -100 |
VignetteMidpoint | 38 |
WhiteBalance (1) | Custom |
WhiteBalance | Auto |