Felt | Verdi |
AlreadyApplied | True |
Aperture | 18.0 |
ApertureValue | 18.0 |
ApproximateFocusDistance | 2 |
AutoLateralCA | 0 |
AutoWhiteVersion | 134348800 |
BitsPerSample | 8 |
Blacks2012 | 0 |
BlueHue | 0 |
BlueSaturation | 0 |
CameraProfile | Adobe Standard |
CFAPattern | [Red,Green][Green,Blue] |
CircleOfConfusion | 0.020 mm |
Clarity2012 | +100 |
ColorComponents | 3 |
ColorNoiseReduction | 25 |
ColorNoiseReductionDetail | 50 |
ColorNoiseReductionSmoothness | 50 |
ColorTemperature | 5750 |
ColorTransform | YCbCr |
Contrast | Normal |
Contrast2012 | +31 |
ConvertToGrayscale | False |
CreateDate (1) | 2015:10:06 16:15:20.75 |
CreateDate | 2015:10:06 16:15:20 |
CreatorTool | Adobe Photoshop Lightroom 5.7.1 (Windows) |
CropAngle | -3.63377 |
CropBottom | 0.912728 |
CropConstrainToWarp | 0 |
CropLeft | 0.024386 |
CropRight | 0.975614 |
CropTop | 0.087272 |
CustomRendered | Normal |
DateCreated (1) | 2015:10:06 |
DateCreated | 2015:10:06 16:15:20.75 |
DateTimeOriginal | 2015:10:06 16:15:20 |
DefringeGreenAmount | 0 |
DefringeGreenHueHi | 60 |
DefringeGreenHueLo | 40 |
DefringePurpleAmount | 0 |
DefringePurpleHueHi | 70 |
DefringePurpleHueLo | 30 |
DigitalZoomRatio | 1 |
DOF | inf (0.97 m - inf) |
Exposure2012 | -0.24 |
ExposureCompensation | +1 |
ExposureMode | Manual |
ExposureProgram | Manual |
ExposureTime | 1/160 |
Flash | No Flash |
FNumber | 18.0 |
FocalLength | 26.0 mm |
FocalLength35efl | 26.0 mm (35 mm equivalent: 39.0 mm) |
FocalLengthIn35mmFormat | 39 mm |
Format | image/jpeg |
FOV | 49.6 deg |
GainControl | None |
GrainAmount | 0 |
GreenHue | 0 |
GreenSaturation | 0 |
HasCrop | True |
HasExtendedXMP | 828C9B29BDC76BE5EDA642AE7FEBB6B9 |
HasSettings | True |
Highlights2012 | 0 |
HueAdjustmentAqua | 0 |
HueAdjustmentBlue | 0 |
HueAdjustmentGreen | 0 |
HueAdjustmentMagenta | 0 |
HueAdjustmentOrange | -22 |
HueAdjustmentPurple | 0 |
HueAdjustmentRed | 0 |
HueAdjustmentYellow | -24 |
HyperfocalDistance | 1.87 m |
ImageHeight | 3922 |
ImageNumber | 17877 |
ImageSize | 2605x3922 |
ImageWidth | 2605 |
ISO | 320 |
Lens | 18.0-200.0 mm f/3.5-5.6 |
LensID (1) | 139 |
LensID | AF-S DX VR Zoom-Nikkor 18-200mm f/3.5-5.6G IF-ED or AF-S DX VR Zoom-Nikkor 18-200mm f/3.5-5.6G IF-ED [II] |
LensInfo | 18-200mm f/3.5-5.6 |
LensManualDistortionAmount | 0 |
LensModel | 18.0-200.0 mm f/3.5-5.6 |
LensProfileEnable | 0 |
LensProfileSetup | LensDefaults |
LightSource | Unknown |
LightValue | 14.0 |
LuminanceAdjustmentAqua | 0 |
LuminanceAdjustmentBlue | 0 |
LuminanceAdjustmentGreen | -29 |
LuminanceAdjustmentMagenta | 0 |
LuminanceAdjustmentOrange | -27 |
LuminanceAdjustmentPurple | 0 |
LuminanceAdjustmentRed | 0 |
LuminanceAdjustmentYellow | -18 |
LuminanceNoiseReductionContrast | 0 |
LuminanceNoiseReductionDetail | 50 |
LuminanceSmoothing | 31 |
Make | NIKON CORPORATION |
MaxApertureValue | 4.0 |
Megapixels | 10.2 |
MeteringMode | Center-weighted average |
Model | NIKON D300 |
ModifyDate (1) | 2015:10:06 20:47:31+01:00 |
ModifyDate | 2015:10:06 20:47:31 |
PaintCorrectionActive | true |
PaintCorrectionAmount | 1.000000 |
PaintCorrectionBrightness | 0.000000 |
PaintCorrectionClarity2012 (1) | 0.586210 |
PaintCorrectionClarity2012 (2) | 0.954020 |
PaintCorrectionClarity2012 (3) | 0.701150 |
PaintCorrectionClarity2012 | 0.471260 |
PaintCorrectionContrast2012 (2) | 0.448280 |
PaintCorrectionContrast2012 (3) | 0.770110 |
PaintCorrectionContrast2012 | 0.103450 |
PaintCorrectionDefringe | 0.000000 |
PaintCorrectionExposure2012 (1) | 0.425250 |
PaintCorrectionExposure2012 (2) | 0.724250 |
PaintCorrectionExposure2012 (3) | 0.517250 |
PaintCorrectionExposure2012 | 0.448250 |
PaintCorrectionHighlights2012 (2) | 0.126440 |
PaintCorrectionHighlights2012 | 0.000000 |
PaintCorrectionHue | 0.000000 |
PaintCorrectionLuminanceNoise | 0.000000 |
PaintCorrectionMaskCenterWeight (1) | 0.131013 |
PaintCorrectionMaskCenterWeight (12) | 0.407493 |
PaintCorrectionMaskCenterWeight (14) | 0.124959 |
PaintCorrectionMaskCenterWeight (2) | 0.292968 |
PaintCorrectionMaskCenterWeight (5) | 0.058731 |
PaintCorrectionMaskCenterWeight | 0.374940 |
PaintCorrectionMaskFlow (1) | 0.009659 |
PaintCorrectionMaskFlow (10) | 0.135963 |
PaintCorrectionMaskFlow (11) | 0.153402 |
PaintCorrectionMaskFlow (12) | 0.108620 |
PaintCorrectionMaskFlow (13) | 0.056605 |
PaintCorrectionMaskFlow (16) | 0.045737 |
PaintCorrectionMaskFlow (17) | 0.036885 |
PaintCorrectionMaskFlow (18) | 0.034649 |
PaintCorrectionMaskFlow (19) | 0.027888 |
PaintCorrectionMaskFlow (2) | 0.677000 |
PaintCorrectionMaskFlow (21) | 0.168559 |
PaintCorrectionMaskFlow (22) | 0.203608 |
PaintCorrectionMaskFlow (24) | 0.149135 |
PaintCorrectionMaskFlow (25) | 0.099992 |
PaintCorrectionMaskFlow (26) | 0.025617 |
PaintCorrectionMaskFlow (29) | 0.326650 |
PaintCorrectionMaskFlow (3) | 0.045219 |
PaintCorrectionMaskFlow (30) | 0.016435 |
PaintCorrectionMaskFlow (31) | 0.243658 |
PaintCorrectionMaskFlow (4) | 0.058533 |
PaintCorrectionMaskFlow (5) | 0.170247 |
PaintCorrectionMaskFlow (6) | 0.113280 |
PaintCorrectionMaskFlow (7) | 0.209953 |
PaintCorrectionMaskFlow (9) | 0.381012 |
PaintCorrectionMaskFlow | 0.002377 |
PaintCorrectionMaskRadius (1) | 0.113647 |
PaintCorrectionMaskRadius (12) | 0.009502 |
PaintCorrectionMaskRadius (13) | 0.010159 |
PaintCorrectionMaskRadius (14) | 0.003921 |
PaintCorrectionMaskRadius (15) | 0.010074 |
PaintCorrectionMaskRadius (2) | 0.045198 |
PaintCorrectionMaskRadius (21) | 0.003318 |
PaintCorrectionMaskRadius (28) | 0.002003 |
PaintCorrectionMaskRadius (4) | 0.015268 |
PaintCorrectionMaskRadius (7) | 0.025642 |
PaintCorrectionMaskRadius (8) | 0.017924 |
PaintCorrectionMaskRadius | 0.000363 |
PaintCorrectionMaskValue | 1.000000 |
PaintCorrectionMaskWhat | Mask/Paint |
PaintCorrectionMoire | 0.000000 |
PaintCorrectionSaturation (1) | 1.000000 |
PaintCorrectionSaturation (3) | 0.471260 |
PaintCorrectionSaturation (5) | 0.250000 |
PaintCorrectionSaturation (7) | 0.724140 |
PaintCorrectionSaturation | 0.000000 |
PaintCorrectionShadows2012 | 0.000000 |
PaintCorrectionSharpness | 0.000000 |
PaintCorrectionTemperature (2) | 0.057470 |
PaintCorrectionTemperature | 0.000000 |
PaintCorrectionTint | 0.000000 |
PaintCorrectionWhat | Correction |
ParametricDarks | -3 |
ParametricHighlights | -24 |
ParametricHighlightSplit | 75 |
ParametricLights | -22 |
ParametricMidtoneSplit | 50 |
ParametricShadows | +67 |
ParametricShadowSplit | 25 |
PerspectiveAspect | 0 |
PerspectiveHorizontal | 0 |
PerspectiveRotate | 0.0 |
PerspectiveScale | 100 |
PerspectiveUpright | 0 |
PerspectiveVertical | 0 |
PostCropVignetteAmount | 0 |
ProcessVersion | 6.7 |
ProfileDescription | ProPhoto RGB |
RedHue | 0 |
RedSaturation | 0 |
Saturation (1) | 0 |
Saturation | Normal |
SaturationAdjustmentAqua | 0 |
SaturationAdjustmentBlue | 0 |
SaturationAdjustmentGreen | 0 |
SaturationAdjustmentMagenta | 0 |
SaturationAdjustmentOrange | 0 |
SaturationAdjustmentPurple | 0 |
SaturationAdjustmentRed | 0 |
SaturationAdjustmentYellow | 0 |
ScaleFactor35efl | 1.5 |
SceneCaptureType | Standard |
SceneType | Directly photographed |
SensingMethod | One-chip color area |
SerialNumber | 4077038 |
Shadows2012 | +100 |
ShadowTint | 0 |
SharpenDetail | 25 |
SharpenEdgeMasking | 86 |
SharpenRadius | +2.4 |
Sharpness (1) | 46 |
Sharpness | Normal |
ShutterSpeed | 1/160 |
ShutterSpeedValue | 1/160 |
Software | Adobe Photoshop Lightroom 5.7.1 (Windows) |
SplitToningBalance | 0 |
SplitToningHighlightHue | 0 |
SplitToningHighlightSaturation | 0 |
SplitToningShadowHue | 0 |
SplitToningShadowSaturation | 0 |
SubjectDistanceRange | Unknown |
Tint | +4 |
ToneCurve | 0, 0, 255, 255 |
ToneCurveBlue | 0, 0, 255, 255 |
ToneCurveGreen | 0, 0, 255, 255 |
ToneCurveName | Linear |
ToneCurveName2012 | Linear |
ToneCurvePV2012 | 0, 0, 255, 255 |
ToneCurvePV2012Blue | 0, 0, 255, 255 |
ToneCurvePV2012Green | 0, 0, 255, 255 |
ToneCurvePV2012Red | 0, 0, 255, 255 |
ToneCurveRed | 0, 0, 255, 255 |
Version | 8.7.1 |
Vibrance | 0 |
VignetteAmount | 0 |
WhiteBalance (1) | As Shot |
WhiteBalance | Auto |
Whites2012 | 0 |