Felt | Verdi |
AlreadyApplied | True |
Aperture | 11.0 |
ApertureValue | 11.0 |
Artist | Vidar M. Jacobsen |
BitsPerSample | 8 |
BlueHue | 0 |
BlueSaturation | 0 |
Brightness | +50 |
BrightnessValue | -3.61171875 |
By-line | Vidar M. Jacobsen |
CameraProfile | Adobe Standard |
CameraSerialNumber | 0661377 |
Caption-Abstract | Morgenstening |
ChromaticAberrationB | 0 |
ChromaticAberrationR | 0 |
CircleOfConfusion | 0.020 mm |
Clarity | -15 |
ColorComponents | 3 |
ColorMode | RGB |
ColorNoiseReduction | 95 |
ColorNoiseReductionDetail | 50 |
ColorSpace | sRGB |
ColorTemperature | 4450 |
ColorTransform | YCbCr |
Contrast (2) | -23 |
Contrast | Normal |
ConvertToGrayscale | False |
Copyright | Vidar M. Jacobsen |
CopyrightNotice | Vidar M. Jacobsen |
CreateDate (1) | 2015:02:09 07:13:21+01:00 |
CreateDate | 2015:02:09 07:13:21 |
Creator | Vidar M. Jacobsen |
CreatorTool | Adobe Photoshop Elements 9.0 Windows |
CustomRendered | Normal |
DateAcquired | 2015:02:09 16:22:43.898 |
DateCreated | 2015:02:09 |
DateTimeDigitized | 2015:02:09 07:13:21+01:00 |
DateTimeOriginal (1) | 2015:02:09 07:13:21+01:00 |
DateTimeOriginal | 2015:02:09 07:13:21 |
Defringe | 0 |
Description | Morgenstening |
ExifImageHeight | 3882 |
ExifImageWidth | 5934 |
Exposure | 0.00 |
ExposureCompensation | 0 |
ExposureMode | Manual |
ExposureProgram | Manual |
ExposureTime | 25 |
FillLight | 32 |
Flash | Off, Did not fire |
FlashFired | False |
FlashFunction | False |
FlashMode | Off |
FlashRedEyeMode | False |
FlashReturn | No return detection |
FNumber | 11.0 |
FocalLength | 55.0 mm |
FocalLength35efl | 55.0 mm (35 mm equivalent: 82.0 mm) |
FocalLengthIn35mmFormat | 82 mm |
Format | image/jpeg |
FOV | 24.8 deg |
GrainAmount | 0 |
GreenHue | 0 |
GreenSaturation | 0 |
HasCrop | False |
HasSettings | True |
HighlightRecovery | 0 |
HueAdjustmentAqua | 0 |
HueAdjustmentBlue | 0 |
HueAdjustmentGreen | 0 |
HueAdjustmentMagenta | 0 |
HueAdjustmentOrange | 0 |
HueAdjustmentPurple | 0 |
HueAdjustmentRed | 0 |
HueAdjustmentYellow | 0 |
HyperfocalDistance | 13.65 m |
ICCProfileName | sRGB IEC61966-2.1 |
ImageDescription | Morgenstening |
ImageHeight | 3882 |
ImageSize | 5934x3882 |
ImageWidth | 5934 |
ISO | 100 |
Keywords | Drammen, Drammenselva, Ypsilon Bru, Morgen, Soloppgang |
LastKeywordIPTC | Drammen, Drammenselva, Ypsilon Bru, Morgen, Soloppgang |
LastKeywordXMP | Drammen, Drammenselva, Ypsilon Bru, Morgen, Soloppgang |
Lens | DT 55-200mm F4-5.6 |
LensID (1) | 49 |
LensID | Sony DT 55-200mm F4-5.6 (SAL55200) |
LensInfo | 55-200mm f/4-5.6 |
LensManualDistortionAmount | 0 |
LensManufacturer | Sony |
LensModel (1) | 18-55mm |
LensModel | DT 55-200mm F4-5.6 |
LensProfileEnable | 0 |
LensProfileSetup | LensDefaults |
LightSource | White Fluorescent |
LightValue | 2.3 |
LuminanceAdjustmentAqua | 0 |
LuminanceAdjustmentBlue | 0 |
LuminanceAdjustmentGreen | 0 |
LuminanceAdjustmentMagenta | 0 |
LuminanceAdjustmentOrange | 0 |
LuminanceAdjustmentPurple | 0 |
LuminanceAdjustmentRed | 0 |
LuminanceAdjustmentYellow | 0 |
LuminanceNoiseReductionContrast | 0 |
LuminanceNoiseReductionDetail | 50 |
LuminanceSmoothing | 95 |
Make | SONY |
MaxApertureValue | 4.0 |
Megapixels | 23.0 |
MeteringMode | Multi-segment |
Model | SLT-A77V |
ModifyDate (1) | 2016:01:02 16:35:14+01:00 |
ModifyDate | 2016:01:02 16:35:14 |
Orientation | Horizontal (normal) |
ParametricDarks | 0 |
ParametricHighlights | 0 |
ParametricHighlightSplit | 75 |
ParametricLights | 0 |
ParametricMidtoneSplit | 50 |
ParametricShadows | 0 |
ParametricShadowSplit | 25 |
PerspectiveHorizontal | 0 |
PerspectiveRotate | 0.0 |
PerspectiveScale | 100 |
PerspectiveVertical | 0 |
PostCropVignetteAmount | 0 |
ProcessVersion | 5.7 |
ProfileDescription | sRGB IEC61966-2.1 |
Rating | 0 |
RawFileName | Sony K025 1082 Morgen Ypsilon.ARW |
RecommendedExposureIndex | 100 |
RedHue | 0 |
RedSaturation | 0 |
Rights | Vidar M. Jacobsen |
Saturation (2) | +51 |
Saturation | Normal |
SaturationAdjustmentAqua | 0 |
SaturationAdjustmentBlue | 0 |
SaturationAdjustmentGreen | 0 |
SaturationAdjustmentMagenta | 0 |
SaturationAdjustmentOrange | 0 |
SaturationAdjustmentPurple | 0 |
SaturationAdjustmentRed | 0 |
SaturationAdjustmentYellow | 0 |
ScaleFactor35efl | 1.5 |
SceneCaptureType | Standard |
SceneType | Directly photographed |
SensitivityType (1) | 2 |
SensitivityType | Recommended Exposure Index |
Shadows | 28 |
ShadowTint | 0 |
SharpenDetail | 41 |
SharpenEdgeMasking | 57 |
SharpenRadius | +1.1 |
Sharpness (2) | 25 |
Sharpness | Normal |
ShutterSpeed | 25 |
ShutterSpeedValue | 25 |
Software | Adobe Photoshop Elements 9.0 Windows |
SplitToningBalance | 0 |
SplitToningHighlightHue | 0 |
SplitToningHighlightSaturation | 0 |
SplitToningShadowHue | 0 |
SplitToningShadowSaturation | 0 |
Subject | Drammen, Drammenselva, Ypsilon Bru, Morgen, Soloppgang |
Tint | 0 |
Title | |
ToneCurve | 0, 0, 32, 22, 64, 56, 128, 128, 192, 196, 255, 255 |
ToneCurveName | Medium Contrast |
URL_List | |
Version | 6.5 |
Vibrance | +23 |
VignetteAmount | 0 |
WhiteBalance (2) | Auto |
WhiteBalance | Manual |
XPAuthor | Vidar M. Jacobsen |
XPKeywords | Drammen;Drammenselva;Ypsilon Bru;Morgen;Soloppgang |
XPTitle | Morgenstening |