Felt | Verdi |
AlreadyApplied | True |
Aperture | 6.3 |
ApertureValue | 6.3 |
ApproximateFocusDistance | 4.66 |
AutoLateralCA | 1 |
AutoWhiteVersion | 134348800 |
BitsPerSample | 8 |
Blacks2012 | 0 |
BlueHue | 0 |
BlueSaturation | 0 |
CameraProfile | Adobe Standard |
CircleOfConfusion | 0.019 mm |
Clarity2012 | 0 |
ColorComponents | 3 |
ColorNoiseReduction | 25 |
ColorNoiseReductionDetail | 50 |
ColorNoiseReductionSmoothness | 50 |
ColorSpace | sRGB |
ColorTemperature | 5100 |
ColorTransform | YCbCr |
Contrast2012 | +10 |
ConvertToGrayscale | False |
CreateDate (1) | 2016:05:23 14:40:44.77 |
CreateDate | 2016:05:23 14:40:44 |
CreatorTool | Adobe Photoshop Lightroom 5.6 (Windows) |
CropAngle | 0 |
CropBottom | 0.883833 |
CropConstrainToWarp | 0 |
CropLeft | 0.048683 |
CropRight | 0.863527 |
CropTop | 0.061078 |
CustomRendered | Normal |
DateCreated (1) | 2016:05:23 |
DateCreated | 2016:05:23 14:40:44.77 |
DateTimeOriginal | 2016:05:23 14:40:44 |
DefringeGreenAmount | 0 |
DefringeGreenHueHi | 60 |
DefringeGreenHueLo | 40 |
DefringePurpleAmount | 13 |
DefringePurpleHueHi | 53 |
DefringePurpleHueLo | 23 |
DOF | 0.019 m (4.651 - 4.669 m) |
Exposure2012 | -1.00 |
ExposureCompensation | 0 |
ExposureMode | Manual |
ExposureProgram | Manual |
ExposureTime | 1/500 |
Firmware | 1.0.3 |
Flash | Off, Did not fire |
FlashCompensation | 0 |
FNumber | 6.3 |
FocalLength | 500.0 mm |
FocalLength35efl | 500.0 mm (35 mm equivalent: 792.3 mm) |
Format | image/jpeg |
FOV | 2.6 deg |
GrainAmount | 0 |
GreenHue | 0 |
GreenSaturation | 0 |
HasCrop | True |
HasSettings | True |
Highlights2012 | -10 |
HueAdjustmentAqua | 0 |
HueAdjustmentBlue | 0 |
HueAdjustmentGreen | 0 |
HueAdjustmentMagenta | 0 |
HueAdjustmentOrange | 0 |
HueAdjustmentPurple | 0 |
HueAdjustmentRed | 0 |
HueAdjustmentYellow | 0 |
HyperfocalDistance | 2092.74 m |
ImageHeight | 2606 |
ImageNumber | 0 |
ImageSize | 3871x2606 |
ImageWidth | 3871 |
ISO | 500 |
Lens | 50-500mm |
LensID (1) | 153 |
LensID | Sigma 50-500mm f/4-6.3 APO HSM EX |
LensInfo | 50-500mm f/? |
LensManualDistortionAmount | 0 |
LensModel | 50-500mm |
LensProfileChromaticAberrationScale | 100 |
LensProfileDistortionScale | 100 |
LensProfileEnable | 1 |
LensProfileFilename | Canon (Sigma_50-500mm_F4-6.3_APO_EX_DG_HSM ) - RAW.lcp |
LensProfileName | Adobe (SIGMA APO 50-500mm F4-6.3 EX DG / HSM, Canon) |
LensProfileSetup | LensDefaults |
LensProfileVignettingScale | 100 |
LightValue | 12.0 |
LuminanceAdjustmentAqua | 0 |
LuminanceAdjustmentBlue | 0 |
LuminanceAdjustmentGreen | 0 |
LuminanceAdjustmentMagenta | 0 |
LuminanceAdjustmentOrange | 0 |
LuminanceAdjustmentPurple | 0 |
LuminanceAdjustmentRed | 0 |
LuminanceAdjustmentYellow | 0 |
LuminanceNoiseReductionContrast | 0 |
LuminanceNoiseReductionDetail | 50 |
LuminanceSmoothing | 5 |
Make | Canon |
MaxApertureValue | 6.2 |
Megapixels | 10.1 |
MeteringMode | Spot |
Model | Canon EOS 50D |
ModifyDate (1) | 2016:05:23 15:44:05+02:00 |
ModifyDate | 2016:05:23 15:44:05 |
ParametricDarks | 0 |
ParametricHighlights | 0 |
ParametricHighlightSplit | 75 |
ParametricLights | 0 |
ParametricMidtoneSplit | 50 |
ParametricShadows | 0 |
ParametricShadowSplit | 25 |
PerspectiveAspect | 0 |
PerspectiveHorizontal | 0 |
PerspectiveRotate | 0.0 |
PerspectiveScale | 100 |
PerspectiveUpright | 0 |
PerspectiveVertical | 0 |
PostCropVignetteAmount | 0 |
ProcessVersion | 6.7 |
ProfileDescription | sRGB IEC61966-2.1 |
RedHue | 0 |
RedSaturation | 0 |
Saturation | +5 |
SaturationAdjustmentAqua | 0 |
SaturationAdjustmentBlue | 0 |
SaturationAdjustmentGreen | 0 |
SaturationAdjustmentMagenta | 0 |
SaturationAdjustmentOrange | 0 |
SaturationAdjustmentPurple | 0 |
SaturationAdjustmentRed | 0 |
SaturationAdjustmentYellow | 0 |
ScaleFactor35efl | 1.6 |
SceneCaptureType | Standard |
SerialNumber | 530311776 |
Shadows2012 | 0 |
ShadowTint | 0 |
SharpenDetail | 30 |
SharpenEdgeMasking | 10 |
SharpenRadius | +1.2 |
Sharpness | 40 |
ShutterSpeed | 1/500 |
ShutterSpeedValue | 1/500 |
Software | Adobe Photoshop Lightroom 5.6 (Windows) |
SplitToningBalance | 0 |
SplitToningHighlightHue | 0 |
SplitToningHighlightSaturation | 0 |
SplitToningShadowHue | 0 |
SplitToningShadowSaturation | 0 |
Tint | +20 |
ToneCurve | 0, 0, 255, 255 |
ToneCurveBlue | 0, 0, 255, 255 |
ToneCurveGreen | 0, 0, 255, 255 |
ToneCurveName | Linear |
ToneCurveName2012 | Linear |
ToneCurvePV2012 | 0, 0, 255, 255 |
ToneCurvePV2012Blue | 0, 0, 255, 255 |
ToneCurvePV2012Green | 0, 0, 255, 255 |
ToneCurvePV2012Red | 0, 0, 255, 255 |
ToneCurveRed | 0, 0, 255, 255 |
Version | 8.6 |
Vibrance | +5 |
VignetteAmount | 0 |
WhiteBalance (1) | As Shot |
WhiteBalance | Manual |
Whites2012 | 0 |