Felt | Verdi |
AlreadyApplied | True |
Aperture | 6.3 |
ApertureValue | 6.3 |
ApproximateFocusDistance | 4294967295 |
Artist | fotograf : Svein Hansen - Svein Foto |
AutoLateralCA | 1 |
AutoWhiteVersion | 134348800 |
BitsPerSample | 8 |
Blacks2012 | +50 |
BlueHue | 0 |
BlueSaturation | 0 |
By-line | fotograf : Svein Hansen |
CameraProfile | Adobe Standard |
CircleOfConfusion | 0.021 mm |
Clarity2012 | +100 |
ColorComponents | 3 |
ColorNoiseReduction | 25 |
ColorNoiseReductionDetail | 50 |
ColorNoiseReductionSmoothness | 50 |
ColorSpace | sRGB |
ColorTemperature | 5884 |
ColorTransform | YCbCr |
Contrast2012 | -11 |
ConvertToGrayscale | True |
Copyright | Copyright.Svein Hansen - Svingen 5 - 1671 Fredrikstad. |
CopyrightFlag | True |
CopyrightNotice | Copyright.Svein Hansen - Svingen 5 - 1671 Fredrikstad. |
CreateDate (1) | 2016:05:24 17:36:29.17 |
CreateDate | 2016:05:24 17:36:29 |
Creator | fotograf : Svein Hansen - Svein Foto |
CreatorAddress | Svingen 5 - Fredrikstad |
CreatorCity | Kråkerøy |
CreatorCountry | Norway |
CreatorPostalCode | 1671 |
CreatorRegion | Østfold |
CreatorTool | Adobe Photoshop Lightroom 6.5.1 (Windows) |
CreatorWorkEmail | post@sveinfoto.no - sveinh@stabildata.no |
CreatorWorkTelephone | 90764526 |
CreatorWorkURL | www.sveinfoto.no |
CropAngle | 2.38589 |
CropBottom | 0.936246 |
CropConstrainToWarp | 0 |
CropLeft | 0.078846 |
CropRight | 0.640065 |
CropTop | 0.021217 |
CustomRendered | Normal |
DateCreated (1) | 2016:05:24 |
DateCreated | 2016:05:24 17:36:29.17 |
DateTimeOriginal | 2016:05:24 17:36:29 |
Dehaze | 0 |
DOF | inf (9.38 m - inf) |
Exposure2012 | +0.53 |
ExposureCompensation | 0 |
ExposureMode | Manual |
ExposureProgram | Manual |
ExposureTime | 1/160 |
Firmware | 1.3.3 |
Flash | Off, Did not fire |
FlashCompensation | 0 |
FNumber | 6.3 |
FocalLength | 35.0 mm |
FocalLength35efl | 35.0 mm (35 mm equivalent: 50.7 mm) |
Format | image/jpeg |
FOV | 39.1 deg |
GrainAmount | 0 |
GrayMixerAqua | -19 |
GrayMixerBlue | +8 |
GrayMixerGreen | -26 |
GrayMixerMagenta | +4 |
GrayMixerOrange | -18 |
GrayMixerPurple | +15 |
GrayMixerRed | -9 |
GrayMixerYellow | -22 |
GreenHue | 0 |
GreenSaturation | 0 |
HasCrop | True |
HasExtendedXMP | 73BA3C963F19461CC410393A41E12E5B |
HasSettings | True |
Highlights2012 | -100 |
HyperfocalDistance | 9.38 m |
ImageHeight | 3376 |
ImageNumber | 0 |
ImageSize | 3376x3376 |
ImageWidth | 3376 |
ISO | 320 |
Keywords | Gamlebyen |
Lens | EF16-35mm f/2.8L II USM |
LensID (1) | 246 |
LensID | Canon EF 16-35mm f/2.8L II USM |
LensInfo | 16-35mm f/? |
LensManualDistortionAmount | 0 |
LensModel | EF16-35mm f/2.8L II USM |
LensProfileChromaticAberrationScale | 100 |
LensProfileDistortionScale | 100 |
LensProfileEnable | 1 |
LensProfileFilename | Canon EOS 5D Mark II (Canon EF 16-35mm f2.8 L II USM) - RAW.lcp |
LensProfileName | Adobe (Canon EF 16-35mm f/2.8 L II USM) |
LensProfileSetup | LensDefaults |
LensProfileVignettingScale | 100 |
LensSerialNumber | 000086209c |
LightValue | 11.0 |
LuminanceNoiseReductionContrast | 0 |
LuminanceNoiseReductionDetail | 50 |
LuminanceSmoothing | 45 |
Make | Canon |
Marked | True |
MaxApertureValue | 2.8 |
Megapixels | 11.4 |
MeteringMode | Multi-segment |
Model | Canon EOS 5D Mark III |
ModifyDate (1) | 2016:05:26 07:52:23+02:00 |
ModifyDate | 2016:05:26 07:52:23 |
PaintCorrectionActive | true |
PaintCorrectionAmount | 1.000000 |
PaintCorrectionBrightness | 0.000000 |
PaintCorrectionClarity2012 | 0.037040 |
PaintCorrectionContrast2012 | 0.000000 |
PaintCorrectionDefringe | 0.000000 |
PaintCorrectionExposure2012 | -0.018500 |
PaintCorrectionHighlights2012 | 0.000000 |
PaintCorrectionHue | 0.000000 |
PaintCorrectionLocalBlacks2012 | 0.000000 |
PaintCorrectionLocalDehaze | 0.000000 |
PaintCorrectionLocalWhites2012 | 0.000000 |
PaintCorrectionLuminanceNoise | 0.425930 |
PaintCorrectionMaskCenterWeight | 0.000000 |
PaintCorrectionMaskFlow | 1.000000 |
PaintCorrectionMaskRadius | 0.173673 |
PaintCorrectionMaskValue | 1.000000 |
PaintCorrectionMaskWhat | Mask/Paint |
PaintCorrectionMoire | 0.000000 |
PaintCorrectionSaturation | 0.000000 |
PaintCorrectionShadows2012 | 0.000000 |
PaintCorrectionSharpness | 1.000000 |
PaintCorrectionTemperature | 0.000000 |
PaintCorrectionTint | 0.000000 |
PaintCorrectionWhat | Correction |
ParametricDarks | -17 |
ParametricHighlights | +25 |
ParametricHighlightSplit | 75 |
ParametricLights | -6 |
ParametricMidtoneSplit | 50 |
ParametricShadows | +59 |
ParametricShadowSplit | 25 |
PerspectiveAspect | 0 |
PerspectiveHorizontal | 0 |
PerspectiveRotate | 0.0 |
PerspectiveScale | 100 |
PerspectiveUpright | 3 |
PerspectiveVertical | 0 |
PostCropVignetteAmount | 0 |
ProcessVersion | 6.7 |
ProfileDescription | sRGB IEC61966-2.1 |
RecommendedExposureIndex | 320 |
RedHue | 0 |
RedSaturation | 0 |
Rights | Copyright.Svein Hansen - Svingen 5 - 1671 Fredrikstad. |
ScaleFactor35efl | 1.4 |
SceneCaptureType | Standard |
SensitivityType | Recommended Exposure Index |
SerialNumber | 093024002999 |
Shadows2012 | +50 |
ShadowTint | 0 |
SharpenDetail | 25 |
SharpenEdgeMasking | 0 |
SharpenRadius | +1.0 |
Sharpness | 25 |
ShutterSpeed | 1/160 |
ShutterSpeedValue | 1/160 |
Software | Adobe Photoshop Lightroom 6.5.1 (Windows) |
SplitToningBalance | 0 |
SplitToningHighlightHue | 140 |
SplitToningHighlightSaturation | 6 |
SplitToningShadowHue | 0 |
SplitToningShadowSaturation | 0 |
Subject | Gamlebyen |
Tint | +11 |
ToneCurve | 0, 0, 255, 255 |
ToneCurveBlue | 0, 0, 255, 255 |
ToneCurveGreen | 0, 0, 255, 255 |
ToneCurveName | Linear |
ToneCurveName2012 | Linear |
ToneCurvePV2012 | 0, 0, 255, 255 |
ToneCurvePV2012Blue | 0, 0, 255, 255 |
ToneCurvePV2012Green | 0, 0, 255, 255 |
ToneCurvePV2012Red | 0, 0, 255, 255 |
ToneCurveRed | 0, 0, 255, 255 |
ToneMapStrength | 0 |
URL | http://www.sveinfoto.no |
UsageTerms | Det er helt forbudt med noen form for kopi, uten fotografen samtykke. Hvis dette blir oppdaget så er det er det opphavsretten som teller og domstolen er neste skritt. |
Version | 9.5.1 |
VignetteAmount | 0 |
WebStatement | http://www.sveinfoto.no |
WhiteBalance (1) | Custom |
WhiteBalance | Auto |
Whites2012 | +57 |