Felt | Verdi |
AlreadyApplied | True |
AutoLateralCA | 0 |
AutoWhiteVersion | 134348800 |
BitsPerSample | 8 |
Blacks2012 | +63 |
BlueHue | -31 |
BlueSaturation | -47 |
CameraProfile | Embedded |
Clarity2012 | +4 |
ColorComponents | 3 |
ColorNoiseReduction | 100 |
ColorNoiseReductionDetail | 98 |
ColorNoiseReductionSmoothness | 100 |
ColorSpace | sRGB |
ColorTransform | YCbCr |
Contrast2012 | -60 |
ConvertToGrayscale | False |
Copyright | Mariann M. Forås |
CopyrightNotice | Mariann M. Forås |
CreatorTool | Adobe Photoshop Lightroom 6.0 (Macintosh) |
CropAngle | 0 |
CropBottom | 0.957075 |
CropConstrainToWarp | 0 |
CropLeft | 0 |
CropRight | 0.925123 |
CropTop | 0.067182 |
DefringeGreenAmount | 3 |
DefringeGreenHueHi | 60 |
DefringeGreenHueLo | 14 |
DefringePurpleAmount | 0 |
DefringePurpleHueHi | 72 |
DefringePurpleHueLo | 45 |
Exposure2012 | -0.45 |
Format | image/jpeg |
GrainAmount | 0 |
GreenHue | -40 |
GreenSaturation | +13 |
HasCrop | True |
HasSettings | True |
Highlights2012 | +4 |
HueAdjustmentAqua | 0 |
HueAdjustmentBlue | 0 |
HueAdjustmentGreen | 0 |
HueAdjustmentMagenta | 0 |
HueAdjustmentOrange | 0 |
HueAdjustmentPurple | 0 |
HueAdjustmentRed | +26 |
HueAdjustmentYellow | 0 |
ImageHeight | 965 |
ImageSize | 669x965 |
ImageWidth | 669 |
IncrementalTemperature | +100 |
IncrementalTint | +57 |
LensManualDistortionAmount | +2 |
LensProfileEnable | 0 |
LensProfileSetup | LensDefaults |
LuminanceAdjustmentAqua | 0 |
LuminanceAdjustmentBlue | 0 |
LuminanceAdjustmentGreen | 0 |
LuminanceAdjustmentMagenta | 0 |
LuminanceAdjustmentOrange | 0 |
LuminanceAdjustmentPurple | 0 |
LuminanceAdjustmentRed | -7 |
LuminanceAdjustmentYellow | 0 |
LuminanceNoiseReductionContrast | 27 |
LuminanceNoiseReductionDetail | 50 |
LuminanceSmoothing | 47 |
Megapixels | 0.646 |
ModifyDate (1) | 2016:08:17 23:38:11+02:00 |
ModifyDate | 2016:08:17 23:38:11 |
ObjectName | Trist |
Orientation | Horizontal (normal) |
ParametricDarks | 0 |
ParametricHighlights | 0 |
ParametricHighlightSplit | 75 |
ParametricLights | 0 |
ParametricMidtoneSplit | 50 |
ParametricShadows | 0 |
ParametricShadowSplit | 25 |
PerspectiveAspect | 0 |
PerspectiveHorizontal | 0 |
PerspectiveRotate | 0.0 |
PerspectiveScale | 100 |
PerspectiveUpright | 0 |
PerspectiveVertical | 0 |
PostCropVignetteAmount | +100 |
PostCropVignetteFeather | 67 |
PostCropVignetteMidpoint | 67 |
PostCropVignetteRoundness | -70 |
PostCropVignetteStyle | 1 |
ProcessVersion | 6.7 |
ProfileDescription | sRGB IEC61966-2.1 |
RawFileName | thumb_DSC00719_1024-2.jpg |
RedHue | +18 |
RedSaturation | +6 |
Rights | Mariann M. Forås |
Saturation | +50 |
SaturationAdjustmentAqua | 0 |
SaturationAdjustmentBlue | 0 |
SaturationAdjustmentGreen | 0 |
SaturationAdjustmentMagenta | 0 |
SaturationAdjustmentOrange | 0 |
SaturationAdjustmentPurple | 0 |
SaturationAdjustmentRed | +7 |
SaturationAdjustmentYellow | 0 |
Shadows2012 | +27 |
ShadowTint | 0 |
SharpenDetail | 48 |
SharpenEdgeMasking | 0 |
SharpenRadius | +2.0 |
Sharpness | 80 |
Software | Adobe Photoshop Lightroom 6.0 (Macintosh) |
SplitToningBalance | 0 |
SplitToningHighlightHue | 89 |
SplitToningHighlightSaturation | 16 |
SplitToningShadowHue | 0 |
SplitToningShadowSaturation | 0 |
Title | Trist |
ToneCurve | 0, 0, 255, 255 |
ToneCurveBlue | 0, 0, 255, 255 |
ToneCurveGreen | 0, 0, 255, 255 |
ToneCurveName | Linear |
ToneCurveName2012 | Linear |
ToneCurvePV2012 | 0, 0, 255, 255 |
ToneCurvePV2012Blue | 0, 0, 255, 255 |
ToneCurvePV2012Green | 0, 0, 255, 255 |
ToneCurvePV2012Red | 0, 0, 255, 255 |
ToneCurveRed | 0, 0, 255, 255 |
Version | 9.0 |
Vibrance | -93 |
VignetteAmount | 0 |
WhiteBalance | Custom |
Whites2012 | -61 |