Felt | Verdi |
AlreadyApplied | True |
Aperture | 9.0 |
ApertureValue | 9.0 |
ApproximateFocusDistance | 4294967295 |
Artist | Kenneth Hauen |
AutoLateralCA | 1 |
AutoWhiteVersion | 134348800 |
BitsPerSample (1) | 8 8 8 |
BitsPerSample | 8 |
Blacks2012 | +11 |
BlueHue | 0 |
BlueSaturation | 0 |
By-line | Kenneth Hauen |
CameraProfile | Embedded |
CircleOfConfusion | 0.019 mm |
Clarity2012 | +17 |
ColorComponents | 3 |
ColorMode | RGB |
ColorNoiseReduction | 0 |
ColorSpace | sRGB |
ColorTransform | YCbCr |
Contrast2012 | -1 |
ConvertToGrayscale | False |
CreateDate | 2012:01:11 15:44:24 |
Creator | Kenneth Hauen |
CreatorTool | Adobe Photoshop Lightroom 6.9 (Windows) |
CropAngle | -0.848764 |
CropBottom | 0.978261 |
CropConstrainToWarp | 0 |
CropLeft | 0.006039 |
CropRight | 0.993961 |
CropTop | 0.021739 |
CustomRendered | Normal |
DateCreated (1) | 2012:01:11 |
DateCreated | 2012:01:11 15:44:24 |
DateTimeOriginal | 2012:01:11 15:44:24 |
DefringeGreenAmount | 0 |
DefringeGreenHueHi | 60 |
DefringeGreenHueLo | 40 |
DefringePurpleAmount | 0 |
DefringePurpleHueHi | 100 |
DefringePurpleHueLo | 30 |
Dehaze | 0 |
DOF | inf (2.33 m - inf) |
ExifImageHeight | 1365 |
ExifImageWidth | 2048 |
Exposure2012 | +0.32 |
ExposureCompensation | 0 |
ExposureMode | Auto |
ExposureProgram | Landscape |
ExposureTime | 1/80 |
Firmware | 1.0.9 |
Flash | Off, Did not fire |
FlashCompensation | 0 |
FNumber | 9.0 |
FocalLength | 20.0 mm |
FocalLength35efl | 20.0 mm (35 mm equivalent: 31.5 mm) |
Format | image/jpeg |
FOV | 59.6 deg |
GrainAmount | 0 |
GreenHue | 0 |
GreenSaturation | 0 |
HasCrop | True |
HasSettings | True |
Highlights2012 | -78 |
HueAdjustmentAqua | 0 |
HueAdjustmentBlue | 0 |
HueAdjustmentGreen | 0 |
HueAdjustmentMagenta | 0 |
HueAdjustmentOrange | 0 |
HueAdjustmentPurple | 0 |
HueAdjustmentRed | 0 |
HueAdjustmentYellow | 0 |
HyperfocalDistance | 2.33 m |
ICCProfileName | sRGB IEC61966-2.1 |
ImageHeight (1) | 3381 |
ImageHeight | 1365 |
ImageNumber | 0 |
ImageSize | 2048x1365 |
ImageWidth (1) | 5071 |
ImageWidth | 2048 |
IncrementalTemperature | 0 |
IncrementalTint | 0 |
ISO | 100 |
Lens | EF-S18-55mm f/3.5-5.6 IS |
LensID (1) | 48 |
LensID | Canon EF-S 18-55mm f/3.5-5.6 IS |
LensInfo | 18-55mm f/? |
LensManualDistortionAmount | 0 |
LensModel | EF-S18-55mm f/3.5-5.6 IS |
LensProfileChromaticAberrationScale | 100 |
LensProfileDistortionScale | 164 |
LensProfileEnable | 1 |
LensProfileFilename | Canon EOS 50D (Canon EF-S 18-55mm f3.5-5.6 IS).lcp |
LensProfileName | Adobe (Canon EF-S 18-55mm f/3.5-5.6 IS) |
LensProfileSetup | Custom |
LensProfileVignettingScale | 101 |
LightValue | 12.7 |
LuminanceAdjustmentAqua | 0 |
LuminanceAdjustmentBlue | 0 |
LuminanceAdjustmentGreen | 0 |
LuminanceAdjustmentMagenta | 0 |
LuminanceAdjustmentOrange | 0 |
LuminanceAdjustmentPurple | 0 |
LuminanceAdjustmentRed | 0 |
LuminanceAdjustmentYellow | 0 |
LuminanceSmoothing | 0 |
Make | Canon |
MaxApertureValue | 3.5 |
Megapixels | 2.8 |
MeteringMode | Multi-segment |
Model | Canon EOS 550D |
ModifyDate (1) | 2017:03:31 17:59:34+02:00 |
ModifyDate | 2017:03:31 17:59:34 |
Orientation | Horizontal (normal) |
ParametricDarks | 0 |
ParametricHighlights | 0 |
ParametricHighlightSplit | 75 |
ParametricLights | 0 |
ParametricMidtoneSplit | 50 |
ParametricShadows | 0 |
ParametricShadowSplit | 25 |
PerspectiveAspect | 0 |
PerspectiveHorizontal | 0 |
PerspectiveRotate | 0.0 |
PerspectiveScale | 100 |
PerspectiveUpright | 0 |
PerspectiveVertical | 0 |
PerspectiveX | 0.00 |
PerspectiveY | 0.00 |
PhotometricInterpretation | RGB |
PostCropVignetteAmount | 0 |
ProcessVersion | 6.7 |
ProfileDescription | sRGB IEC61966-2.1 |
RedHue | 0 |
RedSaturation | 0 |
SamplesPerPixel | 3 |
Saturation | +58 |
SaturationAdjustmentAqua | 0 |
SaturationAdjustmentBlue | 0 |
SaturationAdjustmentGreen | 0 |
SaturationAdjustmentMagenta | 0 |
SaturationAdjustmentOrange | 0 |
SaturationAdjustmentPurple | 0 |
SaturationAdjustmentRed | 0 |
SaturationAdjustmentYellow | 0 |
ScaleFactor35efl | 1.6 |
SceneCaptureType | Standard |
SerialNumber | 2032102017 |
Shadows2012 | +25 |
ShadowTint | 0 |
SharpenDetail | 25 |
SharpenEdgeMasking | 0 |
SharpenRadius | +1.0 |
Sharpness | 0 |
ShutterSpeed | 1/80 |
ShutterSpeedValue | 1/80 |
Software | Adobe Photoshop CC 2017 (Windows) |
SplitToningBalance | 0 |
SplitToningHighlightHue | 0 |
SplitToningHighlightSaturation | 0 |
SplitToningShadowHue | 0 |
SplitToningShadowSaturation | 0 |
ToneCurve | 0, 0, 255, 255 |
ToneCurveBlue | 0, 0, 255, 255 |
ToneCurveGreen | 0, 0, 255, 255 |
ToneCurveName | Linear |
ToneCurveName2012 | Medium Contrast |
ToneCurvePV2012 | 0, 0, 32, 22, 64, 56, 128, 128, 192, 196, 255, 255 |
ToneCurvePV2012Blue | 0, 0, 255, 255 |
ToneCurvePV2012Green | 0, 0, 255, 255 |
ToneCurvePV2012Red | 0, 0, 255, 255 |
ToneCurveRed | 0, 0, 255, 255 |
ToneMapStrength | 0 |
URL_List | |
Version | 9.9 |
Vibrance | -78 |
VignetteAmount | 0 |
WhiteBalance (1) | As Shot |
WhiteBalance | Auto |
Whites2012 | -1 |