Felt | Verdi |
2018-07-22T12:49:41+02:00 File _20180612_Island-121833C43DE436556515B5DD13B8BE411495.psb saved
2018-07-22T12:49:55+02:00 File 20180612_Island-1218-131.psd saved
AlreadyApplied | True |
Aperture | 9.0 |
ApertureValue | 9.0 |
ApproximateFocusDistance | 9.08 |
Artist | Igor Kostin |
AutoLateralCA | 0 |
BitsPerSample | 8 |
Blacks2012 | +57 |
BlueHue | -24 |
BlueSaturation | -23 |
By-line | Igor Kostin |
CameraProfile | Embedded |
CircleOfConfusion | 0.004 mm |
Clarity2012 | -18 |
ColorComponents | 3 |
ColorNoiseReduction | 25 |
ColorNoiseReductionDetail | 50 |
ColorNoiseReductionSmoothness | 50 |
ColorSpace | sRGB |
ColorTransform | YCbCr |
Contrast2012 | +20 |
ConvertToGrayscale | False |
Copyright | All rights reserved |
CopyrightFlag | True |
CopyrightNotice | All rights reserved |
Country | Iceland |
Country-PrimaryLocationCode | IS |
Country-PrimaryLocationName | Iceland |
CountryCode | IS |
CreateDate | 2018:06:14 16:11:26 |
Creator | Igor Kostin |
CreatorTool | Adobe Photoshop Lightroom Classic 7.4 (Macintosh) |
CropAngle | 0 |
CropBottom | 0.935323 |
CropConstrainToWarp | 0 |
CropLeft | 0.104812 |
CropRight | 0.873331 |
CropTop | 0 |
CustomRendered | Normal |
DateCreated (1) | 2018:06:14 |
DateCreated | 2018:06:14 16:11:26.055 |
DateTimeOriginal | 2018:06:14 16:11:26 |
DefringeGreenAmount | 0 |
DefringeGreenHueHi | 60 |
DefringeGreenHueLo | 40 |
DefringePurpleAmount | 0 |
DefringePurpleHueHi | 70 |
DefringePurpleHueLo | 30 |
Dehaze | 0 |
DOF | 2.65 m (7.94 - 10.60 m) |
Exposure2012 | +0.34 |
ExposureCompensation | -1/3 |
ExposureMode | Auto |
ExposureProgram | Aperture-priority AE |
ExposureTime | 1/1000 |
Firmware | 1.1.2 |
Flash | Off, Did not fire |
FlashCompensation | 0 |
FNumber | 9.0 |
FocalLength | 50.0 mm |
FocalLength35efl | 50.0 mm (35 mm equivalent: 341.5 mm) |
Format | image/jpeg |
FOV | 6.0 deg |
GPSAltitude (1) | 77.2 m |
GPSAltitude | 77.2 m Above Sea Level |
GPSAltitudeRef | Above Sea Level |
GPSDateStamp | 2018:06:14 |
GPSDateTime | 2018:06:14 14:11:25.367Z |
GPSDOP | 4 |
GPSImgDirectionRef | Magnetic North |
GPSLatitude (1) | 64 deg 20' 31.11" |
GPSLatitude | 64 deg 20' 31.11" N |
GPSLatitudeRef | North |
GPSLongitude (1) | 14 deg 55' 43.66" |
GPSLongitude | 14 deg 55' 43.66" W |
GPSLongitudeRef | West |
GPSMapDatum | WGS-84 |
GPSMeasureMode | 3-Dimensional Measurement |
GPSPosition | 64 deg 20' 31.11" N, 14 deg 55' 43.66" W |
GPSSatellites | 24 |
GPSStatus | Measurement Active |
GPSTimeStamp | 14:11:25.367 |
GPSVersionID | 2.3.0.0 |
GrainAmount | 24 |
GrainFrequency | 50 |
GrainSize | 25 |
GreenHue | +51 |
GreenSaturation | +33 |
HasCrop | True |
HasSettings | True |
Highlights2012 | -48 |
HueAdjustmentAqua | +44 |
HueAdjustmentBlue | +25 |
HueAdjustmentGreen | -68 |
HueAdjustmentMagenta | 0 |
HueAdjustmentOrange | +2 |
HueAdjustmentPurple | 0 |
HueAdjustmentRed | -5 |
HueAdjustmentYellow | +5 |
HyperfocalDistance | 63.14 m |
ImageHeight | 974 |
ImageNumber | 0 |
ImageSize | 1200x974 |
ImageWidth | 1200 |
IncrementalTemperature | +22 |
IncrementalTint | -27 |
ISO | 400 |
Keywords | 2018, BOFK, Bodø, IgorKostin, Island, Norway |
Lens | EF28-300mm f/3.5-5.6L IS USM |
LensID (1) | 233 |
LensID | Canon EF 28-300mm f/3.5-5.6L IS USM |
LensInfo | 28-300mm f/? |
LensManualDistortionAmount | 0 |
LensModel | EF28-300mm f/3.5-5.6L IS USM |
LensProfileEnable | 0 |
LensProfileSetup | LensDefaults |
LensSerialNumber | 000020a680 |
LightValue | 14.3 |
LookName | |
LuminanceAdjustmentAqua | 0 |
LuminanceAdjustmentBlue | 0 |
LuminanceAdjustmentGreen | 0 |
LuminanceAdjustmentMagenta | 0 |
LuminanceAdjustmentOrange | -2 |
LuminanceAdjustmentPurple | 0 |
LuminanceAdjustmentRed | 0 |
LuminanceAdjustmentYellow | 0 |
LuminanceSmoothing | 0 |
Make | Canon |
Marked | True |
MaxApertureValue | 4.2 |
Megapixels | 1.2 |
MeteringMode | Multi-segment |
Model | Canon EOS 7D Mark II |
ModifyDate (1) | 2018:08:11 20:07:14+02:00 |
ModifyDate | 2018:08:11 20:07:14 |
OverrideLookVignette | False |
ParametricDarks | 0 |
ParametricHighlights | 0 |
ParametricHighlightSplit | 75 |
ParametricLights | 0 |
ParametricMidtoneSplit | 50 |
ParametricShadows | 0 |
ParametricShadowSplit | 25 |
PerspectiveAspect | 0 |
PerspectiveHorizontal | 0 |
PerspectiveRotate | 0.0 |
PerspectiveScale | 100 |
PerspectiveUpright | 0 |
PerspectiveVertical | 0 |
PerspectiveX | 0.00 |
PerspectiveY | 0.00 |
PostCropVignetteAmount | -22 |
PostCropVignetteFeather | 50 |
PostCropVignetteHighlightContrast | 0 |
PostCropVignetteMidpoint | 33 |
PostCropVignetteRoundness | 0 |
PostCropVignetteStyle | 1 |
ProcessVersion | 10.0 |
ProfileDescription | sRGB IEC61966-2.1 |
Province-State | Eastern Region |
Rating | 5 |
RawFileName | |
RecommendedExposureIndex | 400 |
RedHue | +36 |
RedSaturation | +6 |
Rights | All rights reserved |
Saturation | -27 |
SaturationAdjustmentAqua | -29 |
SaturationAdjustmentBlue | -47 |
SaturationAdjustmentGreen | +7 |
SaturationAdjustmentMagenta | 0 |
SaturationAdjustmentOrange | -12 |
SaturationAdjustmentPurple | 0 |
SaturationAdjustmentRed | 0 |
SaturationAdjustmentYellow | -43 |
ScaleFactor35efl | 6.8 |
SceneCaptureType | Standard |
SensitivityType | Recommended Exposure Index |
SerialNumber | 343055001281 |
Shadows2012 | 0 |
ShadowTint | 0 |
SharpenDetail | 25 |
SharpenEdgeMasking | 0 |
SharpenRadius | +0.5 |
Sharpness | 150 |
ShutterSpeed | 1/1000 |
ShutterSpeedValue | 1/1000 |
Software | Adobe Photoshop Lightroom Classic 7.4 (Macintosh) |
SplitToningBalance | 0 |
SplitToningHighlightHue | 0 |
SplitToningHighlightSaturation | 0 |
SplitToningShadowHue | 0 |
SplitToningShadowSaturation | 0 |
State | Eastern Region |
Subject | 2018, BOFK, Bodø, IgorKostin, Island, Norway |
ToneCurve | 0, 0, 255, 255 |
ToneCurveBlue | 0, 0, 255, 255 |
ToneCurveGreen | 0, 0, 255, 255 |
ToneCurveName | Linear |
ToneCurveName2012 | Custom |
ToneCurvePV2012 | 0, 0, 71, 68, 190, 200, 255, 255 |
ToneCurvePV2012Blue | 0, 0, 66, 66, 109, 123, 177, 185, 255, 221 |
ToneCurvePV2012Green | 0, 0, 55, 37, 111, 105, 185, 197, 255, 255 |
ToneCurvePV2012Red | 0, 0, 61, 33, 117, 97, 176, 180, 255, 255 |
ToneCurveRed | 0, 0, 255, 255 |
ToneMapStrength | 0 |
UsageTerms | Please contact |
Version | 10.4 |
Vibrance | +37 |
VignetteAmount | 0 |
WhiteBalance (1) | Custom |
WhiteBalance | Auto |
Whites2012 | -46 |