Felt | Verdi |
AlreadyApplied | True |
Aperture | 2.8 |
ApertureValue | 2.8 |
ApproximateFocusDistance | 0.8 |
AutoLateralCA | 1 |
BitsPerSample | 8 |
Blacks2012 | 0 |
BlueHue | 0 |
BlueSaturation | 0 |
CameraProfile | Adobe Standard |
CircleOfConfusion | 0.009 mm |
Clarity2012 | 0 |
ColorComponents | 3 |
ColorNoiseReduction | 25 |
ColorNoiseReductionDetail | 50 |
ColorNoiseReductionSmoothness | 50 |
ColorSpace | sRGB |
ColorTemperature | 7259 |
ColorTransform | YCbCr |
Contrast2012 | +82 |
ConvertToGrayscale | True |
CreateDate (1) | 2019:06:17 11:21:37.66 |
CreateDate | 2019:06:17 11:21:37 |
CreatorTool | Adobe Photoshop Lightroom Classic 8.1 (Macintosh) |
CropAngle | 2.50434 |
CropBottom | 1 |
CropConstrainToWarp | 0 |
CropLeft | 0.307402 |
CropRight | 0.979805 |
CropTop | 0.261964 |
CustomRendered | Normal |
DateCreated (1) | 2019:06:17 |
DateCreated | 2019:06:17 11:21:37.66 |
DateTimeOriginal | 2019:06:17 11:21:37 |
Dehaze | 0 |
DistortionCorrectionAlreadyApplied | True |
DOF | 0.04 m (0.78 - 0.82 m) |
Exposure2012 | +1.30 |
ExposureCompensation | 0 |
ExposureMode | Manual |
ExposureProgram | Manual |
ExposureTime | 1/6 |
Firmware | 1.0.4 |
Flash | Off, Did not fire |
FlashCompensation | 0 |
FNumber | 2.8 |
FocalLength | 28.0 mm |
FocalLength35efl | 28.0 mm (35 mm equivalent: 91.9 mm) |
Format | image/jpeg |
FOV | 22.2 deg |
GradientBasedCorrActive | true |
GradientBasedCorrAmount | 1.000000 |
GradientBasedCorrBrightness | 0.000000 |
GradientBasedCorrClarity2012 | 0.000000 |
GradientBasedCorrContrast2012 | 0.000000 |
GradientBasedCorrCorrectionRangeMaskColorAmount | 0.500000 |
GradientBasedCorrCorrectionRangeMaskDepthFeather | 0.500000 |
GradientBasedCorrCorrectionRangeMaskDepthMax | 1.000000 |
GradientBasedCorrCorrectionRangeMaskDepthMin | 0.000000 |
GradientBasedCorrCorrectionRangeMaskLumFeather | 0.500000 |
GradientBasedCorrCorrectionRangeMaskLumMax | 1.000000 |
GradientBasedCorrCorrectionRangeMaskLumMin | 0.000000 |
GradientBasedCorrCorrectionRangeMaskType | 0 |
GradientBasedCorrCorrectionRangeMaskVersion | +2 |
GradientBasedCorrDefringe | 0.000000 |
GradientBasedCorrExposure2012 | 0.614881 |
GradientBasedCorrHighlights2012 | 0.000000 |
GradientBasedCorrHue | 240.000000 |
GradientBasedCorrLocalBlacks2012 | 0.000000 |
GradientBasedCorrLocalDehaze | 0.000000 |
GradientBasedCorrLocalWhites2012 | 0.000000 |
GradientBasedCorrLuminanceNoise | 0.000000 |
GradientBasedCorrMaskFullX | 0.235418 |
GradientBasedCorrMaskFullY | 0.844025 |
GradientBasedCorrMaskValue | 1.000000 |
GradientBasedCorrMaskWhat | Mask/Gradient |
GradientBasedCorrMaskZeroX | 0.368079 |
GradientBasedCorrMaskZeroY | 0.600986 |
GradientBasedCorrMoire | 0.000000 |
GradientBasedCorrSaturation (1) | -0.363546 |
GradientBasedCorrSaturation | 0.000000 |
GradientBasedCorrShadows2012 | 0.000000 |
GradientBasedCorrSharpness | 0.000000 |
GradientBasedCorrTemperature | -0.014102 |
GradientBasedCorrTint | 0.000000 |
GradientBasedCorrWhat | Correction |
GrainAmount | 80 |
GrainFrequency | 50 |
GrainSize | 25 |
GrayMixerAqua | -30 |
GrayMixerBlue | -12 |
GrayMixerGreen | -30 |
GrayMixerMagenta | -60 |
GrayMixerOrange | +5 |
GrayMixerPurple | -30 |
GrayMixerRed | +5 |
GrayMixerYellow | -30 |
GreenHue | 0 |
GreenSaturation | 0 |
HasCrop | True |
HasSettings | True |
Highlights2012 | -35 |
HyperfocalDistance | 30.58 m |
ImageHeight | 2048 |
ImageNumber | 0 |
ImageSize | 1365x2048 |
ImageWidth | 1365 |
ISO | 100 |
LateralChromaticAberrationCorrectionAlreadyApplied | True |
Lens | EF24-70mm f/2.8L II USM |
LensID (1) | 495 |
LensID | Canon EF 24-70mm f/2.8L II USM |
LensInfo | 24-70mm f/? |
LensManualDistortionAmount | 0 |
LensModel | EF24-70mm f/2.8L II USM |
LensProfileChromaticAberrationScale | 100 |
LensProfileDistortionScale | 100 |
LensProfileEnable | 1 |
LensProfileFilename | Canon EOS 5D Mark II (Canon EF 24-70mm f2.8 L II USM) - RAW.lcp |
LensProfileName | Adobe (Canon EF 24-70mm f/2.8 L II USM) |
LensProfileSetup | LensDefaults |
LensProfileVignettingScale | 100 |
LensSerialNumber | 5950001676 |
LightValue | 5.6 |
LookName | |
LuminanceSmoothing | 0 |
Make | Canon |
MaxApertureValue | 2.8 |
Megapixels | 2.8 |
MeteringMode | Spot |
Model | Canon EOS 5D Mark IV |
ModifyDate (1) | 2019:06:17 14:01:39+02:00 |
ModifyDate | 2019:06:17 14:01:39 |
OverrideLookVignette | False |
ParametricDarks | 0 |
ParametricHighlights | 0 |
ParametricHighlightSplit | 76 |
ParametricLights | 0 |
ParametricMidtoneSplit | 51 |
ParametricShadows | 0 |
ParametricShadowSplit | 24 |
PerspectiveAspect | 0 |
PerspectiveHorizontal | 0 |
PerspectiveRotate | 0.0 |
PerspectiveScale | 100 |
PerspectiveUpright | 0 |
PerspectiveVertical | 0 |
PerspectiveX | 0.00 |
PerspectiveY | 0.00 |
PostCropVignetteAmount | 0 |
ProcessVersion | 11.0 |
ProfileDescription | sRGB IEC61966-2.1 |
RawFileName | _E5A6290.CR2 |
RecommendedExposureIndex | 100 |
RedHue | 0 |
RedSaturation | 0 |
ScaleFactor35efl | 3.3 |
SceneCaptureType | Standard |
SensitivityType | Recommended Exposure Index |
SerialNumber | 183056001585 |
Shadows2012 | -47 |
ShadowTint | 0 |
SharpenDetail | 25 |
SharpenEdgeMasking | 0 |
SharpenRadius | +1.0 |
Sharpness | 40 |
ShutterSpeed | 1/6 |
ShutterSpeedValue | 1/6 |
Software | Adobe Photoshop Lightroom Classic 8.1 (Macintosh) |
SplitToningBalance | -1 |
SplitToningHighlightHue | 1 |
SplitToningHighlightSaturation | 0 |
SplitToningShadowHue | 2 |
SplitToningShadowSaturation | 0 |
Tint | +32 |
ToneCurve | 0, 0, 255, 255 |
ToneCurveBlue | 0, 0, 255, 255 |
ToneCurveGreen | 0, 0, 255, 255 |
ToneCurveName | Linear |
ToneCurveName2012 | X5 - JPEG - 1_2 |
ToneCurvePV2012 | 0, 4, 22, 21, 96, 91, 152, 155, 212, 214, 255, 246 |
ToneCurvePV2012Blue | 0, 0, 128, 124, 255, 250 |
ToneCurvePV2012Green | 0, 0, 135, 134, 255, 255 |
ToneCurvePV2012Red | 0, 0, 131, 130, 255, 255 |
ToneCurveRed | 0, 0, 255, 255 |
ToneMapStrength | 0 |
Version | 11.1 |
VignetteAmount | 0 |
VignetteCorrectionAlreadyApplied | True |
WhiteBalance (1) | Custom |
WhiteBalance | Auto |
Whites2012 | +13 |