Felt | Verdi |
AlreadyApplied | True |
Aperture | 7.1 |
ApertureValue | 7.1 |
ApproximateFocusDistance | 5.7 |
Artist | jes.Foto |
AutoLateralCA | 1 |
BitsPerSample | 8 |
Blacks2012 | +60 |
BlueHue | 0 |
BlueSaturation | 0 |
By-line | jes.Foto |
CameraProfile | Adobe Standard |
CircleOfConfusion | 0.028 mm |
Clarity2012 | +9 |
ColorComponents | 3 |
ColorNoiseReduction | 25 |
ColorNoiseReductionDetail | 50 |
ColorNoiseReductionSmoothness | 50 |
ColorSpace | sRGB |
ColorTemperature | 6050 |
ColorTransform | YCbCr |
Contrast2012 | +30 |
ConvertToGrayscale | False |
Copyright | jes.Foto |
CopyrightNotice | jes.Foto |
CreateDate (1) | 2020:07:05 19:36:58.28Z |
CreateDate | 2020:07:05 19:36:58 |
Creator | jes.Foto |
CreatorTool | Adobe Photoshop Lightroom Classic 9.3 (Macintosh) |
CropAngle | 0 |
CropBottom | 0.947255 |
CropConstrainToWarp | 0 |
CropLeft | 0.043054 |
CropRight | 0.990309 |
CropTop | 0 |
CustomRendered | Normal |
DateCreated (1) | 2020:07:05 19:36:58.28Z |
DateCreated | 2020:07:05 |
DateTimeOriginal | 2020:07:05 19:36:58 |
DefringeGreenAmount | 0 |
DefringeGreenHueHi | 60 |
DefringeGreenHueLo | 40 |
DefringePurpleAmount | 0 |
DefringePurpleHueHi | 70 |
DefringePurpleHueLo | 30 |
Dehaze | 0 |
DistortionCorrectionAlreadyApplied | True |
DOF | inf (2.12 m - inf) |
ExifImageHeight | 5911 |
ExifImageWidth | 3941 |
Exposure2012 | -1.25 |
ExposureCompensation | 0 |
ExposureMode | Manual |
ExposureProgram | Manual |
ExposureTime | 1/200 |
Firmware | 1.2.0 |
Flash | No Flash |
FlashCompensation | 0 |
FNumber | 7.1 |
FocalLength | 26.0 mm |
FocalLength35efl | 26.0 mm (35 mm equivalent: 27.5 mm) |
Format | image/jpeg |
FOV | 66.4 deg |
GradientBasedCorrActive | true |
GradientBasedCorrAmount | 1.000000 |
GradientBasedCorrBrightness | 0.000000 |
GradientBasedCorrClarity2012 | 0.000000 |
GradientBasedCorrContrast2012 (1) | 0.699892 |
GradientBasedCorrContrast2012 | 0.000000 |
GradientBasedCorrCorrectionRangeMaskColorAmount | 0.500000 |
GradientBasedCorrCorrectionRangeMaskDepthFeather | 0.500000 |
GradientBasedCorrCorrectionRangeMaskDepthMax | 1.000000 |
GradientBasedCorrCorrectionRangeMaskDepthMin | 0.000000 |
GradientBasedCorrCorrectionRangeMaskLumFeather | 0.500000 |
GradientBasedCorrCorrectionRangeMaskLumMax | 1.000000 |
GradientBasedCorrCorrectionRangeMaskLumMin | 0.000000 |
GradientBasedCorrCorrectionRangeMaskType | 0 |
GradientBasedCorrCorrectionRangeMaskVersion | +2 |
GradientBasedCorrDefringe | 0.000000 |
GradientBasedCorrExposure2012 (1) | -0.349677 |
GradientBasedCorrExposure2012 (2) | -0.302465 |
GradientBasedCorrExposure2012 (3) | -0.327384 |
GradientBasedCorrExposure2012 | -0.327990 |
GradientBasedCorrHighlights2012 | 0.000000 |
GradientBasedCorrHue | 240.000000 |
GradientBasedCorrLocalBlacks2012 | 0.000000 |
GradientBasedCorrLocalDehaze | 0.000000 |
GradientBasedCorrLocalHue | 0.000000 |
GradientBasedCorrLocalTexture | 0.000000 |
GradientBasedCorrLocalWhites2012 | 0.000000 |
GradientBasedCorrLuminanceNoise | 0.000000 |
GradientBasedCorrMaskFullX (1) | 0.742191 |
GradientBasedCorrMaskFullX (2) | 0.051186 |
GradientBasedCorrMaskFullX (3) | 0.182066 |
GradientBasedCorrMaskFullX | 0.168784 |
GradientBasedCorrMaskFullY (1) | 0.605217 |
GradientBasedCorrMaskFullY (2) | 0.470573 |
GradientBasedCorrMaskFullY (3) | 0.899945 |
GradientBasedCorrMaskFullY | 0.098355 |
GradientBasedCorrMaskValue | 1.000000 |
GradientBasedCorrMaskWhat | Mask/Gradient |
GradientBasedCorrMaskZeroX (1) | 0.496061 |
GradientBasedCorrMaskZeroX (2) | 0.226995 |
GradientBasedCorrMaskZeroX (3) | 0.335207 |
GradientBasedCorrMaskZeroX | 0.311104 |
GradientBasedCorrMaskZeroY (1) | 0.604220 |
GradientBasedCorrMaskZeroY (2) | 0.470868 |
GradientBasedCorrMaskZeroY (3) | 0.636386 |
GradientBasedCorrMaskZeroY | 0.246062 |
GradientBasedCorrMoire | 0.000000 |
GradientBasedCorrSaturation | 0.000000 |
GradientBasedCorrShadows2012 | 0.000000 |
GradientBasedCorrSharpness | 0.000000 |
GradientBasedCorrTemperature | 0.000000 |
GradientBasedCorrTint | 0.000000 |
GradientBasedCorrWhat | Correction |
GrainAmount | 0 |
GreenHue | 0 |
GreenSaturation | 0 |
HasCrop | True |
HasExtendedXMP | A9CB4DA50AFD58A0D8DFB1D722D3ACE2 |
HasSettings | True |
Highlights2012 | -100 |
HueAdjustmentAqua | 0 |
HueAdjustmentBlue | 0 |
HueAdjustmentGreen | 0 |
HueAdjustmentMagenta | 0 |
HueAdjustmentOrange | -20 |
HueAdjustmentPurple | 0 |
HueAdjustmentRed | 0 |
HueAdjustmentYellow | -30 |
HyperfocalDistance | 3.35 m |
ImageHeight | 5911 |
ImageNumber | 0 |
ImageSize | 3941x5911 |
ImageWidth | 3941 |
ISO | 400 |
LateralChromaticAberrationCorrectionAlreadyApplied | True |
Lens | RF24-240mm F4-6.3 IS USM |
LensID (1) | 61182 |
LensID | Canon RF 24-240mm F4-6.3 IS USM |
LensInfo (2) | 24-240mm f/? |
LensInfo | 24-240mm f/0 |
LensManualDistortionAmount | 0 |
LensModel | RF24-240mm F4-6.3 IS USM |
LensProfileChromaticAberrationScale | 100 |
LensProfileDistortionScale | 100 |
LensProfileEnable | 1 |
LensProfileFilename | Canon (Canon RF 24-240mm F4-6.3 IS USM) - RAW.lcp |
LensProfileName | Adobe (Canon RF 24-240mm F4-6.3 IS USM) |
LensProfileSetup | LensDefaults |
LensProfileVignettingScale | 100 |
LensSerialNumber | 0000000000 |
LightValue | 11.3 |
LookAmount | 1.000000 |
LookGroup | Profiles |
LookName | Adobe Color |
LookParametersCameraProfile | Adobe Standard |
LookParametersConvertToGrayscale | False |
LookParametersLookTable | E1095149FDB39D7A057BAB208837E2E1 |
LookParametersProcessVersion | 11.0 |
LookParametersToneCurvePV2012 | 0, 0, 22, 16, 40, 35, 127, 127, 224, 230, 240, 246, 255, 255 |
LookParametersToneCurvePV2012Blue | 0, 0, 255, 255 |
LookParametersToneCurvePV2012Green | 0, 0, 255, 255 |
LookParametersToneCurvePV2012Red | 0, 0, 255, 255 |
LookParametersVersion | 12.3 |
LookSupportsAmount | false |
LookSupportsMonochrome | false |
LookSupportsOutputReferred | false |
LuminanceAdjustmentAqua | 0 |
LuminanceAdjustmentBlue | 0 |
LuminanceAdjustmentGreen | 0 |
LuminanceAdjustmentMagenta | +65 |
LuminanceAdjustmentOrange | +50 |
LuminanceAdjustmentPurple | +100 |
LuminanceAdjustmentRed | 0 |
LuminanceAdjustmentYellow | +50 |
LuminanceNoiseReductionContrast | 0 |
LuminanceNoiseReductionDetail | 50 |
LuminanceSmoothing | 21 |
Make | Canon |
MaxApertureValue | 4.2 |
Megapixels | 23.3 |
MeteringMode | Center-weighted average |
Model | Canon EOS RP |
ModifyDate (1) | 2020:07:06 15:08:50+02:00 |
ModifyDate | 2020:07:06 15:08:50 |
OverrideLookVignette | False |
PaintCorrectionActive | true |
PaintCorrectionAmount | 1.000000 |
PaintCorrectionBrightness | 0.000000 |
PaintCorrectionClarity2012 | 0.000000 |
PaintCorrectionContrast2012 | 0.000000 |
PaintCorrectionCorrectionRangeMaskColorAmount | 0.500000 |
PaintCorrectionCorrectionRangeMaskDepthFeather | 0.500000 |
PaintCorrectionCorrectionRangeMaskDepthMax | 1.000000 |
PaintCorrectionCorrectionRangeMaskDepthMin | 0.000000 |
PaintCorrectionCorrectionRangeMaskLumFeather | 0.500000 |
PaintCorrectionCorrectionRangeMaskLumMax | 1.000000 |
PaintCorrectionCorrectionRangeMaskLumMin | 0.000000 |
PaintCorrectionCorrectionRangeMaskType | 0 |
PaintCorrectionCorrectionRangeMaskVersion | +2 |
PaintCorrectionDefringe | 0.000000 |
PaintCorrectionExposure2012 (1) | 0.170595 |
PaintCorrectionExposure2012 (2) | -0.098262 |
PaintCorrectionExposure2012 (3) | 0.000000 |
PaintCorrectionExposure2012 | -0.170191 |
PaintCorrectionHighlights2012 | 0.000000 |
PaintCorrectionHue | 240.000000 |
PaintCorrectionLocalBlacks2012 | 0.000000 |
PaintCorrectionLocalDehaze | 0.000000 |
PaintCorrectionLocalHue | 0.000000 |
PaintCorrectionLocalTexture | 0.000000 |
PaintCorrectionLocalWhites2012 | 0.000000 |
PaintCorrectionLuminanceNoise | 0.000000 |
PaintCorrectionMaskCenterWeight (18) | 0.045993 |
PaintCorrectionMaskCenterWeight | 0.000000 |
PaintCorrectionMaskFlow (37) | 0.900000 |
PaintCorrectionMaskFlow | 1.000000 |
PaintCorrectionMaskRadius (1) | 0.006679 |
PaintCorrectionMaskRadius (11) | 0.006629 |
PaintCorrectionMaskRadius (12) | 0.006684 |
PaintCorrectionMaskRadius (13) | 0.011689 |
PaintCorrectionMaskRadius (14) | 0.011423 |
PaintCorrectionMaskRadius (15) | 0.011593 |
PaintCorrectionMaskRadius (16) | 0.003633 |
PaintCorrectionMaskRadius (17) | 0.003641 |
PaintCorrectionMaskRadius (18) | 0.006681 |
PaintCorrectionMaskRadius (19) | 0.006837 |
PaintCorrectionMaskRadius (2) | 0.035055 |
PaintCorrectionMaskRadius (20) | 0.003730 |
PaintCorrectionMaskRadius (21) | 0.003754 |
PaintCorrectionMaskRadius (22) | 0.002055 |
PaintCorrectionMaskRadius (23) | 0.002058 |
PaintCorrectionMaskRadius (24) | 0.004624 |
PaintCorrectionMaskRadius (25) | 0.008345 |
PaintCorrectionMaskRadius (26) | 0.008389 |
PaintCorrectionMaskRadius (27) | 0.008442 |
PaintCorrectionMaskRadius (28) | 0.008459 |
PaintCorrectionMaskRadius (29) | 0.008496 |
PaintCorrectionMaskRadius (3) | 0.003263 |
PaintCorrectionMaskRadius (30) | 0.008499 |
PaintCorrectionMaskRadius (31) | 0.008287 |
PaintCorrectionMaskRadius (32) | 0.001066 |
PaintCorrectionMaskRadius (34) | 0.002396 |
PaintCorrectionMaskRadius (35) | 0.002395 |
PaintCorrectionMaskRadius (36) | 0.027859 |
PaintCorrectionMaskRadius (37) | 0.027910 |
PaintCorrectionMaskRadius (38) | 0.027876 |
PaintCorrectionMaskRadius (39) | 0.011567 |
PaintCorrectionMaskRadius (4) | 0.001453 |
PaintCorrectionMaskRadius (40) | 0.011536 |
PaintCorrectionMaskRadius (43) | 0.068523 |
PaintCorrectionMaskRadius (46) | 0.183272 |
PaintCorrectionMaskRadius (48) | 0.115809 |
PaintCorrectionMaskRadius (49) | 0.115686 |
PaintCorrectionMaskRadius (50) | 0.115453 |
PaintCorrectionMaskRadius (6) | 0.002765 |
PaintCorrectionMaskRadius | 0.085863 |
PaintCorrectionMaskValue (49) | 1.000000 |
PaintCorrectionMaskValue | 0.000000 |
PaintCorrectionMaskWhat | Mask/Paint |
PaintCorrectionMoire | 0.000000 |
PaintCorrectionSaturation | 0.000000 |
PaintCorrectionShadows2012 | 0.000000 |
PaintCorrectionSharpness | 0.000000 |
PaintCorrectionTemperature | 0.000000 |
PaintCorrectionTint | 0.000000 |
PaintCorrectionWhat | Correction |
ParametricDarks | -3 |
ParametricHighlights | 0 |
ParametricHighlightSplit | 75 |
ParametricLights | +19 |
ParametricMidtoneSplit | 50 |
ParametricShadows | -29 |
ParametricShadowSplit | 25 |
PerspectiveAspect | 0 |
PerspectiveHorizontal | 0 |
PerspectiveRotate | 0.0 |
PerspectiveScale | 100 |
PerspectiveUpright | 0 |
PerspectiveVertical | 0 |
PerspectiveX | 0.00 |
PerspectiveY | 0.00 |
PostCropVignetteAmount | 0 |
PreservedFileName | IMG_3700.CR3 |
ProcessVersion | 11.0 |
ProfileDescription | sRGB IEC61966-2.1 |
RawFileName | IMG_3700.CR3 |
RecommendedExposureIndex | 400 |
RedHue | 0 |
RedSaturation | 0 |
Rights | jes.Foto |
Saturation | 0 |
SaturationAdjustmentAqua | -48 |
SaturationAdjustmentBlue | -69 |
SaturationAdjustmentGreen | -17 |
SaturationAdjustmentMagenta | 0 |
SaturationAdjustmentOrange | +50 |
SaturationAdjustmentPurple | -60 |
SaturationAdjustmentRed | 0 |
SaturationAdjustmentYellow | -60 |
ScaleFactor35efl | 1.1 |
SceneCaptureType | Standard |
SensitivityType | Recommended Exposure Index |
SerialNumber | 083023001915 |
Shadows2012 | +100 |
ShadowTint | 0 |
SharpenDetail | 40 |
SharpenEdgeMasking | 76 |
SharpenRadius | +1.0 |
Sharpness | 50 |
ShutterSpeed | 1/200 |
ShutterSpeedValue | 1/200 |
Software | Adobe Photoshop Lightroom Classic 9.3 (Macintosh) |
SplitToningBalance | 0 |
SplitToningHighlightHue | 60 |
SplitToningHighlightSaturation | 10 |
SplitToningShadowHue | 200 |
SplitToningShadowSaturation | 20 |
Texture | 0 |
Tint | +16 |
ToneCurve | 0, 0, 255, 255 |
ToneCurveBlue | 0, 0, 255, 255 |
ToneCurveGreen | 0, 0, 255, 255 |
ToneCurveName | Linear |
ToneCurveName2012 | Custom |
ToneCurvePV2012 | 0, 11, 59, 62, 123, 132, 187, 200, 255, 255 |
ToneCurvePV2012Blue | 0, 0, 255, 255 |
ToneCurvePV2012Green | 0, 0, 255, 255 |
ToneCurvePV2012Red | 0, 0, 255, 255 |
ToneCurveRed | 0, 0, 255, 255 |
ToneMapStrength | 0 |
Version | 12.3 |
Vibrance | 0 |
VignetteAmount | 0 |
VignetteCorrectionAlreadyApplied | True |
WhiteBalance (1) | As Shot |
WhiteBalance | Auto |
Whites2012 | +30 |