Felt | Verdi |
AlreadyApplied | True |
Aperture | 16.0 |
ApertureValue | 16.0 |
ApproximateFocusDistance | 4294967295 |
AutoLateralCA | 0 |
BitsPerSample | 8 |
Blacks2012 | +12 |
BlueHue | 0 |
BlueSaturation | 0 |
CameraProfile | Embedded |
CircGradBasedCorrActive | true |
CircGradBasedCorrAmount | 1.000000 |
CircGradBasedCorrBrightness | 0.000000 |
CircGradBasedCorrClarity2012 (1) | 0.754390 |
CircGradBasedCorrClarity2012 | 0.000000 |
CircGradBasedCorrContrast2012 (2) | 0.000000 |
CircGradBasedCorrContrast2012 | -0.060770 |
CircGradBasedCorrCorrectionRangeMaskColorAmount | 0.500000 |
CircGradBasedCorrCorrectionRangeMaskDepthFeather | 0.500000 |
CircGradBasedCorrCorrectionRangeMaskDepthMax | 1.000000 |
CircGradBasedCorrCorrectionRangeMaskDepthMin | 0.000000 |
CircGradBasedCorrCorrectionRangeMaskLumFeather | 0.500000 |
CircGradBasedCorrCorrectionRangeMaskLumMax | 1.000000 |
CircGradBasedCorrCorrectionRangeMaskLumMin | 0.000000 |
CircGradBasedCorrCorrectionRangeMaskType | 0 |
CircGradBasedCorrCorrectionRangeMaskVersion | +2 |
CircGradBasedCorrDefringe | 0.000000 |
CircGradBasedCorrExposure2012 | 0.000000 |
CircGradBasedCorrHighlights2012 (4) | 0.608700 |
CircGradBasedCorrHighlights2012 (5) | 0.701660 |
CircGradBasedCorrHighlights2012 (6) | 0.000000 |
CircGradBasedCorrHighlights2012 (8) | 0.535910 |
CircGradBasedCorrHighlights2012 | 0.348070 |
CircGradBasedCorrHue | 0.000000 |
CircGradBasedCorrLocalBlacks2012 (6) | -0.569060 |
CircGradBasedCorrLocalBlacks2012 (8) | 0.000000 |
CircGradBasedCorrLocalBlacks2012 | 0.100780 |
CircGradBasedCorrLocalDehaze | 0.000000 |
CircGradBasedCorrLocalHue (2) | 0.000000 |
CircGradBasedCorrLocalHue | 0.042587 |
CircGradBasedCorrLocalTexture | 0.000000 |
CircGradBasedCorrLocalWhites2012 (1) | 0.140350 |
CircGradBasedCorrLocalWhites2012 (2) | 0.263160 |
CircGradBasedCorrLocalWhites2012 (3) | 0.035090 |
CircGradBasedCorrLocalWhites2012 (4) | 0.668510 |
CircGradBasedCorrLocalWhites2012 (5) | 0.491710 |
CircGradBasedCorrLocalWhites2012 (6) | 0.303870 |
CircGradBasedCorrLocalWhites2012 (7) | 0.447510 |
CircGradBasedCorrLocalWhites2012 (8) | 0.314920 |
CircGradBasedCorrLocalWhites2012 | -0.260870 |
CircGradBasedCorrLuminanceNoise | 0.000000 |
CircGradBasedCorrMaskAngle (2) | 0.000000 |
CircGradBasedCorrMaskAngle | 24.357000 |
CircGradBasedCorrMaskBottom (1) | 0.714818 |
CircGradBasedCorrMaskBottom (2) | 0.224604 |
CircGradBasedCorrMaskBottom (3) | 0.449208 |
CircGradBasedCorrMaskBottom (4) | 0.594595 |
CircGradBasedCorrMaskBottom (5) | 0.542404 |
CircGradBasedCorrMaskBottom (6) | 0.193424 |
CircGradBasedCorrMaskBottom (7) | 0.203095 |
CircGradBasedCorrMaskBottom (8) | 0.489362 |
CircGradBasedCorrMaskBottom | 0.697387 |
CircGradBasedCorrMaskFeather | +50 |
CircGradBasedCorrMaskFlipped | true |
CircGradBasedCorrMaskLeft (1) | 0.556925 |
CircGradBasedCorrMaskLeft (2) | 0.318921 |
CircGradBasedCorrMaskLeft (3) | 0.620932 |
CircGradBasedCorrMaskLeft (4) | 0.513426 |
CircGradBasedCorrMaskLeft (5) | 0.712281 |
CircGradBasedCorrMaskLeft (6) | 0.335965 |
CircGradBasedCorrMaskLeft (7) | 0.424504 |
CircGradBasedCorrMaskLeft (8) | 0.838826 |
CircGradBasedCorrMaskLeft | 0.671540 |
CircGradBasedCorrMaskMidpoint | +50 |
CircGradBasedCorrMaskRight (1) | 0.799280 |
CircGradBasedCorrMaskRight (2) | 0.709174 |
CircGradBasedCorrMaskRight (3) | 1.262240 |
CircGradBasedCorrMaskRight (4) | 0.597940 |
CircGradBasedCorrMaskRight (5) | 0.865151 |
CircGradBasedCorrMaskRight (6) | 0.508744 |
CircGradBasedCorrMaskRight (7) | 0.721923 |
CircGradBasedCorrMaskRight (8) | 1.134530 |
CircGradBasedCorrMaskRight | 0.768005 |
CircGradBasedCorrMaskRoundness | 0 |
CircGradBasedCorrMaskTop (1) | 0.442684 |
CircGradBasedCorrMaskTop (2) | -0.030755 |
CircGradBasedCorrMaskTop (3) | -0.139795 |
CircGradBasedCorrMaskTop (4) | 0.547996 |
CircGradBasedCorrMaskTop (5) | 0.497670 |
CircGradBasedCorrMaskTop (6) | -0.049000 |
CircGradBasedCorrMaskTop (7) | -0.050935 |
CircGradBasedCorrMaskTop (8) | 0.170857 |
CircGradBasedCorrMaskTop | 0.416732 |
CircGradBasedCorrMaskValue | 1.000000 |
CircGradBasedCorrMaskVersion | +2 |
CircGradBasedCorrMaskWhat | Mask/CircularGradient |
CircGradBasedCorrMoire | 0.000000 |
CircGradBasedCorrSaturation (13) | -0.182320 |
CircGradBasedCorrSaturation (3) | 0.385960 |
CircGradBasedCorrSaturation | 0.000000 |
CircGradBasedCorrShadows2012 | 0.000000 |
CircGradBasedCorrSharpness | 0.000000 |
CircGradBasedCorrTemperature | 0.000000 |
CircGradBasedCorrTint | 0.000000 |
CircGradBasedCorrWhat | Correction |
CircleOfConfusion | 0.008 mm |
Clarity2012 | +19 |
ColorComponents | 3 |
ColorGradeBlending | 50 |
ColorGradeGlobalHue | 0 |
ColorGradeGlobalLum | 0 |
ColorGradeGlobalSat | 0 |
ColorGradeHighlightLum | 0 |
ColorGradeMidtoneHue | 0 |
ColorGradeMidtoneLum | 0 |
ColorGradeMidtoneSat | 0 |
ColorGradeShadowLum | 0 |
ColorNoiseReduction | 0 |
ColorSpace | sRGB |
ColorTransform | YCbCr |
Contrast2012 | -5 |
ConvertToGrayscale | False |
CreateDate (1) | 2015:08:28 13:49:54.86 |
CreateDate | 2015:08:28 13:49:54 |
CreatorTool | Adobe Photoshop Lightroom Classic 10.4 (Windows) |
CropAngle | 0 |
CropBottom | 1 |
CropConstrainToWarp | 0 |
CropLeft | 0.070352 |
CropRight | 1 |
CropTop | 0 |
DateCreated (1) | 2015:08:28 |
DateCreated | 2015:08:28 13:49:54.86 |
DateTimeOriginal | 2015:08:28 13:49:54 |
DefringeGreenAmount | 0 |
DefringeGreenHueHi | 60 |
DefringeGreenHueLo | 40 |
DefringePurpleAmount | 0 |
DefringePurpleHueHi | 70 |
DefringePurpleHueLo | 30 |
Dehaze | 0 |
DistortionCorrectionAlreadyApplied | True |
DOF | inf (1.36 m - inf) |
Exposure2012 | 0.00 |
ExposureCompensation | 0 |
ExposureMode | Manual |
ExposureProgram | Manual |
ExposureTime | 1/100 |
Firmware | 1.1.1 |
Flash | Off, Did not fire |
FlashCompensation | 0 |
FNumber | 16.0 |
FocalLength | 13.0 mm |
FocalLength35efl | 13.0 mm (35 mm equivalent: 50.2 mm) |
Format | image/jpeg |
FOV | 39.4 deg |
GrainAmount | 0 |
GreenHue | 0 |
GreenSaturation | 0 |
HasCrop | True |
HasSettings | True |
HierarchicalSubject | Hauknes |
Highlights2012 | 0 |
HueAdjustmentAqua | 0 |
HueAdjustmentBlue | 0 |
HueAdjustmentGreen | 0 |
HueAdjustmentMagenta | 0 |
HueAdjustmentOrange | 0 |
HueAdjustmentPurple | 0 |
HueAdjustmentRed | 0 |
HueAdjustmentYellow | 0 |
HyperfocalDistance | 1.36 m |
ImageHeight | 1600 |
ImageNumber | 0 |
ImageSize | 2231x1600 |
ImageWidth | 2231 |
IncrementalTemperature | 0 |
IncrementalTint | 0 |
ISO | 400 |
Keywords | Hauknes |
Lens | 10-20mm |
LensID (1) | 137 |
LensID | Sigma 10-20mm f/3.5 EX DC HSM |
LensInfo | 10-20mm f/? |
LensManualDistortionAmount | 0 |
LensModel | 10-20mm |
LensProfileEnable | 0 |
LensSerialNumber | 0000000000 |
LightValue | 12.6 |
LuminanceAdjustmentAqua | 0 |
LuminanceAdjustmentBlue | 0 |
LuminanceAdjustmentGreen | 0 |
LuminanceAdjustmentMagenta | 0 |
LuminanceAdjustmentOrange | 0 |
LuminanceAdjustmentPurple | 0 |
LuminanceAdjustmentRed | 0 |
LuminanceAdjustmentYellow | 0 |
LuminanceSmoothing | 0 |
Make | Canon |
MaxApertureValue | 3.5 |
Megapixels | 3.6 |
MeteringMode | Spot |
Model | Canon EOS 70D |
ModifyDate (1) | 2021:09:06 21:05:12+02:00 |
ModifyDate | 2021:09:06 21:05:12 |
OverrideLookVignette | False |
ParametricDarks | 0 |
ParametricHighlights | 0 |
ParametricHighlightSplit | 75 |
ParametricLights | 0 |
ParametricMidtoneSplit | 50 |
ParametricShadows | 0 |
ParametricShadowSplit | 25 |
PerspectiveAspect | 0 |
PerspectiveHorizontal | 0 |
PerspectiveRotate | 0.0 |
PerspectiveScale | 100 |
PerspectiveUpright | 0 |
PerspectiveVertical | 0 |
PerspectiveX | 0.00 |
PerspectiveY | 0.00 |
PhotographicSensitivity | 400 |
PostCropVignetteAmount | 0 |
PreservedFileName | Hauknes_0560_HDR.tif |
ProcessVersion | 11.0 |
ProfileDescription | sRGB IEC61966-2.1 |
Rating | 5 |
RawFileName | |
RedHue | 0 |
RedSaturation | 0 |
Saturation | 0 |
SaturationAdjustmentAqua | 0 |
SaturationAdjustmentBlue | 0 |
SaturationAdjustmentGreen | 0 |
SaturationAdjustmentMagenta | 0 |
SaturationAdjustmentOrange | -33 |
SaturationAdjustmentPurple | 0 |
SaturationAdjustmentRed | 0 |
SaturationAdjustmentYellow | 0 |
ScaleFactor35efl | 3.9 |
SceneCaptureType | Standard |
SerialNumber | 083024006302 |
Shadows2012 | +63 |
ShadowTint | 0 |
Sharpness | 0 |
ShutterSpeed | 1/100 |
ShutterSpeedValue | 1/100 |
Software | Adobe Photoshop Lightroom Classic 10.4 (Windows) |
SplitToningBalance | 0 |
SplitToningHighlightHue | 0 |
SplitToningHighlightSaturation | 0 |
SplitToningShadowHue | 0 |
SplitToningShadowSaturation | 0 |
Subject | Hauknes |
Texture | 0 |
ToneCurveName2012 | Linear |
ToneCurvePV2012 | 0, 0, 255, 255 |
ToneCurvePV2012Blue | 0, 0, 255, 255 |
ToneCurvePV2012Green | 0, 0, 255, 255 |
ToneCurvePV2012Red | 0, 0, 255, 255 |
Version | 13.3 |
Vibrance | 0 |
VignetteAmount | 0 |
VignetteCorrectionAlreadyApplied | True |
WhiteBalance (1) | As Shot |
WhiteBalance | Auto |
Whites2012 | 0 |