Felt | Verdi |
AELock | On |
AFAreas | (115,117)-(138,137) |
AFFineTune | Off |
AFFineTuneAdj | 0 0 0 |
AFPoint | Left (or n/a) |
AFPointSelected | (49%,49%) (49%,49%) |
AFSearch | Ready |
AlreadyApplied | True |
Aperture | 3.5 |
ApertureValue | 3.5 |
ArtFilter | Off; 0; 0; 0 |
ArtFilterEffect | Off; 0; 0; Partial Color 0; No Effect; 0; No Color Filter; 0; 0; 0; 0; 0; 0; 0; 0; 0; 0; 0; 0; 0 |
AspectFrame | 0 0 4607 3455 |
AspectRatio | 4:3 |
AutoLateralCA | 0 |
AutoWhiteVersion | 134348800 |
BitsPerSample | 8 |
BlackLevel2 | 254 254 254 254 |
Blacks2012 | 0 |
BlueBalance | 1.75 |
BlueHue | 0 |
BlueSaturation | 0 |
BodyFirmwareVersion | 1.103 |
CameraID | OLYMPUS DIGITAL CAMERA |
CameraProfile | Camera Portrait |
CameraSettingsVersion | 0100 |
CameraTemperature | 7 |
CameraType2 | E-M10MarkII |
CFAPattern | [Red,Green][Green,Blue] |
CircleOfConfusion | 0.015 mm |
Clarity2012 | +12 |
ColorComponents | 3 |
ColorCreatorEffect | Color 0; 0; 29; Strength 0; -4; 3 |
ColorMatrix | 428 -140 -32 -68 380 -56 14 -128 370 |
ColorNoiseReduction | 25 |
ColorNoiseReductionDetail | 50 |
ColorNoiseReductionSmoothness | 50 |
ColorSpace | sRGB |
ColorTemperature | 5350 |
Contrast | Normal |
Contrast2012 | 0 |
ContrastSetting | 0 (min -5, max 5) |
ConversionLens | |
ConvertToGrayscale | False |
CreateDate | 2018:08:01 13:23:15 |
CreatorTool | DxO PhotoLab 6.3.1 |
CropAngle | 0.519074 |
CropBottom | 0.97588 |
CropConstrainToWarp | 0 |
CropHeight | 3456 |
CropLeft (1) | 8 0 |
CropLeft | 0.009147 |
CropRight | 0.990839 |
CropTop (1) | 8 0 |
CropTop | 0.02613 |
CropWidth | 4608 |
CustomRendered | Normal |
CustomSaturation | 0 (min -5, max 5) |
DateCreated | 2018:08:01 13:23:15 |
DateTimeOriginal (1) | 2018:08:01 13:23:15+00:00 |
DateTimeOriginal | 2018:08:01 13:23:15 |
DateTimeUTC | 2018:08:01 11:23:15 |
DefringeGreenAmount | 0 |
DefringeGreenHueHi | 60 |
DefringeGreenHueLo | 40 |
DefringePurpleAmount | 0 |
DefringePurpleHueHi | 70 |
DefringePurpleHueLo | 30 |
Dehaze | 0 |
Description | OLYMPUS DIGITAL CAMERA |
DigitalZoomRatio | 1 |
DistortionCorrection | Off |
DistortionCorrection2 | Off |
DOF | 9.83 m (4.18 - 14.01 m) |
DriveMode | Continuous Shooting, Shot 1; Electronic shutter |
EquipmentVersion | 0100 |
ExifImageHeight (1) | 3456 |
ExifImageHeight | 1500 |
ExifImageWidth (1) | 4608 |
ExifImageWidth | 2000 |
Exposure2012 | 0.00 |
ExposureCompensation | 0 |
ExposureMode (1) | Aperture-priority AE |
ExposureMode | Auto |
ExposureProgram | Aperture-priority AE |
ExposureShift | 0 |
ExposureTime | 1/2500 |
ExtendedWBDetect | Off |
Extender | None |
ExtenderFirmwareVersion | 0 |
ExtenderModel | |
ExtenderSerialNumber | |
ExtenderStatus | Not attached |
ExternalFlash | Off |
ExternalFlashBounce | Bounce or Off |
ExternalFlashZoom | 0 |
FaceDetectFrameCrop | 0 0 640 480 0 0 640 480 0 0 0 0 |
FaceDetectFrameSize | 640 480 640 480 0 0 |
FacesDetected | 0 0 0 |
Flash | Auto, Did not fire |
FlashCompensation | 0 |
FlashControlMode | Off; 0; 0; 0 |
FlashExposureComp | 0 |
FlashFired | False |
FlashFirmwareVersion | 0 |
FlashFunction | False |
FlashIntensity | n/a (x4) |
FlashMode (1) | Auto |
FlashMode | Off |
FlashModel | None |
FlashRedEyeMode | False |
FlashRemoteControl | Off |
FlashReturn | No return detection |
FlashSerialNumber | |
FlashType | None |
FNumber | 3.5 |
FocalLength | 25.0 mm |
FocalLength35efl | 25.0 mm (35 mm equivalent: 50.0 mm) |
FocalLengthIn35mmFormat | 50 mm |
FocusDistance | 6.445 m |
FocusInfoVersion | 0100 |
FocusMode | Single AF; S-AF, Imager AF |
FocusProcess | AF Used; 64 |
FocusStepCount | 489 |
FocusStepInfinity | 0 |
FocusStepNear | 0 |
Format | image/x-olympus-raw |
FOV | 39.5 deg (4.62 m) |
GainBase | 256 |
GainControl | Low gain up |
GPSVersionID | 2.3.0.0 |
Gradation | Normal; User-Selected |
GrainAmount | 0 |
GreenHue | 0 |
GreenSaturation | 0 |
HasCrop | True |
HasSettings | True |
HierarchicalSubject | Herføl, Hvaler |
Highlights2012 | 0 |
HueAdjustmentAqua | 0 |
HueAdjustmentBlue | 0 |
HueAdjustmentGreen | 0 |
HueAdjustmentMagenta | 0 |
HueAdjustmentOrange | 0 |
HueAdjustmentPurple | 0 |
HueAdjustmentRed | 0 |
HueAdjustmentYellow | 0 |
HyperfocalDistance | 11.89 m |
ImageDescription | OLYMPUS DIGITAL CAMERA |
ImageHeight (1) | 3456 |
ImageHeight | 1500 |
ImageProcessingVersion | 0112 |
ImageSize | 2000x1500 |
ImageStabilization | On, Mode 4 |
ImageWidth (1) | 4608 |
ImageWidth | 2000 |
InternalFlash | Off |
InternalSerialNumber | 4173510059036001 |
ISO | 200 |
KeystoneCompensation | Off |
KeystoneDirection | Vertical |
KeystoneValue | 0 -20 20 |
Lens | LUMIX G 25/F1.7 |
LensFirmwareVersion | 1.000 |
LensID | Lumix G 25mm F1.7 Asph. |
LensInfo | 25mm f/1.7 |
LensManualDistortionAmount | 0 |
LensModel | LUMIX G 25/F1.7 |
LensProfileEnable | 0 |
LensProfileSetup | LensDefaults |
LensProperties | 0x4100 |
LensSerialNumber | 05JX4092204E |
LensType | Lumix G 25mm F1.7 Asph. |
LightSource | Unknown |
LightValue | 13.9 |
LuminanceAdjustmentAqua | 0 |
LuminanceAdjustmentBlue | 0 |
LuminanceAdjustmentGreen | 0 |
LuminanceAdjustmentMagenta | 0 |
LuminanceAdjustmentOrange | 0 |
LuminanceAdjustmentPurple | 0 |
LuminanceAdjustmentRed | 0 |
LuminanceAdjustmentYellow | 0 |
LuminanceSmoothing | 0 |
MacroLED | Off |
MacroMode | Off |
Make | OLYMPUS CORPORATION |
ManometerPressure | 0 kPa |
ManometerReading | 0 m, 0 ft |
ManualFlash | Off |
ManualFlashStrength | n/a (x4) |
MaxAperture | 1.8 |
MaxApertureAtMaxFocal | 1.7 |
MaxApertureAtMinFocal | 1.7 |
MaxApertureValue | 1.7 |
MaxFaces | 8 8 0 |
MaxFocalLength | 25 |
Megapixels | 3.0 |
MeteringMode (2) | Multi-segment |
MeteringMode | ESP |
MinFocalLength | 25 |
Model | E-M10MarkII |
ModifiedSaturation | Off |
ModifyDate (1) | 2023:02:16 00:01:52+01:00 |
ModifyDate | 2023:02:16 00:01:52 |
MultipleExposureMode | Off; 1 |
NoiseFilter | Standard |
NoiseReduction | Auto |
NoiseReduction2 | (none) |
Orientation | Horizontal (normal) |
PanoramaMode | Off |
ParametricDarks | 0 |
ParametricHighlights | 0 |
ParametricHighlightSplit | 75 |
ParametricLights | 0 |
ParametricMidtoneSplit | 50 |
ParametricShadows | 0 |
ParametricShadowSplit | 25 |
PerspectiveAspect | 0 |
PerspectiveHorizontal | 0 |
PerspectiveRotate | 0.0 |
PerspectiveScale | 100 |
PerspectiveUpright | 0 |
PerspectiveVertical | 0 |
PerspectiveX | 0.00 |
PerspectiveY | 0.00 |
PictureMode | Natural; 2 |
PictureModeBWFilter | n/a |
PictureModeContrast | 0 (min -2, max 2) |
PictureModeEffect | Standard |
PictureModeSaturation | 0 (min -2, max 2) |
PictureModeSharpness | 0 (min -2, max 2) |
PictureModeTone | n/a |
PostCropVignetteAmount | 0 |
PrintIMVersion | 0300 |
ProcessVersion | 6.7 |
Rating | 0 |
RatingPercent | 0 |
RawDevColorSpace | sRGB |
RawDevContrastValue | 0 0 0 |
RawDevEditStatus | Original |
RawDevEngine | High Speed |
RawDevExposureBiasValue | 0 |
RawDevGrayPoint | 0 0 0 |
RawDevMemoryColorEmphasis | 0 |
RawDevNoiseReduction | (none) |
RawDevSaturationEmphasis | 0 0 0 |
RawDevSettings | (none) |
RawDevSharpnessValue | 0 0 0 |
RawDevVersion | 0100 |
RawDevWBFineAdjustment | 0 |
RawDevWhiteBalanceValue | 0 |
RawFileName | P8010049.ORF |
RedBalance | 1.953125 |
RedHue | 0 |
RedSaturation | 0 |
Saturation (2) | -7 |
Saturation | Normal |
SaturationAdjustmentAqua | 0 |
SaturationAdjustmentBlue | 0 |
SaturationAdjustmentGreen | 0 |
SaturationAdjustmentMagenta | 0 |
SaturationAdjustmentOrange | 0 |
SaturationAdjustmentPurple | 0 |
SaturationAdjustmentRed | 0 |
SaturationAdjustmentYellow | 0 |
ScaleFactor35efl | 2.0 |
SceneCaptureType | Standard |
SceneDetect | 0 |
SceneMode | Standard |
SensitivityType (1) | 1 |
SensitivityType | Standard Output Sensitivity |
SensorCalibration | 4086 256 |
SensorTemperature | 47 47 0 C |
SerialNumber | BHLA27819 |
ShadingCompensation | Off |
ShadingCompensation2 | Off |
Shadows2012 | 0 |
ShadowTint | 0 |
SharpenDetail | 25 |
SharpenEdgeMasking | 19 |
SharpenRadius | +1.2 |
Sharpness (2) | 25 |
Sharpness | Normal |
SharpnessSetting | 0 (min -5, max 5) |
ShutterSpeed | 1/2500 |
ShutterSpeedValue | 1/2500 |
SidecarForExtension | ORF |
Software | DxO PhotoLab 6.3.1 |
SpecialMode | Fast, Sequence: 1, Panorama: (none) |
SplitToningBalance | 0 |
SplitToningHighlightHue | 0 |
SplitToningHighlightSaturation | 0 |
SplitToningShadowHue | 0 |
SplitToningShadowSaturation | 0 |
StackedImage | No |
Subject | Herføl, Hvaler |
SubjectDistance | 6.445 m |
Tint | +7 |
ToneCurve | 0, 0, 32, 22, 64, 56, 128, 128, 192, 196, 255, 255 |
ToneCurveBlue | 0, 0, 255, 255 |
ToneCurveGreen | 0, 0, 255, 255 |
ToneCurveName | Medium Contrast |
ToneCurveName2012 | Linear |
ToneCurvePV2012 | 0, 0, 255, 255 |
ToneCurvePV2012Blue | 0, 0, 255, 255 |
ToneCurvePV2012Green | 0, 0, 255, 255 |
ToneCurvePV2012Red | 0, 0, 255, 255 |
ToneCurveRed | 0, 0, 255, 255 |
ToneLevel | Highlights; 0; -7; 7; Shadows; 0; -7; 7; 0; 0; 0; 0; 0; 0; 0; 0; 0; 0; 0; 0; 0; 0; 0; 0; 0; 0; 0; 0 |
ToneMapStrength | 0 |
UserComment | |
ValidBits | 12 0 |
Version | 9.12 |
Vibrance | +14 |
VignetteAmount | 0 |
WB_RBLevels | 500 448 256 256 |
WB_RBLevels3000K | 294 880 256 256 |
WB_RBLevels3300K | 354 688 256 256 |
WB_RBLevels3600K | 378 632 256 256 |
WB_RBLevels3900K | 398 588 256 256 |
WB_RBLevels4000K | 488 690 256 256 |
WB_RBLevels4300K | 422 552 256 256 |
WB_RBLevels4500K | 476 546 256 256 |
WB_RBLevels4800K | 454 506 256 256 |
WB_RBLevels5300K | 480 470 256 256 |
WB_RBLevels6000K | 518 426 256 256 |
WB_RBLevels6600K | 550 438 256 256 |
WB_RBLevels7500K | 560 368 256 256 |
WB_RBLevelsCWB1 | 384 384 256 256 |
WB_RBLevelsCWB2 | 384 384 256 256 |
WB_RBLevelsCWB3 | 384 384 256 256 |
WB_RBLevelsCWB4 | 384 384 256 256 |
WhiteBalance (2) | As Shot |
WhiteBalance | Auto |
WhiteBalance2 | Auto (Keep Warm Color Off) |
WhiteBalanceBracket | 0 0 |
WhiteBalanceTemperature | Auto |
Whites2012 | 0 |
ZoomStepCount | 0 |