Felt | Verdi |
AlreadyApplied | True |
Aperture | 5.6 |
ApertureValue | 5.6 |
Artist | JON MAGNE FJELDSTAD |
AuthorsPosition | PHOTOGRAPHER |
AutoContrast | True |
AutoExposure | True |
AutoGrayscaleWeights | True |
AutoShadows | True |
BitsPerSample (1) | 8, 8, 8 |
BitsPerSample (2) | 8 8 8 |
BitsPerSample | 8 |
BlueHue | 0 |
BlueSaturation | 0 |
Brightness | 50 |
By-line | JON MAGNE FJELDSTAD |
By-lineTitle | PHOTOGRAPHER |
CameraProfile | ACR 3.1 |
Caption-Abstract | YELLOWSTONE NATIONAL PARK - WYOMING |
CFAPattern | [Green,Red][Blue,Green] |
ChromaticAberrationB | 0 |
ChromaticAberrationR | 0 |
CircleOfConfusion | 0.020 mm |
ColorComponents | 3 |
ColorMode | RGB |
ColorNoiseReduction | 25 |
ColorSpace | sRGB |
ColorTemperature | 5350 |
Contrast (2) | +49 |
Contrast | Normal |
ConvertToGrayscale | False |
Copyright | ©2006 JON FJELDSTAD/FOTOARKIVET.NO |
CopyrightFlag | True |
CopyrightNotice | ©2006 JON FJELDSTAD/FOTOARKIVET.NO |
CreateDate (1) | 2007:03:18 21:43:52+01:00 |
CreateDate | 2005:07:08 01:11:24 |
Creator | JON MAGNE FJELDSTAD |
CreatorAddress | SVENESVEIEN 22 |
CreatorCity | KNARREVIK |
CreatorCountry | NORWAY |
CreatorPostalCode | 5355 |
CreatorTool (1) | Ver.1.01 |
CreatorTool | Adobe Photoshop CS3 (10.0x20061208 [20061208.beta.1251 2006/12/08:02:00:00 cutoff; m branch]) Macintosh |
CreatorWorkEmail | fotoarkivet@mac.com |
CreatorWorkTelephone | +47 56 33 16 03/926 99 126 |
CreatorWorkURL | http://www.fotoarkivet.no |
CustomRendered | Custom |
DateTimeDigitized | 2005:07:08 01:11:24+02:00 |
DateTimeOriginal (1) | 2005:07:08 01:11:24+02:00 |
DateTimeOriginal | 2005:07:08 01:11:24 |
Description | YELLOWSTONE NATIONAL PARK - WYOMING |
DigitalZoomRatio | 1 |
ExifImageHeight | 528 |
ExifImageWidth | 777 |
Exposure | +0.55 |
ExposureCompensation | 0 |
ExposureMode | Manual |
ExposureProgram | Manual |
ExposureTime | 1/160 |
FillLight | 3 |
Flash | No Flash |
FlashFired | False |
FlashFunction | False |
FlashMode | Unknown |
FlashRedEyeMode | False |
FlashReturn | No return detection |
FNumber | 5.6 |
FocalLength | 180.0 mm |
FocalLength35efl | 180.0 mm (35 mm equivalent: 270.0 mm) |
FocalLengthIn35mmFormat | 270 mm |
Format | image/jpeg |
FOV | 7.6 deg |
GainControl | None |
GreenHue | 0 |
GreenSaturation | 0 |
HasCrop | False |
HasSettings | True |
HighlightRecovery | 8 |
HueAdjustmentAqua | 0 |
HueAdjustmentBlue | 0 |
HueAdjustmentGreen | 0 |
HueAdjustmentMagenta | 0 |
HueAdjustmentOrange | 0 |
HueAdjustmentPurple | 0 |
HueAdjustmentRed | 0 |
HueAdjustmentYellow | 0 |
HyperfocalDistance | 288.84 m |
ICCProfileName | sRGB IEC61966-2.1 |
ImageDescription | YELLOWSTONE NATIONAL PARK - WYOMING |
ImageHeight (2) | 2641 |
ImageHeight | 528 |
ImageSize | 777x528 |
ImageWidth (2) | 4038 |
ImageWidth | 777 |
IncrementalTemperature | 0 |
IncrementalTint | 0 |
ISO | 200 |
Keywords | yellowstone national park wyoming |
Lens | 70.0-180.0 mm f/4.5-5.6 |
LensInfo | 70-180mm f/4.5-5.6 |
LightSource | Unknown |
LightValue | 11.3 |
LuminanceAdjustmentAqua | 0 |
LuminanceAdjustmentBlue | 0 |
LuminanceAdjustmentGreen | 0 |
LuminanceAdjustmentMagenta | 0 |
LuminanceAdjustmentOrange | 0 |
LuminanceAdjustmentPurple | 0 |
LuminanceAdjustmentRed | 0 |
LuminanceAdjustmentYellow | 0 |
LuminanceSmoothing | 0 |
Make | NIKON CORPORATION |
Marked | True |
MaxApertureValue | 5.7 |
Megapixels | 0.410 |
MeteringMode | Multi-segment |
Model | NIKON D100 |
ModifyDate (1) | 2007:03:18 21:43:52+01:00 |
ModifyDate | 2007:03:18 21:43:52 |
ObjectName | YELLOWSTONE NATIONAL PARK |
Orientation | Horizontal (normal) |
ParametricDarks | 0 |
ParametricHighlights | 0 |
ParametricHighlightSplit | 75 |
ParametricLights | 0 |
ParametricMidtoneSplit | 50 |
ParametricShadows | 0 |
ParametricShadowSplit | 25 |
PhotometricInterpretation | RGB |
PlanarConfiguration | Chunky |
ProfileDescription | sRGB IEC61966-2.1 |
Rating | 3 |
RawFileName | DSC_8800.dng |
RedHue | 0 |
RedSaturation | 0 |
Rights | ©2006 JON FJELDSTAD/FOTOARKIVET.NO |
SamplesPerPixel | 3 |
Saturation (2) | +10 |
Saturation | Normal |
SaturationAdjustmentAqua | 0 |
SaturationAdjustmentBlue | 0 |
SaturationAdjustmentGreen | 0 |
SaturationAdjustmentMagenta | 0 |
SaturationAdjustmentOrange | 0 |
SaturationAdjustmentPurple | 0 |
SaturationAdjustmentRed | 0 |
SaturationAdjustmentYellow | 0 |
ScaleFactor35efl | 1.5 |
SceneCaptureType | Standard |
SceneType | Directly photographed |
SensingMethod | One-chip color area |
Shadows | 12 |
ShadowTint | 0 |
Sharpness (2) | 25 |
Sharpness | Normal |
ShutterSpeed | 1/160 |
ShutterSpeedValue | 1/160 |
Software | Adobe Photoshop CS3 (10.0x20061208 [20061208.beta.1251 2006/12/08:02:00:00 cutoff; m branch]) Macintosh |
SplitToningBalance | 0 |
SplitToningHighlightHue | 0 |
SplitToningHighlightSaturation | 0 |
SplitToningShadowHue | 0 |
SplitToningShadowSaturation | 0 |
Subject | yellowstone national park wyoming |
SubjectDistanceRange | Unknown |
Tint | +2 |
Title | YELLOWSTONE NATIONAL PARK |
ToneCurve | 0, 0, 32, 22, 64, 56, 128, 128, 192, 196, 255, 255 |
ToneCurveName | Linear |
URL | http://www.fotoarkivet.no |
URL_List | |
UsageTerms | Utleie av bilder gjelder for en gangs bruk om ikke annet er avtalt.
Version | 4.0x168 |
Vibrance | 0 |
VignetteAmount | 0 |
WebStatement | http://www.fotoarkivet.no |
WhiteBalance (2) | As Shot |
WhiteBalance | Auto |