Felt | Verdi |
AlreadyApplied | True |
Aperture | 5.0 |
ApertureValue | 5.0 |
BitsPerSample | 8 |
BlueHue | -3 |
BlueSaturation | -19 |
Brightness | +59 |
CameraProfile | Embedded |
ChromaticAberrationB | 0 |
ChromaticAberrationR | 0 |
CircleOfConfusion | 0.019 mm |
ColorComponents | 3 |
ColorMode | RGB |
ColorNoiseReduction | 25 |
ColorSpace (1) | Unknown (-1) |
ColorSpace | Uncalibrated |
ColorTemperature | 5750 |
Contrast | +30 |
ConvertToGrayscale | False |
CopyrightFlag | False |
CreateDate (1) | 2008:09:26 13:34:16+02:00 |
CreateDate | 2008:09:25 12:56:50 |
CreatorTool | Adobe Photoshop CS3 Windows |
CropAngle | 0 |
CropBottom | 0.944552 |
CropHeight | 3 |
CropLeft | 0.012853 |
CropRight | 0.957405 |
CropTop | 0 |
CropUnit | Unknown (3) |
CropWidth | 2 |
CustomRendered | Normal |
DateTimeDigitized | 2008:09:25 12:56:50.70+02:00 |
DateTimeOriginal (1) | 2008:09:25 12:56:50.70+02:00 |
DateTimeOriginal | 2008:09:25 12:56:50 |
ExifImageHeight | 3664 |
ExifImageWidth | 2344 |
Exposure | 0.00 |
ExposureCompensation | 0 |
ExposureMode | Manual |
ExposureProgram | Manual |
ExposureTime | 1/800 |
FillLight | 19 |
Firmware | 1.0.5 |
Flash | Off, Did not fire |
FlashCompensation | 0 |
FlashFired | False |
FlashFunction | False |
FlashMode | Off |
FlashRedEyeMode | False |
FlashReturn | No return detection |
FNumber | 5.0 |
FocalLength | 41.0 mm |
FocalLength35efl | 41.0 mm (35 mm equivalent: 66.4 mm) |
Format | image/jpeg |
FOV | 30.3 deg |
GreenHue | -3 |
GreenSaturation | -1 |
HasCrop | True |
HasSettings | True |
HighlightRecovery | 0 |
HueAdjustmentAqua | +6 |
HueAdjustmentBlue | +6 |
HueAdjustmentGreen | +6 |
HueAdjustmentMagenta | +35 |
HueAdjustmentOrange | -3 |
HueAdjustmentPurple | +3 |
HueAdjustmentRed | -12 |
HueAdjustmentYellow | -20 |
HyperfocalDistance | 18.11 m |
ICCProfileName | Adobe RGB (1998) |
ImageHeight | 3664 |
ImageNumber | 0 |
ImageSize | 2344x3664 |
ImageWidth | 2344 |
ISO | 100 |
Lens | EF-S17-85mm f/4-5.6 IS USM |
LensInfo | 17-85mm f/? |
LightValue | 14.3 |
LuminanceAdjustmentAqua | -53 |
LuminanceAdjustmentBlue | -7 |
LuminanceAdjustmentGreen | 0 |
LuminanceAdjustmentMagenta | 0 |
LuminanceAdjustmentOrange | -13 |
LuminanceAdjustmentPurple | -33 |
LuminanceAdjustmentRed | +37 |
LuminanceAdjustmentYellow | +2 |
LuminanceSmoothing | 0 |
Make | Canon |
MaxApertureValue | 5.2 |
Megapixels | 8.6 |
MeteringMode | Multi-segment |
Model | Canon EOS 40D |
ModifyDate (1) | 2008:09:26 13:34:16+02:00 |
ModifyDate | 2008:09:26 13:34:16 |
Orientation | Horizontal (normal) |
ParametricDarks | -6 |
ParametricHighlights | -11 |
ParametricHighlightSplit | 75 |
ParametricLights | -19 |
ParametricMidtoneSplit | 50 |
ParametricShadows | +3 |
ParametricShadowSplit | 25 |
ProfileDescription | Adobe RGB (1998) |
Rating | 3 |
RawFileName | IMG_5956.dng |
RedHue | -1 |
RedSaturation | -2 |
Saturation | -3 |
SaturationAdjustmentAqua | +9 |
SaturationAdjustmentBlue | +8 |
SaturationAdjustmentGreen | +10 |
SaturationAdjustmentMagenta | 0 |
SaturationAdjustmentOrange | +13 |
SaturationAdjustmentPurple | +3 |
SaturationAdjustmentRed | +98 |
SaturationAdjustmentYellow | -23 |
ScaleFactor35efl | 1.6 |
SceneCaptureType | Standard |
SerialNumber | 930523664 |
Shadows | 3 |
ShadowTint | +3 |
Sharpness | 25 |
ShutterSpeed | 1/800 |
ShutterSpeedValue | 1/800 |
Software | Adobe Photoshop CS3 Windows |
SplitToningBalance | 0 |
SplitToningHighlightHue | 20 |
SplitToningHighlightSaturation | 8 |
SplitToningShadowHue | 237 |
SplitToningShadowSaturation | 2 |
TimeZoneOffset | 2 2 |
Tint | -37 |
ToneCurve | 0, 0, 32, 22, 64, 56, 128, 128, 192, 196, 255, 255 |
ToneCurveName | Medium Contrast |
URL_List | |
Version | 4.0 |
Vibrance | -15 |
VignetteAmount | -80 |
VignetteMidpoint | 45 |
WhiteBalance (2) | Custom |
WhiteBalance | Auto |