Felt | Verdi |
AlreadyApplied | True |
Aperture | 2.2 |
ApertureValue | 2.2 |
BitsPerSample (1) | 8, 8, 8 |
BitsPerSample (2) | 8 8 8 |
BitsPerSample | 8 |
BlueHue | 0 |
BlueSaturation | 0 |
Brightness | +64 |
CameraProfile | ACR 4.4 |
Caption-Abstract | © Svein Olav Kvinge 2008 |
CFAPattern | [Green,Blue][Red,Green] |
ChromaticAberrationB | 0 |
ChromaticAberrationR | 0 |
CircleOfConfusion | 0.020 mm |
Clarity | -10 |
ColorComponents | 1 |
ColorMode | RGB |
ColorNoiseReduction | 25 |
ColorSpace | sRGB |
ColorTemperature | 4700 |
Contrast (2) | +100 |
Contrast | Normal |
ConvertToGrayscale | True |
CopyrightFlag | False |
CreateDate (1) | 2008:11:29 00:15:59+01:00 |
CreateDate | 2008:11:25 14:14:47 |
CreatorTool | Adobe Photoshop CS3 Windows |
CropAngle | -0.133511 |
CropBottom | 0.739592 |
CropHeight | 1860 |
CropLeft | 0.039555 |
CropRight | 0.758084 |
CropTop | 0.02468 |
CropUnit | pixels |
CropWidth | 2778 |
CustomRendered | Normal |
DateTimeDigitized | 2008:11:25 14:14:47.70+01:00 |
DateTimeOriginal (1) | 2008:11:25 14:14:47.70+01:00 |
DateTimeOriginal | 2008:11:25 14:14:47 |
Defringe | 0 |
Description | © Svein Olav Kvinge 2008 |
DigitalZoomRatio | 1 |
ExifImageHeight | 904 |
ExifImageWidth | 1350 |
Exposure | 0.00 |
ExposureCompensation | +1 |
ExposureMode | Auto |
ExposureProgram | Aperture-priority AE |
ExposureTime | 1/4000 |
FillLight | 0 |
Flash | No Flash |
FlashFired | False |
FlashFunction | False |
FlashMode | Unknown |
FlashRedEyeMode | False |
FlashReturn | No return detection |
FNumber | 2.2 |
FocalLength | 50.0 mm |
FocalLength35efl | 50.0 mm (35 mm equivalent: 75.0 mm) |
FocalLengthIn35mmFormat | 75 mm |
Format | image/jpeg |
FOV | 27.0 deg |
GainControl | None |
GrayMixerAqua | +100 |
GrayMixerBlue | +100 |
GrayMixerGreen | -26 |
GrayMixerMagenta | +100 |
GrayMixerOrange | +100 |
GrayMixerPurple | +100 |
GrayMixerRed | 0 |
GrayMixerYellow | 0 |
GreenHue | 0 |
GreenSaturation | 0 |
HasCrop | True |
HasSettings | True |
HierarchicalSubject | strå vinter snø |
HighlightRecovery | 0 |
HyperfocalDistance | 56.73 m |
ICCProfileName | sRGB IEC61966-2.1 |
ImageDescription | © Svein Olav Kvinge 2008 |
ImageHeight (2) | 1860 |
ImageHeight | 904 |
ImageNumber | 2797 |
ImageSize | 1350x904 |
ImageWidth (2) | 2778 |
ImageWidth | 1350 |
ISO | 100 |
Keywords | strå vinter snø |
Lens | 50.0 mm f/1.8 |
LensInfo | 50mm f/1.8 |
LightSource | Unknown |
LightValue | 14.2 |
LuminanceSmoothing | 0 |
Make | NIKON CORPORATION |
MaxApertureValue | 1.7 |
Megapixels | 1.2 |
MeteringMode | Center-weighted average |
Model | NIKON D80 |
ModifyDate (1) | 2008:11:29 00:15:59+01:00 |
ModifyDate | 2008:11:29 00:15:59 |
Orientation | Horizontal (normal) |
ParametricDarks | -19 |
ParametricHighlights | +31 |
ParametricHighlightSplit | 75 |
ParametricLights | 0 |
ParametricMidtoneSplit | 50 |
ParametricShadows | +14 |
ParametricShadowSplit | 25 |
PhotometricInterpretation | RGB |
PlanarConfiguration | Chunky |
PostCropVignetteAmount | 0 |
ProfileDescription | sRGB IEC61966-2.1 |
RedHue | 0 |
RedSaturation | 0 |
SamplesPerPixel | 3 |
Saturation | Normal |
ScaleFactor35efl | 1.5 |
SceneCaptureType | Standard |
SceneType | Directly photographed |
SensingMethod | One-chip color area |
SerialNumber | 4446285 |
Shadows | 5 |
ShadowTint | 0 |
SharpenDetail | 25 |
SharpenEdgeMasking | 0 |
SharpenRadius | +1.0 |
Sharpness (2) | 25 |
Sharpness | Normal |
ShutterSpeed | 1/4000 |
ShutterSpeedValue | 1/4000 |
Software | Adobe Photoshop CS3 Windows |
SplitToningBalance | 0 |
SplitToningHighlightHue | 0 |
SplitToningHighlightSaturation | 0 |
SplitToningShadowHue | 0 |
SplitToningShadowSaturation | 0 |
Subject | strå vinter snø |
SubjectDistanceRange | Unknown |
Tint | +2 |
ToneCurve | 0, 0, 32, 22, 64, 56, 128, 128, 192, 196, 255, 255 |
ToneCurveName | Medium Contrast |
URL_List | |
Version | 4.6 |
VignetteAmount | 0 |
WhiteBalance (2) | As Shot |
WhiteBalance | Auto |