Felt | Verdi |
AlreadyApplied | True |
Aperture | 5.6 |
ApertureValue | 5.6 |
Artist | Eric Fagerheim |
BitsPerSample | 8 |
BlueHue | +11 |
BlueSaturation | -21 |
Brightness | +50 |
By-line | Eric Fagerheim |
CameraProfile | ACR 2.4 |
CFAPattern | [Blue,Green][Green,Red] |
ChromaticAberrationB | 0 |
ChromaticAberrationR | 0 |
CircleOfConfusion | 0.020 mm |
Clarity | 0 |
ColorComponents | 3 |
ColorMode | RGB |
ColorNoiseReduction | 25 |
ColorSpace | sRGB |
Contrast (2) | +32 |
Contrast | High |
ConvertToGrayscale | True |
Copyright | Eric Fagerheim |
CopyrightFlag | True |
CopyrightNotice | Eric Fagerheim |
CreateDate (1) | 2008:12:05 19:57:35+01:00 |
CreateDate | 2008:11:29 15:34:11 |
Creator | Eric Fagerheim |
CreatorAddress | Vaggvegen 7 |
CreatorCountry | Norway |
CreatorPostalCode | 7232 Lundamo |
CreatorTool | Adobe Photoshop CS3 Windows |
CreatorWorkEmail | mail@emfphoto.no |
CreatorWorkTelephone | +4792440401 |
CreatorWorkURL | www.emfphoto.no |
CustomRendered | Normal |
DateTimeDigitized | 2008:11:29 15:34:11+01:00 |
DateTimeOriginal (1) | 2008:11:29 15:34:11+01:00 |
DateTimeOriginal | 2008:11:29 15:34:11 |
Defringe | 0 |
ExifImageHeight | 532 |
ExifImageWidth | 800 |
Exposure | -0.29 |
ExposureCompensation | +1/2 |
ExposureMode | Manual |
ExposureProgram | Manual |
ExposureTime | 0.3 |
FillLight | 0 |
Flash | Off, Did not fire |
FlashFired | False |
FlashFunction | False |
FlashMode | Off |
FlashRedEyeMode | False |
FlashReturn | No return detection |
FNumber | 5.6 |
FocalLength | 29.0 mm |
FocalLength35efl | 29.0 mm (35 mm equivalent: 43.0 mm) |
FocalLengthIn35mmFormat | 43 mm |
Format | image/jpeg |
FOV | 45.4 deg |
GrayMixerAqua | -19 |
GrayMixerBlue | -71 |
GrayMixerGreen | -9 |
GrayMixerMagenta | -1 |
GrayMixerOrange | +20 |
GrayMixerPurple | +25 |
GrayMixerRed | +5 |
GrayMixerYellow | +9 |
GreenHue | +16 |
GreenSaturation | +51 |
HasCrop | False |
HasSettings | True |
HierarchicalSubject | ab1600, akam, bli, bryllup, bryllupsfotograf, choco boco, clothes, fashion, fotofashion, fotograf, høst, klær, konfirmasjon, lundamo, makeup, model, modell, mote, reklmae, stil, style, tanta til beate, tfp, trondheim |
HighlightRecovery | 74 |
HyperfocalDistance | 7.41 m |
ICCProfileName | sRGB IEC61966-2.1 |
ImageHeight (1) | 3104 |
ImageHeight | 532 |
ImageSize | 800x532 |
ImageWidth (1) | 4672 |
ImageWidth | 800 |
IncrementalTemperature | 0 |
IncrementalTint | 0 |
ISO | 400 |
Keywords | ab1600, akam, bli, bryllup, bryllupsfotograf, choco boco, clothes, fashion, fotofashion, fotograf, høst, klær, konfirmasjon, lundamo, makeup, model, modell, mote, reklmae, stil, style, tanta til beate, tfp, trondheim |
Lens | smc PENTAX-DA* 16-50mm F2.8 ED AL [IF] SDM |
LensID (1) | 8 242 |
LensID | smc PENTAX-DA* 16-50mm F2.8 ED AL [IF] SDM |
LensInfo | 16-50mm f/2.8 |
LightValue | 4.7 |
LuminanceSmoothing | 0 |
Make | PENTAX |
Marked | True |
Megapixels | 0.426 |
MeteringMode | Multi-segment |
Model | PENTAX K20D |
ModifyDate (1) | 2008:12:05 19:57:35+01:00 |
ModifyDate | 2008:12:05 19:57:35 |
Orientation | Horizontal (normal) |
ParametricDarks | 0 |
ParametricHighlights | 0 |
ParametricHighlightSplit | 75 |
ParametricLights | -2 |
ParametricMidtoneSplit | 50 |
ParametricShadows | 0 |
ParametricShadowSplit | 25 |
ProfileDescription | sRGB IEC61966-2.1 |
Rating | 1 |
RedHue | -100 |
RedSaturation | +10 |
Rights | Eric Fagerheim |
Saturation | Normal |
ScaleFactor35efl | 1.5 |
SceneCaptureType | Standard |
SensingMethod | One-chip color area |
Shadows | 0 |
ShadowTint | +4 |
SharpenDetail | 25 |
SharpenEdgeMasking | 0 |
SharpenRadius | +1.0 |
Sharpness (2) | 25 |
Sharpness | Hard |
ShutterSpeed | 0.3 |
ShutterSpeedValue | 0.3 |
Software | Adobe Photoshop CS3 Windows |
SplitToningBalance | 0 |
SplitToningHighlightHue | 261 |
SplitToningHighlightSaturation | 12 |
SplitToningShadowHue | 189 |
SplitToningShadowSaturation | 7 |
Subject | ab1600, akam, bli, bryllup, bryllupsfotograf, choco boco, clothes, fashion, fotofashion, fotograf, høst, klær, konfirmasjon, lundamo, makeup, model, modell, mote, reklmae, stil, style, tanta til beate, tfp, trondheim |
SubjectDistanceRange | Close |
ToneCurve | 0, 0, 255, 255 |
ToneCurveName | Linear |
URL | www.emfphoto.no |
URL_List | |
Version | 4.4.1 |
VignetteAmount | -100 |
VignetteMidpoint | 6 |
WebStatement | www.emfphoto.no |
WhiteBalance (2) | As Shot |
WhiteBalance | Auto |