Felt | Verdi |
AlreadyApplied | True |
Aperture | 8.0 |
ApertureValue | 8.0 |
BitsPerSample (1) | 8, 8, 8 |
BitsPerSample | 8 |
BlueHue | 0 |
BlueSaturation | 0 |
Brightness | +50 |
CameraProfile | ACR 4.4 |
ChromaticAberrationB | 0 |
ChromaticAberrationR | 0 |
CircleOfConfusion | 0.019 mm |
Clarity | 0 |
ColorComponents | 3 |
ColorMode | RGB |
ColorNoiseReduction | 25 |
ColorSpace | Uncalibrated |
ColorTemperature | 5400 |
Contrast | +25 |
ConvertToGrayscale | False |
CreateDate (1) | 2009:02:06 17:29:03.88+01:00 |
CreateDate | 2009:02:06 17:29:03 |
CreatorTool | Adobe Photoshop CS4 Windows |
CustomRendered | Normal |
DateTimeDigitized | 2009:02:06 17:29:03.88+01:00 |
DateTimeOriginal (1) | 2009:02:06 17:29:03.88+01:00 |
DateTimeOriginal | 2009:02:06 17:29:03 |
Defringe | 0 |
ExifImageHeight | 3460 |
ExifImageWidth | 2592 |
Exposure | +0.15 |
ExposureCompensation | 0 |
ExposureMode | Manual |
ExposureProgram | Manual |
ExposureTime | 1/125 |
FillLight | 0 |
Firmware | 1.0.5 |
Flash | Off, Did not fire |
FlashCompensation | 0 |
FlashFired | False |
FlashFunction | False |
FlashMode | Off |
FlashRedEyeMode | False |
FlashReturn | No return detection |
FNumber | 8.0 |
FocalLength | 41.0 mm |
FocalLength35efl | 41.0 mm (35 mm equivalent: 66.4 mm) |
Format | image/jpeg |
FOV | 30.3 deg |
GreenHue | 0 |
GreenSaturation | 0 |
HasCrop | False |
HasSettings | True |
HighlightRecovery | 0 |
HueAdjustmentAqua | 0 |
HueAdjustmentBlue | 0 |
HueAdjustmentGreen | 0 |
HueAdjustmentMagenta | 0 |
HueAdjustmentOrange | 0 |
HueAdjustmentPurple | 0 |
HueAdjustmentRed | 0 |
HueAdjustmentYellow | 0 |
HyperfocalDistance | 11.32 m |
ICCProfileName | Adobe RGB (1998) |
ImageHeight | 3460 |
ImageNumber | 0 |
ImageSize | 2592x3460 |
ImageWidth | 2592 |
ISO | 100 |
Lens | EF-S17-85mm f/4-5.6 IS USM |
LensInfo | 17-85mm f/? |
LightValue | 13.0 |
LuminanceAdjustmentAqua | 0 |
LuminanceAdjustmentBlue | 0 |
LuminanceAdjustmentGreen | 0 |
LuminanceAdjustmentMagenta | 0 |
LuminanceAdjustmentOrange | +9 |
LuminanceAdjustmentPurple | 0 |
LuminanceAdjustmentRed | +11 |
LuminanceAdjustmentYellow | +30 |
LuminanceSmoothing | 0 |
Make | Canon |
MaxApertureValue | 5.2 |
Megapixels | 9.0 |
MeteringMode | Multi-segment |
Model | Canon EOS 40D |
ModifyDate (1) | 2009:02:09 18:23:21+01:00 |
ModifyDate | 2009:02:09 18:23:21 |
Orientation | Horizontal (normal) |
ParametricDarks | +7 |
ParametricHighlights | +8 |
ParametricHighlightSplit | 75 |
ParametricLights | -1 |
ParametricMidtoneSplit | 50 |
ParametricShadows | +3 |
ParametricShadowSplit | 25 |
PhotometricInterpretation | RGB |
PostCropVignetteAmount | 0 |
ProfileDescription | Adobe RGB (1998) |
Rating | 5 |
RawFileName | IMG_2537.CR2 |
RedHue | 0 |
RedSaturation | 0 |
SamplesPerPixel | 3 |
Saturation | 0 |
SaturationAdjustmentAqua | 0 |
SaturationAdjustmentBlue | 0 |
SaturationAdjustmentGreen | 0 |
SaturationAdjustmentMagenta | 0 |
SaturationAdjustmentOrange | 0 |
SaturationAdjustmentPurple | 0 |
SaturationAdjustmentRed | 0 |
SaturationAdjustmentYellow | 0 |
ScaleFactor35efl | 1.6 |
SceneCaptureType | Standard |
SerialNumber | 930523664 |
Shadows | 5 |
ShadowTint | 0 |
SharpenDetail | 25 |
SharpenEdgeMasking | 0 |
SharpenRadius | +1.0 |
Sharpness | 0 |
ShutterSpeed | 1/125 |
ShutterSpeedValue | 1/125 |
Software | Adobe Photoshop CS4 Windows |
SplitToningBalance | 0 |
SplitToningHighlightHue | 0 |
SplitToningHighlightSaturation | 0 |
SplitToningShadowHue | 0 |
SplitToningShadowSaturation | 0 |
Tint | -11 |
ToneCurve | 0, 0, 32, 22, 64, 56, 128, 128, 192, 196, 255, 255 |
ToneCurveName | Medium Contrast |
URL_List | |
Version | 5.0 |
Vibrance | 0 |
VignetteAmount | +56 |
VignetteMidpoint | 50 |
WhiteBalance (2) | Custom |
WhiteBalance | Manual |