Felt | Verdi |
AFMode | Spot |
AFPointPosition | 0.5 0.5 |
AlreadyApplied | True |
Aperture | 5.3 |
ApertureValue | 5.3 |
ArtMode | Normal |
AutoISO | Off |
BestShotMode | Off |
BitsPerSample | 8 |
BlueHue | 0 |
BlueSaturation | 0 |
BracketSequence | 0 0 |
Brightness | +50 |
CameraProfile | Embedded |
ChromaticAberrationB | 0 |
ChromaticAberrationR | 0 |
CircleOfConfusion | 0.006 mm |
Clarity | 0 |
ColorComponents | 3 |
ColorFilter | Off |
ColorMode | Off |
ColorNoiseReduction | 25 |
ColorTemperature | 5500 |
Contrast (1) | 1 |
Contrast (3) | +25 |
Contrast | Low |
ConvertToGrayscale | False |
CreateDate (1) | 2009:06:14 14:20:09+02:00 |
CreateDate | 2009:06:14 14:20:09 |
CustomRendered | Normal |
DateTimeDigitized | 2009:06:14 14:20:09+02:00 |
DateTimeOriginal (1) | 2009:06:14 14:20:09+02:00 |
DateTimeOriginal | 2009:06:14 14:20:09 |
Defringe | 0 |
DOF | 0.005 m (0.066 - 0.071 m) |
DriveMode | Single Shot |
Enhancement | Off |
ExifImageHeight | 2112 |
ExifImageWidth | 2816 |
Exposure | 0.00 |
ExposureCompensation | 0 |
ExposureMode | Auto |
ExposureProgram | Program AE |
ExposureTime | 1/320 |
FillLight | 0 |
FirmwareDate | 2008:06:17 15:40 |
Flash | Off, Did not fire |
FlashDistance | 0 |
FlashFired | False |
FlashFunction | False |
FlashMode | Off |
FlashRedEyeMode | False |
FlashReturn | No return detection |
FNumber | 5.3 |
FocalLength | 7.3 mm |
FocalLength35efl | 7.3 mm (35 mm equivalent: 36.0 mm) |
FocalLengthIn35mmFormat | 36 mm |
FocusMode | Macro |
FOV | 53.1 deg |
GainControl | None |
GreenHue | 0 |
GreenSaturation | 0 |
HasCrop | False |
HasSettings | True |
HighlightRecovery | 0 |
HometownCity | Andorra la Vella |
HueAdjustmentAqua | 0 |
HueAdjustmentBlue | 0 |
HueAdjustmentGreen | 0 |
HueAdjustmentMagenta | 0 |
HueAdjustmentOrange | 0 |
HueAdjustmentPurple | 0 |
HueAdjustmentRed | 0 |
HueAdjustmentYellow | 0 |
HyperfocalDistance | 1.65 m |
ImageHeight | 2112 |
ImageSize | 2816x2112 |
ImageStabilization | CCD Shift |
ImageWidth | 2816 |
ISO | 100 |
Lens | 7.3-87.6 mm f/2.7-4.6 |
LensInfo | 7.3-87.6mm f/2.7-4.6 |
LightingMode | High Dynamic Range |
LightSource | Unknown |
LightValue | 13.1 |
LuminanceAdjustmentAqua | 0 |
LuminanceAdjustmentBlue | 0 |
LuminanceAdjustmentGreen | 0 |
LuminanceAdjustmentMagenta | 0 |
LuminanceAdjustmentOrange | 0 |
LuminanceAdjustmentPurple | 0 |
LuminanceAdjustmentRed | 0 |
LuminanceAdjustmentYellow | 0 |
LuminanceSmoothing | 0 |
Make | CASIO COMPUTER CO.,LTD. |
MakerNoteSafety | Safe |
MaxApertureValue | 2.6 |
Megapixels | 5.9 |
MeteringMode | Center-weighted average |
Model | EX-F1 |
ModifyDate (1) | 2009:06:14 14:41:56+02:00 |
ModifyDate | 2009:06:14 14:41:56 |
ObjectDistance | 0.068 m |
ParametricDarks | 0 |
ParametricHighlights | 0 |
ParametricHighlightSplit | 75 |
ParametricLights | 0 |
ParametricMidtoneSplit | 50 |
ParametricShadows | 0 |
ParametricShadowSplit | 25 |
PortraitRefiner | Off |
PostCropVignetteAmount | 0 |
ProfileDescription | Adobe RGB (1998) |
Quality | Fine |
Rating | 0 |
RawFileName | CIMG4275.DNG |
RecordMode | Program AE |
RedHue | 0 |
RedSaturation | 0 |
ReleaseMode | Normal |
Saturation (1) | 2 |
Saturation (3) | +32 |
Saturation | High |
SaturationAdjustmentAqua | 0 |
SaturationAdjustmentBlue | 0 |
SaturationAdjustmentGreen | 0 |
SaturationAdjustmentMagenta | 0 |
SaturationAdjustmentOrange | 0 |
SaturationAdjustmentPurple | 0 |
SaturationAdjustmentRed | 0 |
SaturationAdjustmentYellow | 0 |
ScaleFactor35efl | 4.9 |
SceneCaptureType | Standard |
SequenceNumber | 0 |
Shadows | 5 |
ShadowTint | 0 |
SharpenDetail | 25 |
SharpenEdgeMasking | 0 |
SharpenRadius | +1.0 |
Sharpness (1) | 2 |
Sharpness (3) | 25 |
Sharpness | Hard |
ShutterSpeed | 1/320 |
ShutterSpeedValue | 1/320 |
SpecialEffectMode | Off |
SplitToningBalance | 0 |
SplitToningHighlightHue | 0 |
SplitToningHighlightSaturation | 0 |
SplitToningShadowHue | 0 |
SplitToningShadowSaturation | 0 |
Tint | +10 |
ToneCurve | 0, 0, 32, 22, 64, 56, 128, 128, 192, 196, 255, 255 |
ToneCurveName | Medium Contrast |
Version | 5.0 |
Vibrance | -5 |
VignetteAmount | 0 |
WhiteBalance (2) | Auto |
WhiteBalance | Daylight |
WhiteBalanceBias | 415 416 |