Felt | Verdi |
AlreadyApplied | True |
Aperture | 9.0 |
ApertureValue | 9.0 |
Artist | unknown |
BitsPerSample | 8 |
BlueHue | 0 |
BlueSaturation | 0 |
Brightness | +50 |
By-line | unknown |
CameraProfile | ACR 3.6 |
ChromaticAberrationB | 0 |
ChromaticAberrationR | 0 |
CircleOfConfusion | 0.019 mm |
ColorComponents | 3 |
ColorMode | RGB |
ColorNoiseReduction | 25 |
ColorSpace (1) | Unknown (-1) |
ColorSpace | Uncalibrated |
ColorTemperature | 4200 |
Contrast | +25 |
ConvertToGrayscale | False |
CopyrightFlag | False |
CreateDate (1) | 2009:07:26 17:53:42+02:00 |
CreateDate | 2009:07:24 21:51:09 |
Creator | unknown |
CreatorTool | Adobe Photoshop CS3 Windows |
CustomRendered | Normal |
DateTimeDigitized | 2009:07:24 21:51:09+02:00 |
DateTimeOriginal (1) | 2009:07:24 21:51:09+02:00 |
DateTimeOriginal | 2009:07:24 21:51:09 |
ExifImageHeight | 600 |
ExifImageWidth | 945 |
Exposure | +0.90 |
ExposureCompensation | -5/3 |
ExposureMode | Auto bracket |
ExposureProgram | Manual |
ExposureTime | 1/500 |
FillLight | 64 |
Firmware | 1.0.4 |
Flash | Off, Did not fire |
FlashCompensation | 0 |
FlashFired | False |
FlashFunction | False |
FlashMode | Off |
FlashRedEyeMode | False |
FlashReturn | No return detection |
FNumber | 9.0 |
FocalLength | 10.0 mm |
FocalLength35efl | 10.0 mm (35 mm equivalent: 16.2 mm) |
Format | image/jpeg |
FOV | 96.1 deg |
GreenHue | 0 |
GreenSaturation | 0 |
HasCrop | False |
HasSettings | True |
HighlightRecovery | 36 |
HueAdjustmentAqua | 0 |
HueAdjustmentBlue | 0 |
HueAdjustmentGreen | 0 |
HueAdjustmentMagenta | 0 |
HueAdjustmentOrange | 0 |
HueAdjustmentPurple | 0 |
HueAdjustmentRed | 0 |
HueAdjustmentYellow | 0 |
HyperfocalDistance | 0.60 m |
ICCProfileName | Adobe RGB (1998) |
ImageHeight | 600 |
ImageNumber | 32 |
ImageSize | 945x600 |
ImageWidth | 945 |
ISO | 100 |
Lens | 10.0-20.0 mm |
LensInfo | 10-20mm f/? |
LightValue | 15.3 |
LuminanceAdjustmentAqua | 0 |
LuminanceAdjustmentBlue | 0 |
LuminanceAdjustmentGreen | 0 |
LuminanceAdjustmentMagenta | 0 |
LuminanceAdjustmentOrange | 0 |
LuminanceAdjustmentPurple | 0 |
LuminanceAdjustmentRed | 0 |
LuminanceAdjustmentYellow | 0 |
LuminanceSmoothing | 0 |
Make | Canon |
MaxApertureValue | 4.0 |
Megapixels | 0.567 |
MeteringMode | Partial |
Model | Canon EOS 400D DIGITAL |
ModifyDate (1) | 2009:07:26 17:53:42+02:00 |
ModifyDate | 2009:07:26 17:53:42 |
Orientation | Horizontal (normal) |
OwnerName | unknown |
ParametricDarks | 0 |
ParametricHighlights | 0 |
ParametricHighlightSplit | 75 |
ParametricLights | 0 |
ParametricMidtoneSplit | 50 |
ParametricShadows | 0 |
ParametricShadowSplit | 25 |
ProfileDescription | Adobe RGB (1998) |
Rating | 0 |
RawFileName | IMG_8386.CR2 |
RedHue | 0 |
RedSaturation | 0 |
Saturation | 0 |
SaturationAdjustmentAqua | 0 |
SaturationAdjustmentBlue | 0 |
SaturationAdjustmentGreen | 0 |
SaturationAdjustmentMagenta | 0 |
SaturationAdjustmentOrange | 0 |
SaturationAdjustmentPurple | 0 |
SaturationAdjustmentRed | 0 |
SaturationAdjustmentYellow | 0 |
ScaleFactor35efl | 1.6 |
SceneCaptureType | Standard |
SerialNumber | 830453178 |
Shadows | 5 |
ShadowTint | 0 |
Sharpness | 25 |
ShutterSpeed | 1/500 |
ShutterSpeedValue | 1/500 |
Software | Adobe Photoshop CS3 Windows |
SplitToningBalance | 0 |
SplitToningHighlightHue | 0 |
SplitToningHighlightSaturation | 0 |
SplitToningShadowHue | 0 |
SplitToningShadowSaturation | 0 |
TimeZoneOffset | 2 2 |
Tint | +8 |
ToneCurve | 0, 0, 32, 22, 64, 56, 128, 128, 192, 196, 255, 255 |
ToneCurveName | Medium Contrast |
URL_List | |
Version | 4.0 |
Vibrance | 0 |
VignetteAmount | 0 |
WhiteBalance (2) | Custom |
WhiteBalance | Manual |