Felt | Verdi |
AlreadyApplied | True |
Aperture | 6.7 |
ApertureValue | 6.7 |
Artist | Eric Fagerheim |
BitsPerSample | 8 |
BlueHue | -5 |
BlueSaturation | -26 |
Brightness | +29 |
By-line | Eric Fagerheim |
CameraProfile | Embedded |
ChromaticAberrationB | 0 |
ChromaticAberrationR | 0 |
CircleOfConfusion | 0.020 mm |
Clarity | 0 |
ColorComponents | 3 |
ColorNoiseReduction | 25 |
ColorSpace | sRGB |
Contrast (2) | +62 |
Contrast | Normal |
ConvertToGrayscale | False |
Copyright | Eric Fagerheim |
CopyrightFlag | True |
CopyrightNotice | Eric Fagerheim |
CreateDate (1) | 2009:08:13 20:02:50+02:00 |
CreateDate | 2009:08:13 20:02:50 |
Creator | Eric Fagerheim |
CreatorAddress | Gjørtlervegen 1a |
CreatorCountry | Norway |
CreatorPostalCode | 7021 Trondheim |
CreatorTool | Adobe Photoshop Lightroom |
CreatorWorkEmail | mail@fotofashion.no |
CreatorWorkTelephone | +4792440401 |
CreatorWorkURL | www.fotofashion.no |
CustomRendered | Normal |
DateTimeDigitized | 2009:08:13 20:02:50+02:00 |
DateTimeOriginal (1) | 2009:08:13 20:02:50+02:00 |
DateTimeOriginal | 2009:08:13 20:02:50 |
Defringe | 0 |
ExifImageHeight | 532 |
ExifImageWidth | 800 |
Exposure | -0.76 |
ExposureCompensation | 0 |
ExposureMode | Manual |
ExposureProgram | Manual |
ExposureTime | 1/90 |
FillLight | 0 |
Flash | Off, Did not fire |
FlashFired | False |
FlashFunction | False |
FlashMode | Off |
FlashRedEyeMode | False |
FlashReturn | No return detection |
FNumber | 6.7 |
FocalLength | 19.0 mm |
FocalLength35efl | 19.0 mm (35 mm equivalent: 28.0 mm) |
FocalLengthIn35mmFormat | 28 mm |
Format | application/vnd.adobe.photoshop |
FOV | 65.5 deg |
GreenHue | +2 |
GreenSaturation | +14 |
HasCrop | False |
HasSettings | True |
HierarchicalSubject | barn, brud, bryllup, bryllupsfotograf, familie, familiefotograf, fashion, fotofashion, fotograf, fotograf trondheim, ina, modell, mote, moter, portrett, skyer, smala, smøla, studio, trondheim |
HighlightRecovery | 0 |
HueAdjustmentAqua | 0 |
HueAdjustmentBlue | 0 |
HueAdjustmentGreen | 0 |
HueAdjustmentMagenta | 0 |
HueAdjustmentOrange | 0 |
HueAdjustmentPurple | 0 |
HueAdjustmentRed | 0 |
HueAdjustmentYellow | 0 |
HyperfocalDistance | 2.64 m |
ImageHeight | 532 |
ImageSize | 800x532 |
ImageWidth | 800 |
IncrementalTemperature | +6 |
IncrementalTint | -4 |
ISO | 200 |
Keywords | barn, brud, bryllup, bryllupsfotograf, familie, familiefotograf, fashion, fotofashion, fotograf, fotograf trondheim, ina, modell, mote, moter, portrett, skyer, smala, smøla, studio, trondheim |
Label | www.fotofashion.no |
Lens | smc PENTAX-DA* 16-50mm F2.8 ED AL [IF] SDM |
LensID (1) | 8 242 |
LensID | smc PENTAX-DA* 16-50mm F2.8 ED AL [IF] SDM |
LensInfo | 16-50mm f/2.8 |
LightValue | 11.0 |
LuminanceAdjustmentAqua | 0 |
LuminanceAdjustmentBlue | 0 |
LuminanceAdjustmentGreen | 0 |
LuminanceAdjustmentMagenta | 0 |
LuminanceAdjustmentOrange | 0 |
LuminanceAdjustmentPurple | 0 |
LuminanceAdjustmentRed | 0 |
LuminanceAdjustmentYellow | 0 |
LuminanceSmoothing | 0 |
Make | PENTAX |
Marked | True |
Megapixels | 0.426 |
MeteringMode | Multi-segment |
Model | PENTAX K20D |
ModifyDate (1) | 2009:08:15 10:19:44+02:00 |
ModifyDate | 2009:08:15 10:19:44 |
PaintCorrectionActive | true |
PaintCorrectionAmount | 1.000000 |
PaintCorrectionBrightness | 0.000000 |
PaintCorrectionClarity | 0.000000 |
PaintCorrectionContrast | 0.000000 |
PaintCorrectionExposure | 0.000000 |
PaintCorrectionHue | 230.000000 |
PaintCorrectionMaskCenterWeight | 0.000000 |
PaintCorrectionMaskFlow | 0.200000 |
PaintCorrectionMaskRadius | 0.088116 |
PaintCorrectionMaskValue | 1.000000 |
PaintCorrectionMaskWhat | Mask/Paint |
PaintCorrectionSaturation (1) | 0.225000 |
PaintCorrectionSaturation | 0.000000 |
PaintCorrectionSharpness | 0.000000 |
PaintCorrectionWhat | Correction |
ParametricDarks | -3 |
ParametricHighlights | 0 |
ParametricHighlightSplit | 75 |
ParametricLights | 0 |
ParametricMidtoneSplit | 50 |
ParametricShadows | -14 |
ParametricShadowSplit | 25 |
PostCropVignetteAmount | 0 |
ProfileDescription | sRGB IEC61966-2.1 |
Rating | 1 |
RedHue | +50 |
RedSaturation | -12 |
Rights | Eric Fagerheim |
Saturation (2) | -62 |
Saturation | Normal |
SaturationAdjustmentAqua | 0 |
SaturationAdjustmentBlue | 0 |
SaturationAdjustmentGreen | 0 |
SaturationAdjustmentMagenta | 0 |
SaturationAdjustmentOrange | 0 |
SaturationAdjustmentPurple | 0 |
SaturationAdjustmentRed | 0 |
SaturationAdjustmentYellow | 0 |
ScaleFactor35efl | 1.5 |
SceneCaptureType | Standard |
SensingMethod | One-chip color area |
Shadows | 0 |
ShadowTint | +100 |
SharpenDetail | 50 |
SharpenEdgeMasking | 0 |
SharpenRadius | +1.0 |
Sharpness (2) | 25 |
Sharpness | Hard |
ShutterSpeed | 1/90 |
ShutterSpeedValue | 1/90 |
Software | Adobe Photoshop CS3 Windows |
SplitToningBalance | 0 |
SplitToningHighlightHue | 226 |
SplitToningHighlightSaturation | 11 |
SplitToningShadowHue | 220 |
SplitToningShadowSaturation | 21 |
Subject | barn, brud, bryllup, bryllupsfotograf, familie, familiefotograf, fashion, fotofashion, fotograf, fotograf trondheim, ina, modell, mote, moter, portrett, skyer, smala, smøla, studio, trondheim |
SubjectDistanceRange | Close |
ToneCurve | 0, 0, 255, 255 |
ToneCurveName | Linear |
URL | www.fotofashion.no |
Version | 5.4 |
Vibrance | 0 |
VignetteAmount | -61 |
VignetteMidpoint | 34 |
WebStatement | www.fotofashion.no |
WhiteBalance (2) | Custom |
WhiteBalance | Auto |