Felt | Verdi |
AlreadyApplied | True |
Aperture | 2.2 |
ApertureValue | 2.2 |
BitsPerSample | 8 |
BlueHue | 0 |
BlueSaturation | 0 |
Brightness | +80 |
CameraProfile | Adobe Standard |
ChromaticAberrationB | 0 |
ChromaticAberrationR | 0 |
CircleOfConfusion | 0.019 mm |
Clarity | +100 |
ColorComponents | 1 |
ColorNoiseReduction | 25 |
ColorNoiseReductionDetail | 50 |
ColorTemperature | 7853 |
Contrast | +40 |
ConvertToGrayscale | True |
CreateDate (1) | 2009:11:16 09:57:46.01+01:00 |
CreateDate | 2009:11:16 09:57:46 |
CreatorTool | Adobe Photoshop Lightroom |
CropAngle | 0 |
CropBottom | 0.946134 |
CropHeight | 2349 |
CropLeft | 0 |
CropRight | 0.90621 |
CropTop | 0.039924 |
CropUnit | pixels |
CropWidth | 3523 |
CustomRendered | Normal |
DateTimeDigitized | 2009:11:16 09:57:46.01+01:00 |
DateTimeOriginal (1) | 2009:11:16 09:57:46.01+01:00 |
DateTimeOriginal | 2009:11:16 09:57:46 |
Defringe | 0 |
ExifImageHeight | 3523 |
ExifImageWidth | 2349 |
Exposure | 0.00 |
ExposureCompensation | 0 |
ExposureMode | Manual |
ExposureProgram | Manual |
ExposureTime | 1/100 |
FillLight | 10 |
Firmware | 1.0.5 |
Flash | Off, Did not fire |
FlashCompensation | 0 |
FlashFired | False |
FlashFunction | False |
FlashMode | Off |
FlashRedEyeMode | False |
FlashReturn | No return detection |
FNumber | 2.2 |
FocalLength | 50.0 mm |
FocalLength35efl | 50.0 mm (35 mm equivalent: 80.9 mm) |
FOV | 25.1 deg |
GrainAmount | 0 |
GrayMixerAqua | +51 |
GrayMixerBlue | 0 |
GrayMixerGreen | +38 |
GrayMixerMagenta | +11 |
GrayMixerOrange | +34 |
GrayMixerPurple | -28 |
GrayMixerRed | +21 |
GrayMixerYellow | +40 |
GreenHue | 0 |
GreenSaturation | 0 |
HasCrop | True |
HasSettings | True |
HighlightRecovery | 5 |
HyperfocalDistance | 61.22 m |
ImageHeight | 3523 |
ImageNumber | 0 |
ImageSize | 2349x3523 |
ImageWidth | 2349 |
ISO | 125 |
Keywords | portrett |
Lens | EF50mm f/1.4 USM |
LensID (1) | 198 |
LensID | Canon EF 50mm f/1.4 USM |
LensInfo | 50mm f/? |
LightValue | 8.6 |
Make | Canon |
MaxApertureValue | 1.4 |
Megapixels | 8.3 |
MeteringMode | Spot |
Model | Canon EOS 40D |
ModifyDate (1) | 2009:11:16 10:43:36+01:00 |
ModifyDate | 2009:11:16 10:43:36 |
NoiseReductionContrast | 0 |
PaintCorrectionActive | true |
PaintCorrectionAmount | 1.000000 |
PaintCorrectionBrightness | 0.000000 |
PaintCorrectionClarity | 0.000000 |
PaintCorrectionContrast | 0.000000 |
PaintCorrectionExposure (1) | 0.082353 |
PaintCorrectionExposure | 0.152941 |
PaintCorrectionHue | 0.000000 |
PaintCorrectionMaskCenterWeight | 0.000000 |
PaintCorrectionMaskFlow | 1.000000 |
PaintCorrectionMaskRadius (1) | 0.008334 |
PaintCorrectionMaskRadius (4) | 0.006746 |
PaintCorrectionMaskRadius (5) | 0.005187 |
PaintCorrectionMaskRadius | 0.003657 |
PaintCorrectionMaskValue | 1.000000 |
PaintCorrectionMaskWhat | Mask/Paint |
PaintCorrectionSaturation | 0.000000 |
PaintCorrectionSharpness | 0.000000 |
PaintCorrectionWhat | Correction |
ParametricDarks | -11 |
ParametricHighlights | +19 |
ParametricHighlightSplit | 75 |
ParametricLights | -6 |
ParametricMidtoneSplit | 50 |
ParametricShadows | 0 |
ParametricShadowSplit | 25 |
PostCropVignetteAmount | 0 |
ProfileDescription | sRGB IEC61966-2.1 |
Rating | 5 |
RedHue | 0 |
RedSaturation | 0 |
RenderVersion | 5.7 |
ScaleFactor35efl | 1.6 |
SceneCaptureType | Standard |
SerialNumber | 820513357 |
Shadows | 2 |
ShadowTint | 0 |
SharpenDetail | 19 |
SharpenEdgeMasking | 7 |
SharpenRadius | +1.7 |
Sharpness | 78 |
ShutterSpeed | 1/100 |
ShutterSpeedValue | 1/100 |
SplitToningBalance | 0 |
SplitToningHighlightHue | 0 |
SplitToningHighlightSaturation | 0 |
SplitToningShadowHue | 0 |
SplitToningShadowSaturation | 0 |
Subject | portrett |
Tint | -101 |
ToneCurve | 0, 0, 32, 22, 64, 56, 128, 128, 192, 196, 255, 255 |
ToneCurveName | Medium Contrast |
Version | 6.0 |
VignetteAmount | -100 |
VignetteMidpoint | 20 |
WhiteBalance (2) | Custom |
WhiteBalance | Manual |