Felt | Verdi |
AlreadyApplied | True |
BitsPerSample | 8 |
BlueHue | 0 |
BlueSaturation | 0 |
Brightness | 0 |
CameraProfile | Embedded |
ChromaticAberrationB | 0 |
ChromaticAberrationR | 0 |
Clarity | 0 |
ColorComponents | 3 |
ColorNoiseReduction | 50 |
Contrast | 0 |
ConvertToGrayscale | False |
Copyright | Espen Seierstad |
CopyrightFlag | True |
CopyrightNotice | Espen Seierstad |
CreatorTool | Adobe Photoshop Lightroom |
CropAngle | 0 |
CropBottom | 0.976472 |
CropHeight | 1067 |
CropLeft | 0.083975 |
CropRight | 0.769206 |
CropTop | 0.152926 |
CropUnit | pixels |
CropWidth | 1334 |
Defringe | 0 |
ExifImageHeight | 1067 |
ExifImageWidth | 1334 |
Exposure | +0.86 |
FillLight | 50 |
GreenHue | 0 |
GreenSaturation | 0 |
HasCrop | True |
HasSettings | True |
HighlightRecovery | 0 |
HueAdjustmentAqua | 0 |
HueAdjustmentBlue | 0 |
HueAdjustmentGreen | 0 |
HueAdjustmentMagenta | 0 |
HueAdjustmentOrange | 0 |
HueAdjustmentPurple | 0 |
HueAdjustmentRed | 0 |
HueAdjustmentYellow | 0 |
ImageHeight | 1067 |
ImageSize | 1334x1067 |
ImageWidth | 1334 |
IncrementalTemperature | +12 |
IncrementalTint | +5 |
Keywords | Animals, Chimpansee, Mammal, Mammals, Monkeys, Primates |
Label | Green |
LuminanceAdjustmentAqua | 0 |
LuminanceAdjustmentBlue | 0 |
LuminanceAdjustmentGreen | 0 |
LuminanceAdjustmentMagenta | 0 |
LuminanceAdjustmentOrange | 0 |
LuminanceAdjustmentPurple | 0 |
LuminanceAdjustmentRed | 0 |
LuminanceAdjustmentYellow | 0 |
LuminanceSmoothing | 75 |
Make | Nikon |
Marked | True |
Megapixels | 1.4 |
ModifyDate (1) | 2010:03:16 19:19:29+01:00 |
ModifyDate | 2010:03:16 19:19:29 |
PaintCorrectionActive | true |
PaintCorrectionAmount | 1.000000 |
PaintCorrectionBrightness | 0.000000 |
PaintCorrectionClarity (1) | 0.300000 |
PaintCorrectionClarity (2) | 0.000000 |
PaintCorrectionClarity | 0.375000 |
PaintCorrectionContrast | 0.000000 |
PaintCorrectionExposure (1) | 0.525000 |
PaintCorrectionExposure (2) | -0.500000 |
PaintCorrectionExposure | 0.150000 |
PaintCorrectionHue (1) | 230.000000 |
PaintCorrectionHue | 116.000000 |
PaintCorrectionMaskCenterWeight (3) | 0.000000 |
PaintCorrectionMaskCenterWeight | 0.017084 |
PaintCorrectionMaskFlow (2) | 0.200000 |
PaintCorrectionMaskFlow | 1.000000 |
PaintCorrectionMaskRadius (2) | 0.102652 |
PaintCorrectionMaskRadius | 0.037651 |
PaintCorrectionMaskValue | 1.000000 |
PaintCorrectionMaskWhat | Mask/Paint |
PaintCorrectionSaturation | 0.000000 |
PaintCorrectionSharpness (1) | 0.425000 |
PaintCorrectionSharpness (2) | 0.000000 |
PaintCorrectionSharpness | 0.700000 |
PaintCorrectionWhat | Correction |
ParametricDarks | 0 |
ParametricHighlights | 0 |
ParametricHighlightSplit | 75 |
ParametricLights | 0 |
ParametricMidtoneSplit | 50 |
ParametricShadows | 0 |
ParametricShadowSplit | 25 |
PostCropVignetteAmount | 0 |
ProfileDescription | sRGB IEC61966-2.1 |
Rating | 2 |
RedHue | 0 |
RedSaturation | 0 |
Rights | Espen Seierstad |
Saturation | 0 |
SaturationAdjustmentAqua | 0 |
SaturationAdjustmentBlue | 0 |
SaturationAdjustmentGreen | 0 |
SaturationAdjustmentMagenta | 0 |
SaturationAdjustmentOrange | 0 |
SaturationAdjustmentPurple | 0 |
SaturationAdjustmentRed | 0 |
SaturationAdjustmentYellow | 0 |
Shadows | 0 |
ShadowTint | 0 |
SharpenDetail | 30 |
SharpenEdgeMasking | 83 |
SharpenRadius | +0.8 |
Sharpness | 132 |
SplitToningBalance | 0 |
SplitToningHighlightHue | 0 |
SplitToningHighlightSaturation | 0 |
SplitToningShadowHue | 0 |
SplitToningShadowSaturation | 0 |
Subject | Animals, Chimpansee, Mammal, Mammals, Monkeys, Primates |
ToneCurve | 0, 0, 255, 255 |
ToneCurveName | Linear |
Version | 5.6 |
Vibrance | 0 |
VignetteAmount | 0 |
WhiteBalance | Custom |