Felt | Verdi |
AlreadyApplied | True |
Aperture | 10.0 |
ApertureValue (1) | 4.5 |
ApertureValue | 10.0 |
BitsPerSample | 8 |
BlueHue | 0 |
BlueSaturation | 0 |
Brightness | +68 |
CameraProfile | Adobe Standard |
CFAPattern | [Green,Blue][Red,Green] |
ChromaticAberrationB | 0 |
ChromaticAberrationR | 0 |
CircleOfConfusion | 0.020 mm |
Clarity | +50 |
ColorComponents | 1 |
ColorNoiseReduction | 25 |
ColorTemperature | 6750 |
Contrast (2) | +32 |
Contrast | Normal |
ConvertToGrayscale | True |
CreateDate (1) | 2010:03:06 12:55:40.50+01:00 |
CreateDate | 2010:03:06 12:55:40 |
CreatorTool | Adobe Photoshop Lightroom |
CropAngle | 0 |
CropBottom | 1 |
CropHeight | 1634 |
CropLeft | 0 |
CropRight | 0.573998 |
CropTop | 0.426108 |
CropUnit | pixels |
CropWidth | 2461 |
CustomRendered | Normal |
DateTimeDigitized | 2010:03:06 12:55:40.50+01:00 |
DateTimeOriginal (1) | 2010:03:06 12:55:40.50+01:00 |
DateTimeOriginal | 2010:03:06 12:55:40 |
Defringe | 0 |
DigitalZoomRatio | 1 |
ExifImageHeight | 1634 |
ExifImageWidth | 2461 |
Exposure | 0.00 |
ExposureCompensation | 0 |
ExposureMode | Auto |
ExposureProgram (1) | Not Defined |
ExposureProgram | Aperture-priority AE |
ExposureTime (1) | 1/80 |
ExposureTime | 1/320 |
FillLight | 0 |
Flash (1) | No Flash |
Flash | On, Return detected |
FlashFired | True |
FlashFunction | False |
FlashMode | On |
FlashRedEyeMode | False |
FlashReturn | Return detected |
FNumber (1) | 4.5 |
FNumber | 10.0 |
FocalLength (1) | 35.0 mm |
FocalLength | 24.0 mm |
FocalLength35efl | 24.0 mm (35 mm equivalent: 36.0 mm) |
FocalLengthIn35mmFormat (1) | 52 mm |
FocalLengthIn35mmFormat | 36 mm |
FOV | 53.1 deg |
GainControl (1) | Low gain up |
GainControl | None |
GrayMixerAqua | -16 |
GrayMixerBlue | +15 |
GrayMixerGreen | -26 |
GrayMixerMagenta | +4 |
GrayMixerOrange | -19 |
GrayMixerPurple | +18 |
GrayMixerRed | -10 |
GrayMixerYellow | -22 |
GreenHue | 0 |
GreenSaturation | 0 |
HasCrop | True |
HasSettings | True |
HighlightRecovery | 1 |
HyperfocalDistance | 2.88 m |
ImageHeight | 1634 |
ImageNumber | 3295 |
ImageSize | 2461x1634 |
ImageWidth | 2461 |
ISO (1) | 800 |
ISO | 250 |
Lens | 35.0 mm f/1.8 |
LensInfo | 35mm f/1.8 |
LightSource | Unknown |
LightValue | 13.6 |
LuminanceSmoothing | 0 |
Make | NIKON CORPORATION |
MaxApertureValue (1) | 1.7 |
MaxApertureValue | 4.0 |
Megapixels | 4.0 |
MeteringMode | Multi-segment |
Model | NIKON D5000 |
ModifyDate (1) | 2010:03:21 21:11:25+01:00 |
ModifyDate | 2010:03:21 21:11:25 |
ParametricDarks | 0 |
ParametricHighlights | 0 |
ParametricHighlightSplit | 75 |
ParametricLights | 0 |
ParametricMidtoneSplit | 50 |
ParametricShadows | 0 |
ParametricShadowSplit | 25 |
PostCropVignetteAmount | 0 |
ProfileDescription | sRGB IEC61966-2.1 |
RedHue | 0 |
RedSaturation | 0 |
Saturation | Normal |
ScaleFactor35efl | 1.5 |
SceneCaptureType | Standard |
SceneType | Directly photographed |
SensingMethod | One-chip color area |
SerialNumber | 6051949 |
Shadows | 1 |
ShadowTint | 0 |
SharpenDetail | 52 |
SharpenEdgeMasking | 46 |
SharpenRadius | +0.6 |
Sharpness (2) | 80 |
Sharpness | Normal |
ShutterSpeed | 1/320 |
ShutterSpeedValue (1) | 1/80 |
ShutterSpeedValue | 1/320 |
Software | Ver.1.00 |
SplitToningBalance | 0 |
SplitToningHighlightHue | 0 |
SplitToningHighlightSaturation | 0 |
SplitToningShadowHue | 0 |
SplitToningShadowSaturation | 0 |
SubjectDistanceRange | Unknown |
Tint | -19 |
ToneCurve | 0, 0, 32, 22, 64, 56, 128, 128, 192, 196, 255, 255 |
ToneCurveName | Medium Contrast |
Version | 5.5 |
VignetteAmount | 0 |
WhiteBalance (2) | As Shot |
WhiteBalance | Auto |