Felt | Verdi |
AlreadyApplied | True |
BitsPerSample | 8 |
BlueHue | +11 |
BlueSaturation | -70 |
Brightness | +57 |
CameraProfile | Embedded |
ChromaticAberrationB | 0 |
ChromaticAberrationR | 0 |
Clarity | +50 |
ColorComponents | 3 |
ColorNoiseReduction | 25 |
Contrast | +25 |
ConvertToGrayscale | False |
Copyright | Espen Seierstad |
CopyrightFlag | True |
CopyrightNotice | Espen Seierstad |
CreatorTool | Adobe Photoshop Lightroom |
CropAngle | 0 |
CropBottom | 0.920923 |
CropHeight | 900 |
CropLeft | 0.183821 |
CropRight | 0.855779 |
CropTop | 0.026359 |
CropUnit | pixels |
CropWidth | 450 |
Defringe | 0 |
ExifImageHeight | 450 |
ExifImageWidth | 900 |
Exposure | +0.10 |
FillLight | 14 |
GradientBasedCorrActive | true |
GradientBasedCorrAmount | 1.000000 |
GradientBasedCorrBrightness | 0.000000 |
GradientBasedCorrClarity | 0.000000 |
GradientBasedCorrContrast (1) | -0.125000 |
GradientBasedCorrContrast (2) | -0.700000 |
GradientBasedCorrContrast (3) | -0.550000 |
GradientBasedCorrContrast | -0.775000 |
GradientBasedCorrExposure (1) | 0.050000 |
GradientBasedCorrExposure (2) | 0.100000 |
GradientBasedCorrExposure (3) | 0.225000 |
GradientBasedCorrExposure | 0.150000 |
GradientBasedCorrHue | 116.000000 |
GradientBasedCorrMaskFullX (1) | 0.881911 |
GradientBasedCorrMaskFullX (2) | 0.537221 |
GradientBasedCorrMaskFullX (3) | 0.161422 |
GradientBasedCorrMaskFullX | 0.453849 |
GradientBasedCorrMaskFullY (1) | 0.544047 |
GradientBasedCorrMaskFullY (2) | 0.928378 |
GradientBasedCorrMaskFullY (3) | 0.465358 |
GradientBasedCorrMaskFullY | 0.014763 |
GradientBasedCorrMaskValue | 1.000000 |
GradientBasedCorrMaskWhat | Mask/Gradient |
GradientBasedCorrMaskZeroX (1) | 0.499890 |
GradientBasedCorrMaskZeroX (2) | 0.554642 |
GradientBasedCorrMaskZeroX (3) | 0.390386 |
GradientBasedCorrMaskZeroX | 0.458826 |
GradientBasedCorrMaskZeroY (1) | 0.544047 |
GradientBasedCorrMaskZeroY (2) | 0.432226 |
GradientBasedCorrMaskZeroY (3) | 0.464530 |
GradientBasedCorrMaskZeroY | 0.190362 |
GradientBasedCorrSaturation | 0.000000 |
GradientBasedCorrSharpness | 0.000000 |
GradientBasedCorrWhat | Correction |
GreenHue | +11 |
GreenSaturation | +25 |
HasCrop | True |
HasSettings | True |
HighlightRecovery | 0 |
HueAdjustmentAqua | 0 |
HueAdjustmentBlue | 0 |
HueAdjustmentGreen | 0 |
HueAdjustmentMagenta | 0 |
HueAdjustmentOrange | 0 |
HueAdjustmentPurple | 0 |
HueAdjustmentRed | 0 |
HueAdjustmentYellow | 0 |
ImageHeight | 450 |
ImageSize | 900x450 |
ImageWidth | 900 |
IncrementalTemperature | +40 |
IncrementalTint | +27 |
Keywords | Beach, Boy, Children, Exhausted, Landscape, Latin-America, Lima, Nature, Ocean, People, Peru, Sea, South America, Water |
Label | Blue |
LuminanceAdjustmentAqua | 0 |
LuminanceAdjustmentBlue | 0 |
LuminanceAdjustmentGreen | 0 |
LuminanceAdjustmentMagenta | 0 |
LuminanceAdjustmentOrange | 0 |
LuminanceAdjustmentPurple | 0 |
LuminanceAdjustmentRed | 0 |
LuminanceAdjustmentYellow | 0 |
LuminanceSmoothing | 29 |
Make | Nikon |
Marked | True |
Megapixels | 0.405 |
ModifyDate (1) | 2010:05:04 08:22:29+02:00 |
ModifyDate | 2010:05:04 08:22:29 |
ParametricDarks | -10 |
ParametricHighlights | +2 |
ParametricHighlightSplit | 75 |
ParametricLights | -52 |
ParametricMidtoneSplit | 50 |
ParametricShadows | +17 |
ParametricShadowSplit | 25 |
PostCropVignetteAmount | 0 |
ProfileDescription | sRGB IEC61966-2.1 |
Rating | 2 |
RedHue | +96 |
RedSaturation | +3 |
Rights | Espen Seierstad |
Saturation | -60 |
SaturationAdjustmentAqua | 0 |
SaturationAdjustmentBlue | 0 |
SaturationAdjustmentGreen | 0 |
SaturationAdjustmentMagenta | 0 |
SaturationAdjustmentOrange | 0 |
SaturationAdjustmentPurple | 0 |
SaturationAdjustmentRed | 0 |
SaturationAdjustmentYellow | 0 |
Shadows | 1 |
ShadowTint | +8 |
SharpenDetail | 37 |
SharpenEdgeMasking | 38 |
SharpenRadius | +0.9 |
Sharpness | 91 |
SplitToningBalance | 0 |
SplitToningHighlightHue | 0 |
SplitToningHighlightSaturation | 0 |
SplitToningShadowHue | 0 |
SplitToningShadowSaturation | 0 |
Subject | Beach, Boy, Children, Exhausted, Landscape, Latin-America, Lima, Nature, Ocean, People, Peru, Sea, South America, Water |
ToneCurve | 0, 0, 255, 255 |
ToneCurveName | Linear |
Version | 5.7 |
Vibrance | -10 |
VignetteAmount | -61 |
VignetteMidpoint | 34 |
WhiteBalance | Custom |