Felt | Verdi |
AlreadyApplied | True |
Aperture | 8.0 |
ApertureValue | 8.0 |
Artist | Geir A Granviken |
BitsPerSample | 8 |
BlueHue | 0 |
BlueSaturation | 0 |
Brightness | 0 |
By-line | Geir A Granviken |
CameraProfile | Adobe Standard |
Caption-Abstract | September-solgløtt |
ChromaticAberrationB | 0 |
ChromaticAberrationR | 0 |
CircleOfConfusion | 0.019 mm |
City | Røyken |
Clarity | 0 |
ColorComponents | 3 |
ColorNoiseReduction | 25 |
ColorNoiseReductionDetail | 50 |
ColorSpace | Uncalibrated |
ColorTemperature | 6350 |
Contrast | +35 |
ConvertToGrayscale | False |
Copyright | © 2010 Geir A Granviken |
CopyrightNotice | © 2010 Geir A Granviken |
Country | Norway |
Country-PrimaryLocationCode | NO |
Country-PrimaryLocationName | Norway |
CountryCode | NO |
CreateDate (1) | 2010:09:08 18:32:12.13 |
CreateDate | 2010:09:08 19:32:12 |
Creator | Geir A Granviken |
CreatorTool | Adobe Photoshop Lightroom |
CropAngle | 0.5 |
CropBottom | 0.940478 |
CropConstrainToWarp | 0 |
CropHeight | 565 |
CropLeft | 0.068854 |
CropRight | 0.991014 |
CropTop | 0.000779 |
CropUnit | pixels |
CropWidth | 848 |
CustomRendered | Normal |
DateCreated (1) | 2010:09:08 |
DateCreated | 2010:09:08 18:32:12Z |
DateTimeDigitized | 2010:09:08 19:32:12.0+1:00 |
DateTimeOriginal (1) | 2010:09:08 19:32:12.0+1:00 |
DateTimeOriginal | 2010:09:08 19:32:12 |
Defringe | 0 |
Description | September-solgløtt |
DOF | 108.28 m (6.28 - 114.55 m) |
ExifImageHeight | 565 |
ExifImageWidth | 848 |
Exposure | -0.05 |
ExposureCompensation | +1 |
ExposureMode | Auto |
ExposureProgram | Aperture-priority AE |
ExposureTime | 1/60 |
FillLight | 0 |
Firmware | 1.1.0 |
Flash | Off, Did not fire |
FlashCompensation | 0 |
FlashFired | False |
FlashFunction | False |
FlashMode | Off |
FlashRedEyeMode | False |
FlashReturn | No return detection |
FNumber | 8.0 |
FocalLength | 45.0 mm |
FocalLength35efl | 45.0 mm (35 mm equivalent: 70.7 mm) |
FOV | 28.6 deg |
GPSDateStamp | 2010:09:08 |
GPSDateTime (1) | 2010:09:08 19:32:12+1:00 |
GPSDateTime | 2010:09:08 19:32:12Z |
GPSLatitude (2) | 59 deg 41' 37.83" |
GPSLatitude | 59 deg 41' 37.83" N |
GPSLatitudeRef | North |
GPSLongitude (2) | 10 deg 25' 0.09" |
GPSLongitude | 10 deg 25' 0.09" E |
GPSLongitudeRef | East |
GPSMapDatum | WGS-84 |
GPSPosition | 59 deg 41' 37.83" N, 10 deg 25' 0.09" E |
GPSTimeStamp | 19:32:12 |
GPSVersionID | 2.2.0.0 |
GrainAmount | 0 |
GreenHue | 0 |
GreenSaturation | 0 |
HasCrop | True |
HasSettings | True |
HighlightRecovery | 19 |
HueAdjustmentAqua | 0 |
HueAdjustmentBlue | 0 |
HueAdjustmentGreen | 0 |
HueAdjustmentMagenta | 0 |
HueAdjustmentOrange | 0 |
HueAdjustmentPurple | 0 |
HueAdjustmentRed | 0 |
HueAdjustmentYellow | 0 |
HyperfocalDistance | 13.23 m |
ImageDescription | September-solgløtt |
ImageHeight | 565 |
ImageNumber | 0 |
ImageSize | 848x565 |
ImageWidth | 848 |
ISO | 200 |
Keywords | ettermiddagssol, hester, beite, landbruk |
Label | Green |
Lens | EF24-105mm f/4L IS USM |
LensID (1) | 237 |
LensID | Canon EF 24-105mm f/4L IS USM |
LensInfo | 24-105mm f/? |
LensManualDistortionAmount | 0 |
LensProfileEnable | 0 |
LensProfileSetup | LensDefaults |
LightValue | 10.9 |
Location | Gjerdal |
LuminanceAdjustmentAqua | 0 |
LuminanceAdjustmentBlue | 0 |
LuminanceAdjustmentGreen | 0 |
LuminanceAdjustmentMagenta | 0 |
LuminanceAdjustmentOrange | 0 |
LuminanceAdjustmentPurple | 0 |
LuminanceAdjustmentRed | 0 |
LuminanceAdjustmentYellow | 0 |
LuminanceSmoothing | 0 |
Make | Canon |
MaxApertureValue | 4.0 |
Megapixels | 0.479 |
MeteringMode | Multi-segment |
Model | Canon EOS 7D |
ModifyDate (1) | 2010:09:10 22:47:32.0+1:00 |
ModifyDate | 2010:09:10 22:47:32 |
ObjectName | |
OwnerName | Geir A Granviken |
ParametricDarks | -5 |
ParametricHighlights | 0 |
ParametricHighlightSplit | 75 |
ParametricLights | +5 |
ParametricMidtoneSplit | 50 |
ParametricShadows | 0 |
ParametricShadowSplit | 25 |
PerspectiveHorizontal | 0 |
PerspectiveRotate | 0.0 |
PerspectiveScale | 100 |
PerspectiveVertical | 0 |
PostCropVignetteAmount | 0 |
ProcessVersion | 5.7 |
ProfileDescription | sRGB IEC61966-2.1 |
Province-State | Buskerud |
RedHue | 0 |
RedSaturation | 0 |
Rights | © 2010 Geir A Granviken |
Saturation | 0 |
SaturationAdjustmentAqua | 0 |
SaturationAdjustmentBlue | 0 |
SaturationAdjustmentGreen | 0 |
SaturationAdjustmentMagenta | 0 |
SaturationAdjustmentOrange | 0 |
SaturationAdjustmentPurple | 0 |
SaturationAdjustmentRed | 0 |
SaturationAdjustmentYellow | 0 |
ScaleFactor35efl | 1.6 |
SceneCaptureType | Standard |
SerialNumber | 330426024 |
Shadows | 5 |
ShadowTint | 0 |
SharpenDetail | 25 |
SharpenEdgeMasking | 0 |
SharpenRadius | +1.0 |
Sharpness | 25 |
ShutterSpeed | 1/60 |
ShutterSpeedValue | 1/60 |
Software | Adobe Photoshop Lightroom |
SplitToningBalance | 0 |
SplitToningHighlightHue | 0 |
SplitToningHighlightSaturation | 0 |
SplitToningShadowHue | 0 |
SplitToningShadowSaturation | 0 |
State | Buskerud |
Sub-location | Gjerdal |
Subject | ettermiddagssol, hester, beite, landbruk |
SubjectDistance | 11.9 m |
SupplementalCategories | - |
Tint | +21 |
Title | |
ToneCurve | 0, 0, 32, 22, 64, 56, 128, 128, 192, 196, 255, 255 |
ToneCurveName | Medium Contrast |
UserComment | |
Version | 6.1 |
Vibrance | 0 |
VignetteAmount | 0 |
WhiteBalance (2) | As Shot |
WhiteBalance | Auto |