Felt | Verdi |
AlreadyApplied | True |
Aperture | 6.3 |
ApertureValue | 6.3 |
Artist | unknown |
BitsPerSample | 8 |
BlueHue | 0 |
BlueSaturation | 0 |
Brightness | -54 |
By-line | unknown |
CameraProfile | Embedded |
ChromaticAberrationB | 0 |
ChromaticAberrationR | 0 |
CircleOfConfusion | 0.030 mm |
Clarity | +76 |
ColorComponents | 1 |
ColorNoiseReduction | 0 |
Contrast | +25 |
ConvertToGrayscale | True |
CreateDate (1) | 2005:08:11 20:32:18+02:00 |
CreateDate | 2005:08:11 20:32:18 |
Creator | unknown |
CreatorTool | Adobe Photoshop Lightroom |
CustomRendered | Normal |
DateTimeDigitized | 2005:08:11 20:32:18+02:00 |
DateTimeOriginal (1) | 2005:08:11 20:32:18+02:00 |
DateTimeOriginal | 2005:08:11 20:32:18 |
Defringe | 0 |
ExifImageHeight | 533 |
ExifImageWidth | 800 |
Exposure | +0.76 |
ExposureCompensation | 0 |
ExposureMode | Manual |
ExposureProgram | Manual |
ExposureTime | 1/125 |
FillLight | 0 |
Firmware | 1.0.5 |
Flash | Off, Did not fire |
FlashCompensation | -2 |
FlashFired | False |
FlashFunction | False |
FlashMode | Off |
FlashRedEyeMode | False |
FlashReturn | No return detection |
FNumber | 6.3 |
FocalLength | 98.0 mm |
FocalLength35efl | 98.0 mm (35 mm equivalent: 98.7 mm) |
FOV | 20.7 deg |
GradientBasedCorrActive | true |
GradientBasedCorrAmount | 1.000000 |
GradientBasedCorrBrightness (1) | -0.075000 |
GradientBasedCorrBrightness (2) | 0.075000 |
GradientBasedCorrBrightness | 0.000000 |
GradientBasedCorrClarity (1) | 0.250000 |
GradientBasedCorrClarity (2) | 0.425000 |
GradientBasedCorrClarity | 0.150000 |
GradientBasedCorrContrast (1) | 0.600000 |
GradientBasedCorrContrast | 0.000000 |
GradientBasedCorrExposure (1) | 0.275000 |
GradientBasedCorrExposure (2) | 0.500000 |
GradientBasedCorrExposure | -0.550000 |
GradientBasedCorrHue | 230.000000 |
GradientBasedCorrMaskFullX (1) | 0.497050 |
GradientBasedCorrMaskFullX (2) | 0.473451 |
GradientBasedCorrMaskFullX | 0.535398 |
GradientBasedCorrMaskFullY (1) | 0.915929 |
GradientBasedCorrMaskFullY (2) | 0.977876 |
GradientBasedCorrMaskFullY | 1.002210 |
GradientBasedCorrMaskValue | 1.000000 |
GradientBasedCorrMaskWhat | Mask/Gradient |
GradientBasedCorrMaskZeroX (1) | 0.497050 |
GradientBasedCorrMaskZeroX (2) | 0.473451 |
GradientBasedCorrMaskZeroX | 0.535398 |
GradientBasedCorrMaskZeroY (1) | 0.533186 |
GradientBasedCorrMaskZeroY (2) | 0.893805 |
GradientBasedCorrMaskZeroY | 0.913717 |
GradientBasedCorrSaturation | 0.000000 |
GradientBasedCorrSharpness (1) | 0.350000 |
GradientBasedCorrSharpness (2) | 0.525000 |
GradientBasedCorrSharpness | 0.000000 |
GradientBasedCorrWhat | Correction |
GrayMixerAqua | +5 |
GrayMixerBlue | +2 |
GrayMixerGreen | -31 |
GrayMixerMagenta | 0 |
GrayMixerOrange | +2 |
GrayMixerPurple | -33 |
GrayMixerRed | +2 |
GrayMixerYellow | -12 |
GreenHue | 0 |
GreenSaturation | 0 |
HasCrop | False |
HasSettings | True |
HighlightRecovery | 0 |
HyperfocalDistance | 51.10 m |
ImageHeight | 533 |
ImageNumber | 172 |
ImageSize | 800x533 |
ImageWidth | 800 |
IncrementalTemperature | +2 |
IncrementalTint | -2 |
ISO | 200 |
Keywords | Moholmen, hav, lofoten, print |
Lens | 70.0-200.0 mm |
LensInfo | 70-200mm f/? |
LightValue | 11.3 |
LuminanceSmoothing | 57 |
Make | Canon |
MaxApertureValue | 2.8 |
Megapixels | 0.426 |
MeteringMode | Partial |
Model | Canon EOS 20D |
ModifyDate (1) | 2010:09:27 23:29:02+02:00 |
ModifyDate | 2010:09:27 23:29:02 |
OwnerName | unknown |
PaintCorrectionActive | true |
PaintCorrectionAmount | 1.000000 |
PaintCorrectionBrightness | 0.000000 |
PaintCorrectionClarity | 0.000000 |
PaintCorrectionContrast | 0.000000 |
PaintCorrectionExposure (1) | 0.125000 |
PaintCorrectionExposure (2) | 0.250000 |
PaintCorrectionExposure | 0.400000 |
PaintCorrectionHue | 230.000000 |
PaintCorrectionMaskCenterWeight (43) | 0.333540 |
PaintCorrectionMaskCenterWeight | 0.027071 |
PaintCorrectionMaskFlow (1) | 0.790000 |
PaintCorrectionMaskFlow (55) | 0.715000 |
PaintCorrectionMaskFlow | 0.616000 |
PaintCorrectionMaskRadius (1) | 0.049242 |
PaintCorrectionMaskRadius (52) | 0.009528 |
PaintCorrectionMaskRadius | 0.009216 |
PaintCorrectionMaskValue (1) | 0.813000 |
PaintCorrectionMaskValue (62) | 0.588000 |
PaintCorrectionMaskValue | 0.525000 |
PaintCorrectionMaskWhat | Mask/Paint |
PaintCorrectionSaturation | 0.000000 |
PaintCorrectionSharpness | 0.000000 |
PaintCorrectionWhat | Correction |
ParametricDarks | -64 |
ParametricHighlights | -5 |
ParametricHighlightSplit | 75 |
ParametricLights | +21 |
ParametricMidtoneSplit | 50 |
ParametricShadows | -86 |
ParametricShadowSplit | 25 |
PostCropVignetteAmount | 0 |
ProfileDescription | Adobe RGB (1998) |
RedHue | 0 |
RedSaturation | 0 |
ScaleFactor35efl | 1.0 |
SceneCaptureType | Standard |
SerialNumber | 530300462 |
Shadows | 13 |
ShadowTint | 0 |
SharpenDetail | 25 |
SharpenEdgeMasking | 0 |
SharpenRadius | +0.9 |
Sharpness | 45 |
ShutterSpeed | 1/125 |
ShutterSpeedValue | 1/125 |
SplitToningBalance | 0 |
SplitToningHighlightHue | 0 |
SplitToningHighlightSaturation | 0 |
SplitToningShadowHue | 0 |
SplitToningShadowSaturation | 0 |
Subject | Moholmen, hav, lofoten, print |
ToneCurve | 0, 0, 255, 255 |
ToneCurveName | Linear |
Version | 4.5 |
VignetteAmount | 0 |
WhiteBalance (2) | Custom |
WhiteBalance | Manual |