Felt | Verdi |
AlreadyApplied | True |
Aperture | 5.0 |
ApertureValue | 5.0 |
ApproximateFocusDistance | 5.11 |
Artist | Thomas Holm |
BitsPerSample | 8 |
BlueHue | 0 |
BlueSaturation | 0 |
Brightness | +60 |
By-line | Thomas Holm |
CameraProfile | 2011-05-04 Panamera rektang softboxer m ytre diffusor |
CFAPattern | [Blue,Green][Green,Red] |
ChromaticAberrationB | 0 |
ChromaticAberrationR | 0 |
CircleOfConfusion | 0.015 mm |
Clarity | +59 |
ColorComponents | 3 |
ColorNoiseReduction | 17 |
ColorNoiseReductionDetail | 50 |
ColorTemperature | 5800 |
Contrast (1) | +34 |
Contrast | Normal |
ConvertToGrayscale | False |
Copyright | © ThomasHolm.no |
CopyrightFlag | True |
CopyrightNotice | © ThomasHolm.no |
CreateDate | 2011:05:10 18:55:18 |
Creator | Thomas Holm |
CreatorTool | Adobe Photoshop Lightroom 3.4 |
CreatorWorkURL | www.thomasholm.no |
CropAngle | -0.893111 |
CropBottom | 0.934889 |
CropConstrainToWarp | 0 |
CropHeight | 960 |
CropLeft | 0.056156 |
CropRight | 0.989558 |
CropTop | 0.03145 |
CropUnit | pixels |
CropWidth | 1280 |
CustomRendered | Normal |
DateCreated (1) | 2011:05:10 |
DateCreated | 2011:05:10 18:55:18 |
DateTimeOriginal | 2011:05:10 18:55:18 |
Defringe | 0 |
DigitalZoomRatio | 1 |
DOF | inf (2.48 m - inf) |
Exposure | 0.00 |
ExposureCompensation | 0 |
ExposureMode | Manual |
ExposureProgram | Manual |
ExposureTime | 1/250 |
FillLight | 5 |
Flash | On, Did not fire |
FlashCompensation | 0 |
FNumber | 5.0 |
FocalLength | 19.0 mm |
FocalLength35efl | 19.0 mm (35 mm equivalent: 38.0 mm) |
FocalLengthIn35mmFormat | 38 mm |
FOV | 50.7 deg |
GainControl | High gain up |
GrainAmount | 0 |
GreenHue | 0 |
GreenSaturation | 0 |
HasCrop | True |
HasSettings | True |
HighlightRecovery | 20 |
HueAdjustmentAqua | 0 |
HueAdjustmentBlue | +2 |
HueAdjustmentGreen | 0 |
HueAdjustmentMagenta | 0 |
HueAdjustmentOrange | 0 |
HueAdjustmentPurple | -3 |
HueAdjustmentRed | 0 |
HueAdjustmentYellow | 0 |
HyperfocalDistance | 4.81 m |
ImageHeight | 960 |
ImageSize | 1280x960 |
ImageWidth | 1280 |
ISO | 250 |
Keywords | porsche |
Lens | OLYMPUS 14-35mm F2.0 SWD |
LensInfo | 14-35mm f/2 |
LensManualDistortionAmount | 0 |
LensModel | OLYMPUS 14-35mm F2.0 SWD |
LensProfileEnable | 0 |
LensProfileSetup | LensDefaults |
LensSerialNumber | 180004546 |
LightSource | Unknown |
LightValue | 11.3 |
LuminanceAdjustmentAqua | 0 |
LuminanceAdjustmentBlue | 0 |
LuminanceAdjustmentGreen | 0 |
LuminanceAdjustmentMagenta | 0 |
LuminanceAdjustmentOrange | 0 |
LuminanceAdjustmentPurple | 0 |
LuminanceAdjustmentRed | 0 |
LuminanceAdjustmentYellow | 0 |
LuminanceNoiseReductionContrast | 3 |
LuminanceNoiseReductionDetail | 75 |
LuminanceSmoothing | 26 |
Make | OLYMPUS IMAGING CORP. |
Marked | True |
MaxApertureValue | 2.0 |
Megapixels | 1.2 |
MeteringMode | Center-weighted average |
Model | E-5 |
ModifyDate (1) | 2011:05:19 00:17:10+02:00 |
ModifyDate | 2011:05:19 00:17:10 |
PaintCorrectionActive | true |
PaintCorrectionAmount | 1.000000 |
PaintCorrectionBrightness (2) | 0.065000 |
PaintCorrectionBrightness | -0.146000 |
PaintCorrectionClarity (1) | 0.000000 |
PaintCorrectionClarity (2) | -0.195000 |
PaintCorrectionClarity | -0.415000 |
PaintCorrectionContrast (2) | -0.171000 |
PaintCorrectionContrast | 0.000000 |
PaintCorrectionExposure (1) | -0.146000 |
PaintCorrectionExposure (2) | 0.025000 |
PaintCorrectionExposure | -0.268000 |
PaintCorrectionHue | 240.000000 |
PaintCorrectionMaskCenterWeight | 0.170256 |
PaintCorrectionMaskFlow (22) | 0.729000 |
PaintCorrectionMaskFlow (6) | 0.670000 |
PaintCorrectionMaskFlow | 0.399000 |
PaintCorrectionMaskRadius (13) | 0.082995 |
PaintCorrectionMaskRadius (15) | 0.025395 |
PaintCorrectionMaskRadius (21) | 0.038825 |
PaintCorrectionMaskRadius (6) | 0.044234 |
PaintCorrectionMaskRadius | 0.061386 |
PaintCorrectionMaskValue (24) | 0.917000 |
PaintCorrectionMaskValue (3) | 0.845000 |
PaintCorrectionMaskValue | 0.702000 |
PaintCorrectionMaskWhat | Mask/Paint |
PaintCorrectionSaturation (3) | -0.171000 |
PaintCorrectionSaturation (5) | -0.561000 |
PaintCorrectionSaturation | 0.000000 |
PaintCorrectionSharpness (1) | 0.000000 |
PaintCorrectionSharpness (2) | -0.195000 |
PaintCorrectionSharpness | -0.512000 |
PaintCorrectionWhat | Correction |
ParametricDarks | -13 |
ParametricHighlights | +3 |
ParametricHighlightSplit | 75 |
ParametricLights | +12 |
ParametricMidtoneSplit | 50 |
ParametricShadows | +19 |
ParametricShadowSplit | 25 |
PerspectiveHorizontal | 0 |
PerspectiveRotate | 0.0 |
PerspectiveScale | 100 |
PerspectiveVertical | 0 |
PostCropVignetteAmount | -45 |
PostCropVignetteFeather | 50 |
PostCropVignetteHighlightContrast | 0 |
PostCropVignetteMidpoint | 53 |
PostCropVignetteRoundness | 0 |
PostCropVignetteStyle | 1 |
ProcessVersion | 5.7 |
ProfileDescription | sRGB IEC61966-2.1 |
RedHue | 0 |
RedSaturation | 0 |
Rights | © ThomasHolm.no |
Saturation (1) | -33 |
Saturation | Normal |
SaturationAdjustmentAqua | 0 |
SaturationAdjustmentBlue | 0 |
SaturationAdjustmentGreen | 0 |
SaturationAdjustmentMagenta | +18 |
SaturationAdjustmentOrange | +27 |
SaturationAdjustmentPurple | 0 |
SaturationAdjustmentRed | +100 |
SaturationAdjustmentYellow | 0 |
ScaleFactor35efl | 2.0 |
SceneCaptureType | Standard |
SerialNumber | AB1502888 |
Shadows | 8 |
ShadowTint | 0 |
SharpenDetail | 20 |
SharpenEdgeMasking | 0 |
SharpenRadius | +0.7 |
Sharpness (1) | 47 |
Sharpness | Soft |
ShutterSpeed | 1/250 |
ShutterSpeedValue | 1/250 |
Software | Adobe Photoshop Lightroom 3.4 |
SplitToningBalance | 0 |
SplitToningHighlightHue | 0 |
SplitToningHighlightSaturation | 0 |
SplitToningShadowHue | 0 |
SplitToningShadowSaturation | 0 |
Subject | porsche |
SubjectDistance | 5.11 m |
Tint | +6 |
ToneCurve | 0, 0, 32, 16, 64, 50, 128, 128, 192, 202, 255, 255 |
ToneCurveName | Strong Contrast |
UsageTerms | No copying without permission! |
Version | 6.4 |
Vibrance | -17 |
VignetteAmount | 0 |
WhiteBalance (1) | Custom |
WhiteBalance | Manual |