Felt | Verdi |
AlreadyApplied | True |
Aperture | 5.6 |
ApertureValue | 5.6 |
ApproximateFocusDistance | 5.29 |
Artist | Runar Vestli |
BitsPerSample | 8 |
BlackClip | 0.030900 |
BlueHue | 0 |
BlueSaturation | 0 |
Brightness | 0 |
By-line | Runar Vestli |
CameraProfile | Embedded |
ChromaticAberrationB | 0 |
ChromaticAberrationR | 0 |
Clarity | +25 |
ColorComponents | 1 |
ColorNoiseReduction | 0 |
ColorSaturation | 0.0 |
ColorTemperature | 0.0 |
Contrast | +25 |
ConvertToGrayscale | True |
Copyright | Runar Vestli |
CopyrightNotice | Runar Vestli |
CreateDate (1) | 2011:05:23 18:56:39.00 |
CreateDate | 2011:05:23 18:56:39 |
Creator | Runar Vestli |
CreatorTool | Adobe Photoshop Lightroom 3.4 |
CropAngle | 0 |
CropBottom | 0.996255 |
CropConstrainToWarp | 0 |
CropHeight | 905 |
CropLeft | 0.047441 |
CropRight | 0.987516 |
CropTop | 0 |
CropUnit | pixels |
CropWidth | 1280 |
DateCreated (1) | 2011:05:23 |
DateCreated | 2011:05:23 18:56:39.00 |
DateTimeOriginal | 2011:05:23 18:56:39 |
Defringe | 0 |
Exposure | 0.00 |
ExposureTime | 1/50 |
FillLight | 0 |
Firmware | 1.2.3 |
FlashCompensation | 0 |
FNumber | 5.6 |
FocalLength | 24.0 mm |
FocalLength35efl | 24.0 mm |
Gamma | 1.1 |
GrainAmount | 0 |
GrayMixerAqua | -18 |
GrayMixerBlue | +9 |
GrayMixerGreen | -27 |
GrayMixerMagenta | +4 |
GrayMixerOrange | -19 |
GrayMixerPurple | +15 |
GrayMixerRed | -9 |
GrayMixerYellow | -22 |
GreenHue | 0 |
GreenSaturation | 0 |
HasCrop | True |
HasSettings | True |
HighlightRecovery | 0 |
HighlightsSmoothing | 0.0 |
ImageHeight | 905 |
ImageNumber | 0 |
ImageSize | 1280x905 |
ImageWidth | 1280 |
IncrementalTemperature | 0 |
IncrementalTint | 0 |
ISO | 100 |
Keywords | mai2011, overskyet, vestby kirke |
Lens | EF-S17-55mm f/2.8 IS USM |
LensID | 240 |
LensInfo | 17-55mm f/? |
LensManualDistortionAmount | 0 |
LensModel | EF-S17-55mm f/2.8 IS USM |
LensProfileChromaticAberrationScale | 100 |
LensProfileDistortionScale | 100 |
LensProfileEnable | 0 |
LensProfileFilename | Canon EOS 50D (Canon EF-S 17-55mm f2.8 IS USM).lcp |
LensProfileName | Adobe (Canon EF-S 17-55mm f/2.8 IS USM) |
LensProfileSetup | Custom |
LensProfileVignettingScale | 100 |
LightValue | 10.6 |
LuminanceNoiseReductionContrast | 0 |
LuminanceNoiseReductionDetail | 50 |
LuminanceSmoothing | 40 |
Luminosity | 1.5 |
Megapixels | 1.2 |
Method | Details Enhancer |
Microcontrast | 8.5 |
Microsmoothing | 4.0 |
Model | Canon EOS 7D |
ModifyDate (1) | 2011:05:23 21:43:08+02:00 |
ModifyDate | 2011:05:23 21:43:08 |
ParametricDarks | -9 |
ParametricHighlights | 0 |
ParametricHighlightSplit | 75 |
ParametricLights | 0 |
ParametricMidtoneSplit | 50 |
ParametricShadows | 0 |
ParametricShadowSplit | 25 |
PerspectiveHorizontal | 0 |
PerspectiveRotate | 0.0 |
PerspectiveScale | 100 |
PerspectiveVertical | 0 |
PostCropVignetteAmount | -15 |
PostCropVignetteFeather | 50 |
PostCropVignetteHighlightContrast | 0 |
PostCropVignetteMidpoint | 50 |
PostCropVignetteRoundness | 0 |
PostCropVignetteStyle | 1 |
ProcessVersion | 5.7 |
ProfileDescription | sRGB IEC61966-2.1 |
RedHue | 0 |
RedSaturation | 0 |
Rights | Runar Vestli |
SaturationHighlights | 0.0 |
SaturationShadows | 0.0 |
SerialNumber | 280101328 |
Shadows | 5 |
ShadowsClipping | 0.0 |
ShadowsSmoothing | 0.0 |
ShadowTint | 0 |
SharpenDetail | 25 |
SharpenEdgeMasking | 0 |
SharpenRadius | +1.0 |
Sharpness | 45 |
ShutterSpeed | 1/50 |
ShutterSpeedValue | 1/50 |
Smoothing | Medium |
SmoothingMode | Light |
Software | Adobe Photoshop Lightroom 3.4 |
SplitToningBalance | 0 |
SplitToningHighlightHue | 0 |
SplitToningHighlightSaturation | 0 |
SplitToningShadowHue | 0 |
SplitToningShadowSaturation | 0 |
Strength | 100.0 |
Subject | mai2011, overskyet, vestby kirke |
ToneCurve | 0, 0, 255, 255 |
ToneCurveName | Linear |
Version (1) | 4.0 |
Version | 6.4 |
VignetteAmount | 0 |
WhiteBalance | As Shot |
WhiteClip | 1.129400 |