Felt | Verdi |
AlreadyApplied | True |
Aperture | 9.0 |
ApertureValue | 9.0 |
Artist | Cecilie Marie Bergsnes |
BitsPerSample | 8 |
BlueHue | 0 |
BlueSaturation | 0 |
Brightness | +50 |
By-line | Cecilie Marie Bergsnes |
CameraProfile | Adobe Standard |
ChromaticAberrationB | 0 |
ChromaticAberrationR | 0 |
CircleOfConfusion | 0.019 mm |
Clarity | 0 |
ColorComponents | 3 |
ColorMode | RGB |
ColorNoiseReduction | 25 |
ColorNoiseReductionDetail | 50 |
ColorSpace | Uncalibrated |
ColorTemperature | 4900 |
Contrast | +25 |
ConvertToGrayscale | False |
CreateDate (1) | 2011:02:24 19:02:15.00+01:00 |
CreateDate | 2011:02:24 19:02:15 |
Creator | Cecilie Marie Bergsnes |
CreatorTool | Adobe Photoshop CS5 Macintosh |
CustomRendered | Normal |
DateCreated (1) | 2011:02:24 |
DateCreated | 2011:02:24 19:02:15 |
DateTimeOriginal | 2011:02:24 19:02:15 |
Defringe | 0 |
DOF | 52.71 m (2.20 - 54.90 m) |
ExifImageHeight | 900 |
ExifImageWidth | 635 |
Exposure | +0.45 |
ExposureCompensation | 0 |
ExposureMode | Manual |
ExposureProgram | Manual |
ExposureTime | 1/250 |
FillLight | 0 |
Firmware | 1.2.2 |
Flash | Off, Did not fire |
FlashCompensation | 0 |
FNumber | 9.0 |
FocalLength | 28.0 mm |
FocalLength35efl | 28.0 mm (35 mm equivalent: 44.0 mm) |
Format | image/jpeg |
FOV | 44.5 deg |
GrainAmount | 0 |
GreenHue | 0 |
GreenSaturation | 0 |
HasCrop | False |
HasSettings | True |
HighlightRecovery | 0 |
HueAdjustmentAqua | 0 |
HueAdjustmentBlue | 0 |
HueAdjustmentGreen | 0 |
HueAdjustmentMagenta | 0 |
HueAdjustmentOrange | 0 |
HueAdjustmentPurple | 0 |
HueAdjustmentRed | 0 |
HueAdjustmentYellow | 0 |
HyperfocalDistance | 4.55 m |
ICCProfileName | Adobe RGB (1998) |
ImageHeight | 900 |
ImageNumber | 0 |
ImageSize | 635x900 |
ImageWidth | 635 |
ISO | 100 |
Lens | EF-S18-55mm f/3.5-5.6 |
LensID (1) | 45 |
LensID | Canon EF-S 18-55mm f/3.5-5.6 [II] |
LensInfo | 18-55mm f/? |
LightValue | 14.3 |
LuminanceAdjustmentAqua | 0 |
LuminanceAdjustmentBlue | 0 |
LuminanceAdjustmentGreen | 0 |
LuminanceAdjustmentMagenta | 0 |
LuminanceAdjustmentOrange | 0 |
LuminanceAdjustmentPurple | 0 |
LuminanceAdjustmentRed | 0 |
LuminanceAdjustmentYellow | 0 |
LuminanceSmoothing | 0 |
Make | Canon |
MaxApertureValue | 4.2 |
Megapixels | 0.572 |
MeteringMode | Multi-segment |
Model | Canon EOS 7D |
ModifyDate (1) | 2011:05:22 16:36:21+02:00 |
ModifyDate | 2011:05:22 16:36:21 |
Orientation | Horizontal (normal) |
ParametricDarks | 0 |
ParametricHighlights | 0 |
ParametricHighlightSplit | 75 |
ParametricLights | 0 |
ParametricMidtoneSplit | 50 |
ParametricShadows | 0 |
ParametricShadowSplit | 25 |
PostCropVignetteAmount | 0 |
ProcessVersion | 5.7 |
ProfileDescription | Adobe RGB (1998) |
Rating | 0 |
RawFileName | IMG_1105.CR2 |
RedHue | 0 |
RedSaturation | 0 |
Saturation | 0 |
SaturationAdjustmentAqua | 0 |
SaturationAdjustmentBlue | 0 |
SaturationAdjustmentGreen | 0 |
SaturationAdjustmentMagenta | 0 |
SaturationAdjustmentOrange | 0 |
SaturationAdjustmentPurple | 0 |
SaturationAdjustmentRed | 0 |
SaturationAdjustmentYellow | 0 |
ScaleFactor35efl | 1.6 |
SceneCaptureType | Standard |
SerialNumber | 1580815069 |
Shadows | 5 |
ShadowTint | 0 |
SharpenDetail | 25 |
SharpenEdgeMasking | 0 |
SharpenRadius | +1.0 |
Sharpness | 25 |
ShutterSpeed | 1/250 |
ShutterSpeedValue | 1/250 |
SidecarForExtension | CR2 |
Software | Adobe Photoshop CS5 Macintosh |
SplitToningBalance | 0 |
SplitToningHighlightHue | 0 |
SplitToningHighlightSaturation | 0 |
SplitToningShadowHue | 0 |
SplitToningShadowSaturation | 0 |
SubjectDistance | 4.23 m |
Tint | +1 |
ToneCurve | 0, 0, 32, 22, 64, 56, 128, 128, 192, 196, 255, 255 |
ToneCurveName | Medium Contrast |
URL_List | |
Version | 6.0 |
Vibrance | -18 |
VignetteAmount | 0 |
WhiteBalance (1) | Custom |
WhiteBalance | Auto |