Felt | Verdi |
AlreadyApplied | True |
Aperture | 8.0 |
ApertureValue | 8.0 |
Artist | Wilko Jansen |
BitsPerSample | 8 |
BlueHue | 0 |
BlueSaturation | 0 |
Brightness | +50 |
By-line | Wilko Jansen |
CameraProfile | ACR 4.4 |
ChromaticAberrationB | 0 |
ChromaticAberrationR | 0 |
Clarity | -9 |
ColorComponents | 3 |
ColorMode | RGB |
ColorNoiseReduction | 25 |
ColorSpace (1) | Unknown (-1) |
ColorSpace | Uncalibrated |
ColorTemperature | 5650 |
Contrast | +58 |
ConvertToGrayscale | False |
CopyrightFlag | False |
CreateDate (1) | 2011:06:29 22:20:36+02:00 |
CreateDate | 2011:06:29 17:03:10 |
Creator | Wilko Jansen |
CreatorTool | Adobe Photoshop CS3 Windows |
DateTimeDigitized | 2011:06:29 17:03:10+02:00 |
DateTimeOriginal (1) | 2011:06:29 17:03:10+02:00 |
DateTimeOriginal | 2011:06:29 17:03:10 |
Defringe | 0 |
ExifImageHeight | 830 |
ExifImageWidth | 1505 |
Exposure | +0.40 |
ExposureCompensation | 0 |
ExposureProgram | Program AE |
ExposureTime | 1/1000 |
FillLight | 5 |
Firmware | 1.10 |
Flash | No Flash |
FlashFired | False |
FNumber | 8.0 |
FocalLength | 21.3 mm |
FocalLength35efl | 21.3 mm |
Format | image/jpeg |
GreenHue | 0 |
GreenSaturation | 0 |
HasCrop | False |
HasSettings | True |
HighlightRecovery | 39 |
HueAdjustmentAqua | 0 |
HueAdjustmentBlue | 0 |
HueAdjustmentGreen | 0 |
HueAdjustmentMagenta | 0 |
HueAdjustmentOrange | 0 |
HueAdjustmentPurple | 0 |
HueAdjustmentRed | 0 |
HueAdjustmentYellow | 0 |
ICCProfileName | Adobe RGB (1998) |
ImageHeight | 830 |
ImageSize | 1505x830 |
ImageWidth | 1505 |
ISO | 800 |
Lens | 7.1-21.3 mm |
LensInfo | 7.09375-21.3125mm f/? |
LightValue | 13.0 |
LuminanceAdjustmentAqua | 0 |
LuminanceAdjustmentBlue | 0 |
LuminanceAdjustmentGreen | 0 |
LuminanceAdjustmentMagenta | 0 |
LuminanceAdjustmentOrange | 0 |
LuminanceAdjustmentPurple | 0 |
LuminanceAdjustmentRed | 0 |
LuminanceAdjustmentYellow | 0 |
LuminanceSmoothing | 0 |
Make | Canon |
MaxApertureValue | 5.0 |
Megapixels | 1.2 |
MeteringMode | Multi-segment |
Model | Canon PowerShot S30 |
ModifyDate (1) | 2011:06:29 22:20:36+02:00 |
ModifyDate | 2011:06:29 22:20:36 |
Orientation | Horizontal (normal) |
OwnerName | Wilko Jansen |
ParametricDarks | 0 |
ParametricHighlights | 0 |
ParametricHighlightSplit | 75 |
ParametricLights | 0 |
ParametricMidtoneSplit | 50 |
ParametricShadows | 0 |
ParametricShadowSplit | 25 |
PostCropVignetteAmount | 0 |
ProfileDescription | Adobe RGB (1998) |
Rating | 0 |
RawFileName | CRW_0089.CRW |
RedHue | 0 |
RedSaturation | 0 |
Saturation | -98 |
SaturationAdjustmentAqua | 0 |
SaturationAdjustmentBlue | 0 |
SaturationAdjustmentGreen | 0 |
SaturationAdjustmentMagenta | 0 |
SaturationAdjustmentOrange | 0 |
SaturationAdjustmentPurple | 0 |
SaturationAdjustmentRed | 0 |
SaturationAdjustmentYellow | 0 |
Shadows | 11 |
ShadowTint | 0 |
SharpenDetail | 25 |
SharpenEdgeMasking | 0 |
SharpenRadius | +1.0 |
Sharpness | 25 |
ShutterSpeed | 1/1000 |
ShutterSpeedValue | 1/1000 |
SidecarForExtension | CRW |
Software | Adobe Photoshop CS3 Windows |
SplitToningBalance | 0 |
SplitToningHighlightHue | 0 |
SplitToningHighlightSaturation | 0 |
SplitToningShadowHue | 0 |
SplitToningShadowSaturation | 0 |
Tint | +2 |
ToneCurve | 0, 0, 32, 22, 64, 56, 128, 128, 192, 196, 255, 255 |
ToneCurveName | Medium Contrast |
URL_List | |
Version | 4.6 |
Vibrance | -14 |
VignetteAmount | 0 |
WhiteBalance | As Shot |