Felt | Verdi |
AlreadyApplied | True |
Aperture | 9.5 |
ApertureValue | 9.5 |
Artist | Kristian Kittelsaa |
AuthorsPosition | Photographer |
BitsPerSample | 8 |
BlueHue | 0 |
BlueSaturation | 0 |
Brightness | +50 |
By-line | Kristian Kittelsaa |
By-lineTitle | Photographer |
CameraProfile | Camera Standard |
CFAPattern | [Blue,Green][Green,Red] |
ChromaticAberrationB | 0 |
ChromaticAberrationR | 0 |
CircleOfConfusion | 0.020 mm |
Clarity | +60 |
ColorComponents | 3 |
ColorNoiseReduction | 25 |
ColorNoiseReductionDetail | 50 |
ColorTemperature | 4650 |
Contrast (1) | +30 |
Contrast | High |
ConvertToGrayscale | False |
Copyright | Copyright © 2011 Kristian Kittelsaa |
CopyrightFlag | True |
CopyrightNotice | Copyright © 2011 Kristian Kittelsaa |
CreateDate | 2011:07:14 20:29:12 |
Creator | Kristian Kittelsaa |
CreatorAddress | Thomas von Westens gt 26 |
CreatorCity | Trondheim |
CreatorCountry | Norway |
CreatorPostalCode | N-7042 |
CreatorTool | Adobe Photoshop Lightroom 3.4.1 |
CreatorWorkEmail | kittelsaa@gmail.com |
CreatorWorkURL | http://www.kittelsaa.com |
CustomRendered | Normal |
DateCreated (1) | 2011:07:14 |
DateCreated | 2011:07:14 20:29:12 |
DateTimeOriginal | 2011:07:14 20:29:12 |
Defringe | 0 |
Exposure | -0.25 |
ExposureCompensation | 0 |
ExposureMode | Manual |
ExposureProgram | Manual |
ExposureTime | 1/250 |
FillLight | 50 |
Flash | Off, Did not fire |
FNumber | 9.5 |
FocalLength | 32.5 mm |
FocalLength35efl | 32.5 mm (35 mm equivalent: 49.0 mm) |
FocalLengthIn35mmFormat | 49 mm |
FOV | 40.3 deg |
GrainAmount | 0 |
GreenHue | 0 |
GreenSaturation | 0 |
HasCrop | False |
HasSettings | True |
HighlightRecovery | 50 |
HueAdjustmentAqua | 0 |
HueAdjustmentBlue | 0 |
HueAdjustmentGreen | 0 |
HueAdjustmentMagenta | 0 |
HueAdjustmentOrange | 0 |
HueAdjustmentPurple | 0 |
HueAdjustmentRed | 0 |
HueAdjustmentYellow | 0 |
HyperfocalDistance | 5.58 m |
ImageHeight | 664 |
ImageSize | 1000x664 |
ImageWidth | 1000 |
ISO | 100 |
Lens | smc PENTAX-DA 18-55mm F3.5-5.6 AL II |
LensID (1) | 7 229 |
LensID | smc PENTAX-DA 18-55mm F3.5-5.6 AL II |
LensInfo | 18-55mm f/3.5-5.6 |
LensManualDistortionAmount | 0 |
LensModel | smc PENTAX-DA 18-55mm F3.5-5.6 AL II |
LensProfileChromaticAberrationScale | 100 |
LensProfileDistortionScale | 100 |
LensProfileEnable | 1 |
LensProfileFilename | PENTAX (smc PENTAX-DA 18-55mm F3.5-5.6 AL II) - RAW.lcp |
LensProfileName | Adobe (smc PENTAX-DA 18-55mm F3.5-5.6 AL II) |
LensProfileSetup | LensDefaults |
LensProfileVignettingScale | 100 |
LightValue | 14.5 |
LuminanceAdjustmentAqua | 0 |
LuminanceAdjustmentBlue | 0 |
LuminanceAdjustmentGreen | 0 |
LuminanceAdjustmentMagenta | 0 |
LuminanceAdjustmentOrange | 0 |
LuminanceAdjustmentPurple | 0 |
LuminanceAdjustmentRed | 0 |
LuminanceAdjustmentYellow | 0 |
LuminanceSmoothing | 0 |
Make | PENTAX |
Marked | True |
Megapixels | 0.664 |
MeteringMode | Multi-segment |
Model | PENTAX K20D |
ModifyDate (1) | 2011:08:11 22:26:15+02:00 |
ModifyDate | 2011:08:11 22:26:15 |
ParametricDarks | 0 |
ParametricHighlights | 0 |
ParametricHighlightSplit | 75 |
ParametricLights | 0 |
ParametricMidtoneSplit | 50 |
ParametricShadows | 0 |
ParametricShadowSplit | 25 |
PerspectiveHorizontal | 0 |
PerspectiveRotate | 0.0 |
PerspectiveScale | 100 |
PerspectiveVertical | 0 |
PostCropVignetteAmount | 0 |
ProcessVersion | 5.7 |
ProfileDescription | sRGB IEC61966-2.1 |
RedHue | 0 |
RedSaturation | 0 |
Rights | Copyright © 2011 Kristian Kittelsaa |
Saturation (1) | 0 |
Saturation | Normal |
SaturationAdjustmentAqua | 0 |
SaturationAdjustmentBlue | 0 |
SaturationAdjustmentGreen | 0 |
SaturationAdjustmentMagenta | 0 |
SaturationAdjustmentOrange | 0 |
SaturationAdjustmentPurple | 0 |
SaturationAdjustmentRed | 0 |
SaturationAdjustmentYellow | 0 |
ScaleFactor35efl | 1.5 |
SceneCaptureType | Standard |
SensingMethod | One-chip color area |
Shadows | 3 |
ShadowTint | 0 |
SharpenDetail | 25 |
SharpenEdgeMasking | 0 |
SharpenRadius | +1.0 |
Sharpness (1) | 50 |
Sharpness | Hard |
ShutterSpeed | 1/250 |
ShutterSpeedValue | 1/250 |
Software | Adobe Photoshop Lightroom 3.4.1 |
SplitToningBalance | 0 |
SplitToningHighlightHue | 0 |
SplitToningHighlightSaturation | 0 |
SplitToningShadowHue | 0 |
SplitToningShadowSaturation | 0 |
SubjectDistanceRange | Distant |
Tint | -8 |
ToneCurve | 0, 0, 32, 16, 64, 50, 128, 128, 192, 202, 255, 255 |
ToneCurveName | Strong Contrast |
UsageTerms | No reproduction of any kind without prior written agreement |
Version | 6.4.1 |
Vibrance | 0 |
VignetteAmount | 0 |
WhiteBalance (1) | As Shot |
WhiteBalance | Manual |