Felt | Verdi |
AlreadyApplied | True |
Aperture | 10.0 |
ApertureValue | 10.0 |
ApproximateFocusDistance | 3.35 |
Artist | Kristian Kittelsaa |
AuthorsPosition | Photographer |
BitsPerSample | 8 |
BlueHue | -59 |
BlueSaturation | +12 |
Brightness | +19 |
By-line | Kristian Kittelsaa |
By-lineTitle | Photographer |
CameraProfile | ACR 4.4 |
CFAPattern | [Red,Green][Green,Blue] |
ChromaticAberrationB | 0 |
ChromaticAberrationR | 0 |
CircleOfConfusion | 0.020 mm |
Clarity | +77 |
ColorComponents | 3 |
ColorNoiseReduction | 1 |
ColorNoiseReductionDetail | 50 |
ColorTemperature | 7446 |
Contrast (1) | -30 |
Contrast | Normal |
ConvertToGrayscale | False |
Copyright | Copyright © 2011 Kristian Kittelsaa |
CopyrightFlag | True |
CopyrightNotice | Copyright © 2011 Kristian Kittelsaa |
CreateDate (1) | 2011:11:15 17:37:54.25 |
CreateDate | 2011:11:15 17:37:54 |
Creator | Kristian Kittelsaa |
CreatorAddress | Thomas von Westens gt 26 |
CreatorCity | Trondheim |
CreatorCountry | Norway |
CreatorPostalCode | N-7042 |
CreatorTool | Adobe Photoshop Lightroom 3.5 (Windows) |
CreatorWorkEmail | kittelsaa@gmail.com |
CreatorWorkURL | http://www.kittelsaa.com |
CustomRendered | Normal |
DateCreated (1) | 2011:11:15 |
DateCreated | 2011:11:15 17:37:54.25 |
DateTimeOriginal | 2011:11:15 17:37:54 |
Defringe | 0 |
DigitalZoomRatio | 1 |
DOF | 3.90 m (2.30 - 6.20 m) |
Exposure | +0.58 |
ExposureCompensation | 0 |
ExposureMode | Manual |
ExposureProgram | Manual |
ExposureTime | 1/200 |
FillLight | 27 |
Flash | No Flash |
FNumber | 10.0 |
FocalLength | 38.0 mm |
FocalLength35efl | 38.0 mm (35 mm equivalent: 57.0 mm) |
FocalLengthIn35mmFormat | 57 mm |
FOV | 35.1 deg |
GainControl | None |
GrainAmount | 0 |
GreenHue | +59 |
GreenSaturation | +59 |
HasCrop | False |
HasSettings | True |
HighlightRecovery | 50 |
HueAdjustmentAqua | +36 |
HueAdjustmentBlue | +70 |
HueAdjustmentGreen | +68 |
HueAdjustmentMagenta | -25 |
HueAdjustmentOrange | -36 |
HueAdjustmentPurple | +23 |
HueAdjustmentRed | +29 |
HueAdjustmentYellow | -60 |
HyperfocalDistance | 7.21 m |
ImageHeight | 664 |
ImageNumber | 57112 |
ImageSize | 1000x664 |
ImageWidth | 1000 |
ISO | 200 |
Lens | 24.0-70.0 mm f/2.8 |
LensID (1) | 147 |
LensID | AF-S Zoom-Nikkor 24-70mm f/2.8G ED |
LensInfo | 24-70mm f/2.8 |
LensManualDistortionAmount | 0 |
LensModel | 24.0-70.0 mm f/2.8 |
LensProfileEnable | 0 |
LensProfileSetup | LensDefaults |
LightSource | Unknown |
LightValue | 13.3 |
LuminanceAdjustmentAqua | 0 |
LuminanceAdjustmentBlue | 0 |
LuminanceAdjustmentGreen | 0 |
LuminanceAdjustmentMagenta | 0 |
LuminanceAdjustmentOrange | 0 |
LuminanceAdjustmentPurple | 0 |
LuminanceAdjustmentRed | 0 |
LuminanceAdjustmentYellow | 0 |
LuminanceNoiseReductionContrast | 0 |
LuminanceNoiseReductionDetail | 50 |
LuminanceSmoothing | 27 |
Make | NIKON CORPORATION |
Marked | True |
MaxApertureValue | 2.8 |
Megapixels | 0.664 |
MeteringMode | Multi-segment |
Model | NIKON D300S |
ModifyDate (1) | 2011:12:12 15:31:36+01:00 |
ModifyDate | 2011:12:12 15:31:36 |
ParametricDarks | -13 |
ParametricHighlights | -48 |
ParametricHighlightSplit | 75 |
ParametricLights | 0 |
ParametricMidtoneSplit | 50 |
ParametricShadows | +36 |
ParametricShadowSplit | 25 |
PerspectiveHorizontal | 0 |
PerspectiveRotate | 0.0 |
PerspectiveScale | 100 |
PerspectiveVertical | 0 |
PostCropVignetteAmount | 0 |
ProcessVersion | 5.7 |
ProfileDescription | sRGB IEC61966-2.1 |
RedHue | +25 |
RedSaturation | -57 |
Rights | Copyright © 2011 Kristian Kittelsaa |
Saturation (1) | -7 |
Saturation | Normal |
SaturationAdjustmentAqua | +38 |
SaturationAdjustmentBlue | +39 |
SaturationAdjustmentGreen | -45 |
SaturationAdjustmentMagenta | 0 |
SaturationAdjustmentOrange | -43 |
SaturationAdjustmentPurple | -28 |
SaturationAdjustmentRed | -12 |
SaturationAdjustmentYellow | -49 |
ScaleFactor35efl | 1.5 |
SceneCaptureType | Standard |
SceneType | Directly photographed |
SensingMethod | One-chip color area |
SerialNumber | 6058601 |
Shadows | 1 |
ShadowTint | -63 |
SharpenDetail | 25 |
SharpenEdgeMasking | 0 |
SharpenRadius | +1.0 |
Sharpness (1) | 17 |
Sharpness | Normal |
ShutterSpeed | 1/200 |
ShutterSpeedValue | 1/200 |
Software | Adobe Photoshop Lightroom 3.5 (Windows) |
SplitToningBalance | +38 |
SplitToningHighlightHue | 63 |
SplitToningHighlightSaturation | 34 |
SplitToningShadowHue | 263 |
SplitToningShadowSaturation | 21 |
SubjectDistance | 3.35 m |
SubjectDistanceRange | Unknown |
Tint | -3 |
ToneCurve | 0, 0, 255, 255 |
ToneCurveName | Linear |
UsageTerms | No reproduction of any kind without prior written agreement |
Version | 6.5 |
Vibrance | -5 |
VignetteAmount | +84 |
VignetteMidpoint | 17 |
WhiteBalance (1) | Custom |
WhiteBalance | Manual |