Felt | Verdi |
AlreadyApplied | True |
Aperture | 9.0 |
ApertureValue | 9.0 |
ApproximateFocusDistance | 4294967295 |
Artist | Jan Erik Hjelseth |
AutoLateralCA | 0 |
BitsPerSample | 8 |
Blacks2012 | 0 |
BlueHue | 0 |
BlueSaturation | 0 |
Brightness | +105 |
By-line | Jan Erik Hjelseth |
CameraProfile | Adobe Standard |
CircleOfConfusion | 0.019 mm |
Clarity | +8 |
Clarity2012 | 0 |
ColorComponents | 3 |
ColorNoiseReduction | 70 |
ColorNoiseReductionDetail | 69 |
ColorTemperature | 5333 |
Contrast | +10 |
Contrast2012 | 0 |
ConvertToGrayscale | True |
Copyright | Jan Erik Hjelseth |
CopyrightFlag | True |
CopyrightNotice | Jan Erik Hjelseth |
CreateDate (1) | 2011:09:30 12:14:31.23 |
CreateDate | 2011:09:30 12:14:31 |
Creator | Jan Erik Hjelseth |
CreatorAddress | Nedre Kipperberget 2 |
CreatorCity | Langevåg |
CreatorCountry | Norway |
CreatorPostalCode | 6030 |
CreatorTool | Adobe Photoshop Lightroom 4.0 (Windows) |
CreatorWorkEmail | wildfirehv@googlemail.com |
CreatorWorkTelephone | +4746945003 |
CropAngle | 0 |
CropBottom | 0.715356 |
CropConstrainToWarp | 0 |
CropHeight | 2203 |
CropLeft | 0.274656 |
CropRight | 0.970037 |
CropTop | 0.019975 |
CropUnit | pixels |
CropWidth | 3304 |
CustomRendered | Normal |
DateCreated (1) | 2011:09:30 |
DateCreated | 2011:09:30 12:14:31.23 |
DateTimeOriginal | 2011:09:30 12:14:31 |
Defringe | 0 |
DOF | inf (939.49 m - inf) |
Exposure | 0.00 |
Exposure2012 | 0.00 |
ExposureCompensation | 0 |
ExposureMode | Auto |
ExposureProgram | Aperture-priority AE |
ExposureTime | 1/250 |
FillLight | 0 |
Firmware | 1.0.9 |
Flash | Off, Did not fire |
FlashCompensation | 0 |
FNumber | 9.0 |
FocalLength | 400.0 mm |
FocalLength35efl | 400.0 mm (35 mm equivalent: 635.1 mm) |
Format | image/jpeg |
FOV | 3.2 deg |
GradientBasedCorrActive | true |
GradientBasedCorrAmount | 1.000000 |
GradientBasedCorrBrightness | 0.000000 |
GradientBasedCorrClarity (3) | 1.000000 |
GradientBasedCorrClarity (4) | -1.000000 |
GradientBasedCorrClarity | 0.000000 |
GradientBasedCorrContrast | 0.000000 |
GradientBasedCorrExposure (1) | -0.024500 |
GradientBasedCorrExposure (3) | -0.073250 |
GradientBasedCorrExposure (4) | 0.000000 |
GradientBasedCorrExposure | -0.097500 |
GradientBasedCorrHue | 240.000000 |
GradientBasedCorrMaskFullX (1) | 0.969169 |
GradientBasedCorrMaskFullX (2) | 0.742584 |
GradientBasedCorrMaskFullX (3) | 0.274656 |
GradientBasedCorrMaskFullX (4) | 0.968301 |
GradientBasedCorrMaskFullX | 0.273788 |
GradientBasedCorrMaskFullY (1) | 0.365061 |
GradientBasedCorrMaskFullY (2) | 0.353341 |
GradientBasedCorrMaskFullY (3) | 0.323390 |
GradientBasedCorrMaskFullY (4) | 0.354643 |
GradientBasedCorrMaskFullY | 0.319484 |
GradientBasedCorrMaskValue | 1.000000 |
GradientBasedCorrMaskWhat | Mask/Gradient |
GradientBasedCorrMaskZeroX (1) | 0.277260 |
GradientBasedCorrMaskZeroX (2) | 0.274656 |
GradientBasedCorrMaskZeroX (3) | 0.541175 |
GradientBasedCorrMaskZeroX (4) | 0.273788 |
GradientBasedCorrMaskZeroX | 0.608022 |
GradientBasedCorrMaskZeroY (1) | 0.367665 |
GradientBasedCorrMaskZeroY (2) | 0.355946 |
GradientBasedCorrMaskZeroY (3) | 0.322088 |
GradientBasedCorrMaskZeroY (4) | 0.354643 |
GradientBasedCorrMaskZeroY | 0.316879 |
GradientBasedCorrSaturation (5) | -0.951220 |
GradientBasedCorrSaturation | 0.000000 |
GradientBasedCorrSharpness (3) | -1.000000 |
GradientBasedCorrSharpness (4) | 0.250000 |
GradientBasedCorrSharpness | 0.000000 |
GradientBasedCorrWhat | Correction |
GrainAmount | 26 |
GrainFrequency | 76 |
GrainSize | 14 |
GrayMixerAqua | +83 |
GrayMixerBlue | +46 |
GrayMixerGreen | +37 |
GrayMixerMagenta | +63 |
GrayMixerOrange | 0 |
GrayMixerPurple | 0 |
GrayMixerRed | +17 |
GrayMixerYellow | +54 |
GreenHue | 0 |
GreenSaturation | 0 |
HasCrop | True |
HasSettings | True |
HighlightRecovery | 0 |
Highlights2012 | 0 |
HyperfocalDistance | 939.49 m |
ImageHeight | 2203 |
ImageNumber | 0 |
ImageSize | 3304x2203 |
ImageWidth | 3304 |
ISO | 400 |
Lens | EF100-400mm f/4.5-5.6L IS USM |
LensID (1) | 183 |
LensID | Canon EF 100-400mm f/4.5-5.6L IS USM |
LensInfo | 100-400mm f/? |
LensManualDistortionAmount | 0 |
LensModel | EF100-400mm f/4.5-5.6L IS USM |
LensProfileEnable | 0 |
LensProfileSetup | LensDefaults |
LightValue | 12.3 |
LuminanceNoiseReductionContrast | 0 |
LuminanceNoiseReductionDetail | 98 |
LuminanceSmoothing | 100 |
Make | Canon |
Marked | True |
MaxApertureValue | 5.7 |
Megapixels | 7.3 |
MeteringMode | Multi-segment |
Model | Canon EOS 500D |
ModifyDate (1) | 2012:05:04 18:15:38+02:00 |
ModifyDate | 2012:05:04 18:15:38 |
ParametricDarks | -9 |
ParametricHighlights | +30 |
ParametricHighlightSplit | 75 |
ParametricLights | -15 |
ParametricMidtoneSplit | 39 |
ParametricShadows | +26 |
ParametricShadowSplit | 10 |
PerspectiveHorizontal | 0 |
PerspectiveRotate | 0.0 |
PerspectiveScale | 100 |
PerspectiveVertical | 0 |
PostCropVignetteAmount | +3 |
PostCropVignetteFeather | 90 |
PostCropVignetteMidpoint | 0 |
PostCropVignetteRoundness | 0 |
PostCropVignetteStyle | 1 |
ProcessVersion | 5.7 |
ProfileDescription | ProPhoto RGB |
RedHue | 0 |
RedSaturation | 0 |
Rights | Jan Erik Hjelseth |
ScaleFactor35efl | 1.6 |
SceneCaptureType | Standard |
SerialNumber | 430171358 |
Shadows | 57 |
Shadows2012 | 0 |
ShadowTint | 0 |
SharpenDetail | 25 |
SharpenEdgeMasking | 0 |
SharpenRadius | +1.0 |
Sharpness | 103 |
ShutterSpeed | 1/250 |
ShutterSpeedValue | 1/250 |
Software | Adobe Photoshop Lightroom 4.0 (Windows) |
SplitToningBalance | +77 |
SplitToningHighlightHue | 70 |
SplitToningHighlightSaturation | 15 |
SplitToningShadowHue | 234 |
SplitToningShadowSaturation | 70 |
SubjectDistance | 4294967295 m |
Tint | -109 |
ToneCurve | 0, 0, 32, 22, 64, 56, 128, 128, 192, 196, 255, 255 |
ToneCurveBlue | 0, 0, 255, 255 |
ToneCurveGreen | 0, 0, 255, 255 |
ToneCurveName | Medium Contrast |
ToneCurveName2012 | Linear |
ToneCurvePV2012 | 0, 0, 255, 255 |
ToneCurvePV2012Blue | 0, 0, 255, 255 |
ToneCurvePV2012Green | 0, 0, 255, 255 |
ToneCurvePV2012Red | 0, 0, 255, 255 |
ToneCurveRed | 0, 0, 255, 255 |
UsageTerms | Contact for licence |
Version | 7.0 |
VignetteAmount | -100 |
VignetteMidpoint | 0 |
WhiteBalance (1) | Custom |
WhiteBalance | Auto |
Whites2012 | 0 |