Felt | Verdi |
AlreadyApplied | True |
Aperture | 5.0 |
ApertureValue | 5.0 |
ApproximateFocusDistance | 4294967295 |
Artist | tommy.johansen@ebnett.no |
BitsPerSample | 8 |
BlueHue | 0 |
BlueSaturation | 0 |
Brightness | +25 |
By-line | tommy.johansen@ebnett.no |
CameraProfile | Camera Landscape |
ChromaticAberrationB | 0 |
ChromaticAberrationR | 0 |
CircleOfConfusion | 0.019 mm |
Clarity | +32 |
ColorComponents | 3 |
ColorNoiseReduction | 25 |
ColorNoiseReductionDetail | 50 |
ColorTemperature | 5550 |
Contrast | +17 |
ConvertToGrayscale | False |
Copyright | Copyright:Tommy Johansen tlf 40646725 |
CopyrightNotice | Copyright:Tommy Johansen tlf 40646725 |
CreateDate (1) | 2012:05:27 20:51:08.00 |
CreateDate | 2012:05:27 20:51:08 |
Creator | tommy.johansen@ebnett.no |
CreatorTool | Adobe Photoshop Lightroom 3.6 (Macintosh) |
CropAngle | 0.517241 |
CropBottom | 1 |
CropConstrainToWarp | 0 |
CropHeight | 922 |
CropLeft | 0.005052 |
CropRight | 0.994948 |
CropTop | 0.147041 |
CropUnit | pixels |
CropWidth | 1640 |
CustomRendered | Normal |
DateCreated (1) | 2012:05:27 |
DateCreated | 2012:05:27 20:51:08.00 |
DateTimeOriginal | 2012:05:27 20:51:08 |
Defringe | 0 |
DOF | inf (27.43 m - inf) |
Exposure | +0.20 |
ExposureCompensation | -1/3 |
ExposureMode | Auto |
ExposureProgram | Aperture-priority AE |
ExposureTime | 1/800 |
FillLight | 27 |
Firmware | 1.0.7 |
Flash | Off, Did not fire |
FlashCompensation | 0 |
FNumber | 5.0 |
FocalLength | 51.0 mm |
FocalLength35efl | 51.0 mm (35 mm equivalent: 80.8 mm) |
Format | image/jpeg |
FOV | 25.1 deg |
GrainAmount | 0 |
GreenHue | 0 |
GreenSaturation | 0 |
HasCrop | True |
HasSettings | True |
HighlightRecovery | 0 |
HueAdjustmentAqua | 0 |
HueAdjustmentBlue | 0 |
HueAdjustmentGreen | 0 |
HueAdjustmentMagenta | 0 |
HueAdjustmentOrange | 0 |
HueAdjustmentPurple | 0 |
HueAdjustmentRed | 0 |
HueAdjustmentYellow | 0 |
HyperfocalDistance | 27.43 m |
ImageHeight | 922 |
ImageNumber | 0 |
ImageSize | 1640x922 |
ImageWidth | 1640 |
ISO | 100 |
Lens | 18-200mm |
LensID (1) | 169 |
LensID | Sigma 18-200mm f/3.5-6.3 DC OS |
LensInfo | 18-200mm f/? |
LensManualDistortionAmount | 0 |
LensModel | 18-200mm |
LensProfileChromaticAberrationScale | 100 |
LensProfileDistortionScale | 100 |
LensProfileEnable | 1 |
LensProfileFilename | Canon (Sigma_18-200mm_F3.5-6.3_DC ) - RAW.lcp |
LensProfileName | Adobe (SIGMA 18-200mm F3.5-6.3 DC, Canon) |
LensProfileSetup | LensDefaults |
LensProfileVignettingScale | 100 |
LightValue | 14.3 |
LuminanceAdjustmentAqua | 0 |
LuminanceAdjustmentBlue | 0 |
LuminanceAdjustmentGreen | 0 |
LuminanceAdjustmentMagenta | 0 |
LuminanceAdjustmentOrange | 0 |
LuminanceAdjustmentPurple | 0 |
LuminanceAdjustmentRed | 0 |
LuminanceAdjustmentYellow | 0 |
LuminanceNoiseReductionContrast | 0 |
LuminanceNoiseReductionDetail | 50 |
LuminanceSmoothing | 8 |
Make | Canon |
MaxApertureValue | 5.0 |
Megapixels | 1.5 |
MeteringMode | Multi-segment |
Model | Canon EOS 50D |
ModifyDate (1) | 2012:05:28 22:38:02+02:00 |
ModifyDate | 2012:05:28 22:38:02 |
OwnerName | Tommy Johansen |
ParametricDarks | 0 |
ParametricHighlights | 0 |
ParametricHighlightSplit | 75 |
ParametricLights | 0 |
ParametricMidtoneSplit | 50 |
ParametricShadows | 0 |
ParametricShadowSplit | 25 |
PerspectiveHorizontal | 0 |
PerspectiveRotate | 0.0 |
PerspectiveScale | 100 |
PerspectiveVertical | 0 |
PostCropVignetteAmount | 0 |
ProcessVersion | 5.7 |
ProfileDescription | Adobe RGB (1998) |
RedHue | 0 |
RedSaturation | 0 |
Rights | Copyright:Tommy Johansen tlf 40646725 |
Saturation | +16 |
SaturationAdjustmentAqua | 0 |
SaturationAdjustmentBlue | 0 |
SaturationAdjustmentGreen | 0 |
SaturationAdjustmentMagenta | 0 |
SaturationAdjustmentOrange | 0 |
SaturationAdjustmentPurple | 0 |
SaturationAdjustmentRed | 0 |
SaturationAdjustmentYellow | 0 |
ScaleFactor35efl | 1.6 |
SceneCaptureType | Standard |
SerialNumber | 420327361 |
Shadows | 1 |
ShadowTint | 0 |
SharpenDetail | 14 |
SharpenEdgeMasking | 0 |
SharpenRadius | +0.9 |
Sharpness | 94 |
ShutterSpeed | 1/800 |
ShutterSpeedValue | 1/800 |
Software | Adobe Photoshop Lightroom 3.6 (Macintosh) |
SplitToningBalance | 0 |
SplitToningHighlightHue | 0 |
SplitToningHighlightSaturation | 0 |
SplitToningShadowHue | 0 |
SplitToningShadowSaturation | 0 |
SubjectDistance | 4294967295 m |
Tint | +30 |
ToneCurve | 0, 0, 32, 22, 64, 56, 128, 128, 192, 196, 255, 255 |
ToneCurveName | Medium Contrast |
Version | 6.6 |
Vibrance | +27 |
VignetteAmount | 0 |
WhiteBalance (1) | As Shot |
WhiteBalance | Auto |