Felt | Verdi |
AlreadyApplied | True |
Aperture | 5.6 |
ApertureValue | 5.6 |
ApproximateFocusDistance | 0.33 |
Artist | Jan Erik Vaaga |
BitsPerSample | 8 |
BlueHue | 0 |
BlueSaturation | 0 |
Brightness | 0 |
By-line | Jan Erik Vaaga |
CameraProfile | Adobe Standard |
ChromaticAberrationB | 0 |
ChromaticAberrationR | 0 |
CircleOfConfusion | 0.019 mm |
Clarity | +31 |
ColorComponents | 3 |
ColorNoiseReduction | 25 |
ColorNoiseReductionDetail | 50 |
ColorTemperature | 3150 |
Contrast | +50 |
ConvertToGrayscale | False |
CreateDate (1) | 2012:09:15 14:55:39.00 |
CreateDate | 2012:09:15 14:55:39 |
Creator | Jan Erik Vaaga |
CreatorTool | Adobe Photoshop Lightroom 3.5 (Windows) |
CustomRendered | Normal |
DateCreated (1) | 2012:09:15 |
DateCreated | 2012:09:15 14:55:39.00 |
DateTimeOriginal | 2012:09:15 14:55:39 |
Defringe | 0 |
DOF | 0.002 m (0.329 - 0.331 m) |
Exposure | +0.35 |
ExposureCompensation | 0 |
ExposureMode | Auto |
ExposureProgram | Aperture-priority AE |
ExposureTime | 1/13 |
FillLight | 0 |
Firmware | 2.0.0 |
Flash | Off, Did not fire |
FlashCompensation | 0 |
FNumber | 5.6 |
FocalLength | 100.0 mm |
FocalLength35efl | 100.0 mm (35 mm equivalent: 157.0 mm) |
FOV | 13.1 deg |
GrainAmount | 0 |
GreenHue | 0 |
GreenSaturation | 0 |
HasCrop | False |
HasSettings | True |
HighlightRecovery | 0 |
HueAdjustmentAqua | 0 |
HueAdjustmentBlue | 0 |
HueAdjustmentGreen | 0 |
HueAdjustmentMagenta | 0 |
HueAdjustmentOrange | 0 |
HueAdjustmentPurple | 0 |
HueAdjustmentRed | 0 |
HueAdjustmentYellow | 0 |
HyperfocalDistance | 93.33 m |
ImageHeight | 3456 |
ImageNumber | 0 |
ImageSize | 5184x3456 |
ImageWidth | 5184 |
ISO | 200 |
Lens | EF100mm f/2.8 Macro USM |
LensID (1) | 190 |
LensID | Canon EF 100mm f/2.8 Macro USM |
LensInfo | 100mm f/? |
LensManualDistortionAmount | 0 |
LensModel | EF100mm f/2.8 Macro USM |
LensProfileEnable | 0 |
LensProfileSetup | LensDefaults |
LightValue | 7.7 |
LuminanceAdjustmentAqua | 0 |
LuminanceAdjustmentBlue | 0 |
LuminanceAdjustmentGreen | 0 |
LuminanceAdjustmentMagenta | 0 |
LuminanceAdjustmentOrange | 0 |
LuminanceAdjustmentPurple | 0 |
LuminanceAdjustmentRed | 0 |
LuminanceAdjustmentYellow | 0 |
LuminanceNoiseReductionContrast | 0 |
LuminanceNoiseReductionDetail | 50 |
LuminanceSmoothing | 18 |
Make | Canon |
MaxApertureValue | 2.8 |
Megapixels | 17.9 |
MeteringMode | Spot |
Model | Canon EOS 7D |
ModifyDate (1) | 2012:09:15 18:53:08+02:00 |
ModifyDate | 2012:09:15 18:53:08 |
ParametricDarks | +12 |
ParametricHighlights | -56 |
ParametricHighlightSplit | 75 |
ParametricLights | -9 |
ParametricMidtoneSplit | 50 |
ParametricShadows | +41 |
ParametricShadowSplit | 25 |
PerspectiveHorizontal | 0 |
PerspectiveRotate | 0.0 |
PerspectiveScale | 100 |
PerspectiveVertical | 0 |
PostCropVignetteAmount | 0 |
ProcessVersion | 5.7 |
ProfileDescription | sRGB IEC61966-2.1 |
RecommendedExposureIndex | 200 |
RedHue | 0 |
RedSaturation | 0 |
Saturation | 0 |
SaturationAdjustmentAqua | 0 |
SaturationAdjustmentBlue | 0 |
SaturationAdjustmentGreen | 0 |
SaturationAdjustmentMagenta | 0 |
SaturationAdjustmentOrange | 0 |
SaturationAdjustmentPurple | 0 |
SaturationAdjustmentRed | 0 |
SaturationAdjustmentYellow | 0 |
ScaleFactor35efl | 1.6 |
SceneCaptureType | Standard |
SensitivityType | Recommended Exposure Index |
SerialNumber | 0280101874 |
Shadows | 7 |
ShadowTint | 0 |
SharpenDetail | 53 |
SharpenEdgeMasking | 39 |
SharpenRadius | +1.0 |
Sharpness | 79 |
ShutterSpeed | 1/13 |
ShutterSpeedValue | 1/13 |
Software | Adobe Photoshop Lightroom 3.5 (Windows) |
SplitToningBalance | 0 |
SplitToningHighlightHue | 0 |
SplitToningHighlightSaturation | 0 |
SplitToningShadowHue | 0 |
SplitToningShadowSaturation | 0 |
SubjectDistance | 0.33 m |
Tint | +8 |
ToneCurve | 0, 0, 32, 22, 64, 56, 128, 128, 192, 196, 255, 255 |
ToneCurveName | Medium Contrast |
Version | 6.5 |
Vibrance | 0 |
VignetteAmount | 0 |
WhiteBalance | Auto |