Felt | Verdi |
AlreadyApplied | True |
Aperture | 8.0 |
ApertureValue | 8.0 |
ApproximateFocusDistance | 5.57 |
AutoLateralCA | 0 |
BitsPerSample | 8 |
Blacks2012 | +7 |
BlueHue | 0 |
BlueSaturation | 0 |
Brightness | +50 |
CameraProfile | Adobe Standard |
Caption-Abstract | OLYMPUS DIGITAL CAMERA |
CFAPattern | [Blue,Green][Green,Red] |
CircleOfConfusion | 0.015 mm |
Clarity | 0 |
Clarity2012 | +29 |
ColorComponents | 3 |
ColorMode | RGB |
ColorNoiseReduction | 95 |
ColorNoiseReductionDetail | 56 |
ColorSpace | Uncalibrated |
ColorTemperature | 6150 |
Contrast (1) | +25 |
Contrast | High |
Contrast2012 | 0 |
ConvertToGrayscale | False |
CreateDate | 2014:04:03 16:23:37 |
CreatorTool | Version 1.3 |
CustomRendered | Normal |
DateCreated (1) | 2014:04:03 |
DateCreated | 2014:04:03 16:23:37 |
DateTimeOriginal | 2014:04:03 16:23:37 |
Defringe | 0 |
Description | OLYMPUS DIGITAL CAMERA |
DigitalZoomRatio | 1 |
DOF | 0.08 m (5.53 - 5.61 m) |
ExifImageHeight | 2664 |
ExifImageWidth | 3504 |
Exposure | 0.00 |
Exposure2012 | -0.40 |
ExposureCompensation | -0.3 |
ExposureMode | Manual |
ExposureProgram | Aperture-priority AE |
ExposureTime | 1/400 |
FillLight | 0 |
Flash | On, Did not fire |
FlashCompensation | 0 |
FNumber | 8.0 |
FocalLength | 300.0 mm |
FocalLength35efl | 300.0 mm (35 mm equivalent: 601.0 mm) |
FocalLengthIn35mmFormat | 601 mm |
Format | image/jpeg |
FOV | 3.4 deg |
GainControl | High gain up |
GrainAmount | 0 |
GreenHue | 0 |
GreenSaturation | 0 |
HasCrop | False |
HasSettings | True |
HighlightRecovery | 0 |
Highlights2012 | -100 |
HueAdjustmentAqua | 0 |
HueAdjustmentBlue | 0 |
HueAdjustmentGreen | 0 |
HueAdjustmentMagenta | 0 |
HueAdjustmentOrange | 0 |
HueAdjustmentPurple | 0 |
HueAdjustmentRed | 0 |
HueAdjustmentYellow | 0 |
HyperfocalDistance | 750.09 m |
ICCProfileName | Adobe RGB (1998) |
ImageDescription | OLYMPUS DIGITAL CAMERA |
ImageHeight | 2664 |
ImageSize | 3504x2664 |
ImageWidth | 3504 |
ISO | 400 |
Lens | OLYMPUS 70mm-300mm Lens |
LensInfo | 70-300mm f/4-5.6 |
LensManualDistortionAmount | 0 |
LensModel | OLYMPUS 70mm-300mm Lens |
LensProfileEnable | 0 |
LensProfileSetup | LensDefaults |
LensSerialNumber | 256064535 |
LightSource | Unknown |
LightValue | 12.6 |
LuminanceAdjustmentAqua | 0 |
LuminanceAdjustmentBlue | 0 |
LuminanceAdjustmentGreen | 0 |
LuminanceAdjustmentMagenta | 0 |
LuminanceAdjustmentOrange | 0 |
LuminanceAdjustmentPurple | 0 |
LuminanceAdjustmentRed | 0 |
LuminanceAdjustmentYellow | 0 |
LuminanceNoiseReductionContrast | 50 |
LuminanceNoiseReductionDetail | 50 |
LuminanceSmoothing | 41 |
Make | OLYMPUS IMAGING CORP. |
MaxApertureValue | 4.0 |
Megapixels | 9.3 |
MeteringMode | Multi-segment |
Model | E-5 |
ModifyDate (1) | 2014:04:03 19:13:24+02:00 |
ModifyDate | 2014:04:03 19:13:24 |
Orientation | Horizontal (normal) |
ParametricDarks | 0 |
ParametricHighlights | 0 |
ParametricHighlightSplit | 75 |
ParametricLights | 0 |
ParametricMidtoneSplit | 50 |
ParametricShadows | 0 |
ParametricShadowSplit | 25 |
PerspectiveHorizontal | 0 |
PerspectiveRotate | 0.0 |
PerspectiveScale | 100 |
PerspectiveVertical | 0 |
PostCropVignetteAmount | 0 |
ProcessVersion | 6.7 |
ProfileDescription | Adobe RGB (1998) |
Rating | 0 |
RawFileName | småfugler 011.ORF |
RedHue | 0 |
RedSaturation | 0 |
Saturation (1) | +7 |
Saturation | High |
SaturationAdjustmentAqua | 0 |
SaturationAdjustmentBlue | 0 |
SaturationAdjustmentGreen | 0 |
SaturationAdjustmentMagenta | 0 |
SaturationAdjustmentOrange | 0 |
SaturationAdjustmentPurple | 0 |
SaturationAdjustmentRed | 0 |
SaturationAdjustmentYellow | 0 |
ScaleFactor35efl | 2.0 |
SceneCaptureType | Standard |
SerialNumber | AB1501796 |
Shadows | 5 |
Shadows2012 | +75 |
ShadowTint | 0 |
SharpenDetail | 25 |
SharpenEdgeMasking | 0 |
SharpenRadius | +1.0 |
Sharpness (1) | 25 |
Sharpness | Hard |
ShutterSpeed | 1/400 |
ShutterSpeedValue | 1/400 |
Software | Adobe Photoshop CS6 (Windows) |
SplitToningBalance | 0 |
SplitToningHighlightHue | 0 |
SplitToningHighlightSaturation | 0 |
SplitToningShadowHue | 0 |
SplitToningShadowSaturation | 0 |
Tint | +9 |
ToneCurve | 0, 0, 32, 22, 64, 56, 128, 128, 192, 196, 255, 255 |
ToneCurveBlue | 0, 0, 255, 255 |
ToneCurveGreen | 0, 0, 255, 255 |
ToneCurveName | Medium Contrast |
ToneCurveName2012 | Linear |
ToneCurvePV2012 | 0, 0, 255, 255 |
ToneCurvePV2012Blue | 0, 0, 255, 255 |
ToneCurvePV2012Green | 0, 0, 255, 255 |
ToneCurvePV2012Red | 0, 0, 255, 255 |
ToneCurveRed | 0, 0, 255, 255 |
URL_List | |
Version | 7.0 |
Vibrance | +9 |
VignetteAmount | 0 |
WhiteBalance (1) | Custom |
WhiteBalance | Auto |
Whites2012 | -68 |